Workbook

Sheet 270711
B1: Time | C1: PM0.5 | D1: PM1.0 | E1: PM1.5 | F1: PM15 | G1: PM0.5 | H1: PM1.0 | I1: PM1.5 | J1: PM15 | K1: dPM0.5 | L1: dPM1.0 | M1: dPM1.5 | N1: dPM15 | O1: dPM0.5-10m | P1: dPM1.0-10m | Q1: dPM1.5-10m | R1: dPM15-10m | S1: dv10 | T1: dt10 | U1: Ustar | V1: Tsurf | W1: Tstar | X1: L | Y1: Heat | Z1: FPM0.5 | AA1: FPM1.0 | AB1: FPM1.5 | AC1: FPM15
B2: 0.39622685 | C2: 1.0351841 | D2: 3.359067 | E2: 8.9155545 | F2: 1175.9225 | G2: 0.78903965 | H2: 1.5415465 | I2: 2.2915608 | J2: 136.98082 | K2: =C2-G2 -> 0.24614448 | L2: =D2-H2 -> 1.8175205 | M2: =E2-I2 -> 6.6239937 | N2: =F2-J2 -> 1038.9417
B3: 0.3969213 | C3: 1.0708978 | D3: 4.4937819 | E3: 12.675013 | F3: 434.46279 | G3: 0.82607202 | H3: 2.0315974 | I3: 3.770109 | J3: 161.81727 | K3: =C3-G3 -> 0.24482575 | L3: =D3-H3 -> 2.4621845 | M3: =E3-I3 -> 8.9049038 | N3: =F3-J3 -> 272.64552
B4: 0.39761574 | C4: 0.98649191 | D4: 3.4334147 | E4: 8.8876368 | F4: 114.88334 | G4: 0.79493594 | H4: 1.7860253 | I4: 2.7745225 | J4: 140.56517 | K4: =C4-G4 -> 0.19155597 | L4: =D4-H4 -> 1.6473894 | M4: =E4-I4 -> 6.1131143 | N4: =F4-J4 -> -25.681832
B5: 0.39831019 | C5: 0.91839347 | D5: 3.510034 | E5: 8.0097109 | F5: 79.237699 | G5: 0.76996854 | H5: 1.6656667 | I5: 2.8928513 | J5: 118.42122 | K5: =C5-G5 -> 0.14842493 | L5: =D5-H5 -> 1.8443673 | M5: =E5-I5 -> 5.1168596 | N5: =F5-J5 -> -39.183524
B6: 0.39900463 | C6: 1.0766839 | D6: 4.6551133 | E6: 11.131989 | F6: 54.88603 | G6: 0.83392767 | H6: 2.1290216 | I6: 3.6288458 | J6: 179.39325 | K6: =C6-G6 -> 0.24275625 | L6: =D6-H6 -> 2.5260917 | M6: =E6-I6 -> 7.5031435 | N6: =F6-J6 -> -124.50722
B7: 0.39969907 | C7: 2.137174 | D7: 10.401386 | E7: 25.57082 | F7: 3313.7441 | G7: 1.0237744 | H7: 3.2476788 | I7: 6.0088442 | J7: 345.51292 | K7: =C7-G7 -> 1.1133996 | L7: =D7-H7 -> 7.1537076 | M7: =E7-I7 -> 19.561976 | N7: =F7-J7 -> 2968.2311
B8: 0.40039352 | C8: 0.96390225 | D8: 3.5111499 | E8: 8.8970587 | F8: 621.30925 | G8: 2.2337668 | H8: 6.5888384 | I8: 12.111169 | J8: 3150.6891 | K8: =C8-G8 -> -1.2698646 | L8: =D8-H8 -> -3.0776885 | M8: =E8-I8 -> -3.2141105 | N8: =F8-J8 -> -2529.3799
B9: 0.40108796 | C9: 1.1331055 | D9: 5.7853185 | E9: 15.125625 | F9: 747.7215 | G9: 0.7738361 | H9: 1.7935897 | I9: 3.7707887 | J9: 175.24625 | K9: =C9-G9 -> 0.35926937 | L9: =D9-H9 -> 3.9917288 | M9: =E9-I9 -> 11.354837 | N9: =F9-J9 -> 572.47526
B10: 0.40178241 | C10: 0.99537526 | D10: 4.1347731 | E10: 9.6229473 | F10: 351.24932 | G10: 0.76114737 | H10: 1.7388302 | I10: 2.761484 | J10: 122.87089 | K10: =C10-G10 -> 0.23422788 | L10: =D10-H10 -> 2.395943 | M10: =E10-I10 -> 6.8614633 | N10: =F10-J10 -> 228.37843
B11: 0.40247685 | C11: 0.87314927 | D11: 2.586103 | E11: 6.3018136 | F11: 19.073271 | G11: 0.59369066 | H11: 1.1739213 | I11: 1.889779 | J11: 78.023184 | K11: =C11-G11 -> 0.27945861 | L11: =D11-H11 -> 1.4121818 | M11: =E11-I11 -> 4.4120346 | N11: =F11-J11 -> -58.949913 | O11: =(K2+K3+K4+K5+K6+K7+K8+K9+K10+K11)/10 -> 0.17901983 | P11: =(L2+L3+L4+L5+L6+L7+L8+L9+L10+L11)/10 -> 2.2173426 | Q11: =(M2+M3+M4+M5+M6+M7+M8+M9+M10+M11)/10 -> 7.3238215 | R11: =(N2+N3+N4+N5+N6+N7+N8+N9+N10+N11)/10 -> 230.29696
B12: 0.4031713 | C12: 0.91097774 | D12: 2.1650306 | E12: 4.2784471 | F12: 15.256252 | G12: 0.59314066 | H12: 1.1502026 | I12: 1.5251075 | J12: 80.738386 | K12: =C12-G12 -> 0.31783707 | L12: =D12-H12 -> 1.014828 | M12: =E12-I12 -> 2.7533396 | N12: =F12-J12 -> -65.482135 | O12: =(K3+K4+K5+K6+K7+K8+K9+K10+K11+K12)/10 -> 0.18618909 | P12: =(L3+L4+L5+L6+L7+L8+L9+L10+L11+L12)/10 -> 2.1370734 | Q12: =(M3+M4+M5+M6+M7+M8+M9+M10+M11+M12)/10 -> 6.9367561 | R12: =(N3+N4+N5+N6+N7+N8+N9+N10+N11+N12)/10 -> 119.85458
B13: 0.40386574 | C13: 0.88294508 | D13: 2.4551424 | E13: 5.2844166 | F13: 43.248109 | G13: 0.5953932 | H13: 1.3197207 | I13: 1.9674697 | J13: 100.05927 | K13: =C13-G13 -> 0.28755188 | L13: =D13-H13 -> 1.1354217 | M13: =E13-I13 -> 3.3169469 | N13: =F13-J13 -> -56.811157 | O13: =(K4+K5+K6+K7+K8+K9+K10+K11+K12+K13)/10 -> 0.1904617 | P13: =(L4+L5+L6+L7+L8+L9+L10+L11+L12+L13)/10 -> 2.0043971 | Q13: =(M4+M5+M6+M7+M8+M9+M10+M11+M12+M13)/10 -> 6.3779604 | R13: =(N4+N5+N6+N7+N8+N9+N10+N11+N12+N13)/10 -> 86.908917
B14: 0.40456019 | C14: 0.90450052 | D14: 2.440514 | E14: 4.8607266 | F14: 31.519987 | G14: 0.5682773 | H14: 1.215805 | I14: 1.8293973 | J14: 84.52235 | K14: =C14-G14 -> 0.33622322 | L14: =D14-H14 -> 1.224709 | M14: =E14-I14 -> 3.0313293 | N14: =F14-J14 -> -53.002363 | O14: =(K5+K6+K7+K8+K9+K10+K11+K12+K13+K14)/10 -> 0.20492843 | P14: =(L5+L6+L7+L8+L9+L10+L11+L12+L13+L14)/10 -> 1.962129 | Q14: =(M5+M6+M7+M8+M9+M10+M11+M12+M13+M14)/10 -> 6.0697819 | R14: =(N5+N6+N7+N8+N9+N10+N11+N12+N13+N14)/10 -> 84.176863
B15: 0.40525463 | C15: 1.0294568 | D15: 4.3810242 | E15: 10.960165 | F15: 134.64323 | G15: 0.7399066 | H15: 2.1295589 | I15: 3.3567436 | J15: 183.2346 | K15: =C15-G15 -> 0.28955017 | L15: =D15-H15 -> 2.2514652 | M15: =E15-I15 -> 7.6034219 | N15: =F15-J15 -> -48.591375 | O15: =(K6+K7+K8+K9+K10+K11+K12+K13+K14+K15)/10 -> 0.21904095 | P15: =(L6+L7+L8+L9+L10+L11+L12+L13+L14+L15)/10 -> 2.0028388 | Q15: =(M6+M7+M8+M9+M10+M11+M12+M13+M14+M15)/10 -> 6.3184381 | R15: =(N6+N7+N8+N9+N10+N11+N12+N13+N14+N15)/10 -> 83.236078
B16: 0.40594907 | C16: 0.9616981 | D16: 3.6406796 | E16: 8.6175269 | F16: 42.576474 | G16: 0.67635968 | H16: 1.5141065 | I16: 2.7071345 | J16: 134.64516 | K16: =C16-G16 -> 0.28533843 | L16: =D16-H16 -> 2.1265731 | M16: =E16-I16 -> 5.9103924 | N16: =F16-J16 -> -92.068683 | O16: =(K7+K8+K9+K10+K11+K12+K13+K14+K15+K16)/10 -> 0.22329917 | P16: =(L7+L8+L9+L10+L11+L12+L13+L14+L15+L16)/10 -> 1.962887 | Q16: =(M7+M8+M9+M10+M11+M12+M13+M14+M15+M16)/10 -> 6.159163 | R16: =(N7+N8+N9+N10+N11+N12+N13+N14+N15+N16)/10 -> 86.479932
B17: 0.40664352 | C17: 1.0386719 | D17: 4.5492553 | E17: 11.844254 | F17: 106.92812 | G17: 0.69095322 | H17: 1.7187057 | I17: 2.8436249 | J17: 149.81832 | K17: =C17-G17 -> 0.34771867 | L17: =D17-H17 -> 2.8305496 | M17: =E17-I17 -> 9.0006293 | N17: =F17-J17 -> -42.890202 | O17: =(K8+K9+K10+K11+K12+K13+K14+K15+K16+K17)/10 -> 0.14673107 | P17: =(L8+L9+L10+L11+L12+L13+L14+L15+L16+L17)/10 -> 1.5305712 | Q17: =(M8+M9+M10+M11+M12+M13+M14+M15+M16+M17)/10 -> 5.1030283 | R17: =(N8+N9+N10+N11+N12+N13+N14+N15+N16+N17)/10 -> -214.6322
B18: 0.40733796 | C18: 0.8945792 | D18: 3.334599 | E18: 7.9365413 | F18: 53.364593 | G18: 0.73352756 | H18: 1.8841996 | I18: 3.3840237 | J18: 183.52079 | K18: =C18-G18 -> 0.16105164 | L18: =D18-H18 -> 1.4503994 | M18: =E18-I18 -> 4.5525176 | N18: =F18-J18 -> -130.15619 | O18: =(K9+K10+K11+K12+K13+K14+K15+K16+K17+K18)/10 -> 0.28982269 | P18: =(L9+L10+L11+L12+L13+L14+L15+L16+L17+L18)/10 -> 1.98338 | Q18: =(M9+M10+M11+M12+M13+M14+M15+M16+M17+M18)/10 -> 5.8796912 | R18: =(N9+N10+N11+N12+N13+N14+N15+N16+N17+N18)/10 -> 25.290167
C19: 0 | D19: 0 | E19: 0 | F19: 0 | G19: 0 | H19: 0 | I19: 0 | J19: 0 | K19: =C19-G19 -> 0 | L19: =D19-H19 -> 0 | M19: =E19-I19 -> 0 | N19: =F19-J19 -> 0 | O19: =(K10+K11+K12+K13+K14+K15+K16+K17+K18+K19)/10 -> 0.25389576 | P19: =(L10+L11+L12+L13+L14+L15+L16+L17+L18+L19)/10 -> 1.5842071 | Q19: =(M10+M11+M12+M13+M14+M15+M16+M17+M18+M19)/10 -> 4.7442075 | R19: =(N10+N11+N12+N13+N14+N15+N16+N17+N18+N19)/10 -> -31.957359
C20: 0 | D20: 0 | E20: 0 | F20: 0 | G20: 0 | H20: 0 | I20: 0 | J20: 0 | K20: =C20-G20 -> 0 | L20: =D20-H20 -> 0 | M20: =E20-I20 -> 0 | N20: =F20-J20 -> 0 | O20: =(K11+K12+K13+K14+K15+K16+K17+K18+K19+K20)/10 -> 0.23047297 | P20: =(L11+L12+L13+L14+L15+L16+L17+L18+L19+L20)/10 -> 1.3446128 | Q20: =(M11+M12+M13+M14+M15+M16+M17+M18+M19+M20)/10 -> 4.0580612 | R20: =(N11+N12+N13+N14+N15+N16+N17+N18+N19+N20)/10 -> -54.795202
C21: 0 | D21: 0 | E21: 0 | F21: 0 | G21: 0 | H21: 0 | I21: 0 | J21: 0 | K21: =C21-G21 -> 0 | L21: =D21-H21 -> 0 | M21: =E21-I21 -> 0 | N21: =F21-J21 -> 0 | O21: =(K12+K13+K14+K15+K16+K17+K18+K19+K20+K21)/10 -> 0.20252711 | P21: =(L12+L13+L14+L15+L16+L17+L18+L19+L20+L21)/10 -> 1.2033946 | Q21: =(M12+M13+M14+M15+M16+M17+M18+M19+M20+M21)/10 -> 3.6168577 | R21: =(N12+N13+N14+N15+N16+N17+N18+N19+N20+N21)/10 -> -48.900211
C22: 0 | D22: 0 | E22: 0 | F22: 0 | G22: 0 | H22: 0 | I22: 0 | J22: 0 | K22: =C22-G22 -> 0 | L22: =D22-H22 -> 0 | M22: =E22-I22 -> 0 | N22: =F22-J22 -> 0 | O22: =(K13+K14+K15+K16+K17+K18+K19+K20+K21+K22)/10 -> 0.1707434 | P22: =(L13+L14+L15+L16+L17+L18+L19+L20+L21+L22)/10 -> 1.1019118 | Q22: =(M13+M14+M15+M16+M17+M18+M19+M20+M21+M22)/10 -> 3.3415237 | R22: =(N13+N14+N15+N16+N17+N18+N19+N20+N21+N22)/10 -> -42.351997
C23: 0 | D23: 0 | E23: 0 | F23: 0 | G23: 0 | H23: 0 | I23: 0 | J23: 0 | K23: =C23-G23 -> 0 | L23: =D23-H23 -> 0 | M23: =E23-I23 -> 0 | N23: =F23-J23 -> 0 | O23: =(K14+K15+K16+K17+K18+K19+K20+K21+K22+K23)/10 -> 0.14198821 | P23: =(L14+L15+L16+L17+L18+L19+L20+L21+L22+L23)/10 -> 0.98836963 | Q23: =(M14+M15+M16+M17+M18+M19+M20+M21+M22+M23)/10 -> 3.0098291 | R23: =(N14+N15+N16+N17+N18+N19+N20+N21+N22+N23)/10 -> -36.670882
C24: 0 | D24: 0 | E24: 0 | F24: 0 | G24: 0 | H24: 0 | I24: 0 | J24: 0 | K24: =C24-G24 -> 0 | L24: =D24-H24 -> 0 | M24: =E24-I24 -> 0 | N24: =F24-J24 -> 0 | O24: =(K15+K16+K17+K18+K19+K20+K21+K22+K23+K24)/10 -> 0.10836589 | P24: =(L15+L16+L17+L18+L19+L20+L21+L22+L23+L24)/10 -> 0.86589873 | Q24: =(M15+M16+M17+M18+M19+M20+M21+M22+M23+M24)/10 -> 2.7066961 | R24: =(N15+N16+N17+N18+N19+N20+N21+N22+N23+N24)/10 -> -31.370645
C25: 0 | D25: 0 | E25: 0 | F25: 0 | G25: 0 | H25: 0 | I25: 0 | J25: 0 | K25: =C25-G25 -> 0 | L25: =D25-H25 -> 0 | M25: =E25-I25 -> 0 | N25: =F25-J25 -> 0 | O25: =(K16+K17+K18+K19+K20+K21+K22+K23+K24+K25)/10 -> 0.079410873 | P25: =(L16+L17+L18+L19+L20+L21+L22+L23+L24+L25)/10 -> 0.64075221 | Q25: =(M16+M17+M18+M19+M20+M21+M22+M23+M24+M25)/10 -> 1.9463539 | R25: =(N16+N17+N18+N19+N20+N21+N22+N23+N24+N25)/10 -> -26.511508
C26: 0 | D26: 0 | E26: 0 | F26: 0 | G26: 0 | H26: 0 | I26: 0 | J26: 0 | K26: =C26-G26 -> 0 | L26: =D26-H26 -> 0 | M26: =E26-I26 -> 0 | N26: =F26-J26 -> 0 | O26: =(K17+K18+K19+K20+K21+K22+K23+K24+K25+K26)/10 -> 0.050877031 | P26: =(L17+L18+L19+L20+L21+L22+L23+L24+L25+L26)/10 -> 0.42809489 | Q26: =(M17+M18+M19+M20+M21+M22+M23+M24+M25+M26)/10 -> 1.3553147 | R26: =(N17+N18+N19+N20+N21+N22+N23+N24+N25+N26)/10 -> -17.30464
C27: 0 | D27: 0 | E27: 0 | F27: 0 | G27: 0 | H27: 0 | I27: 0 | J27: 0 | K27: =C27-G27 -> 0 | L27: =D27-H27 -> 0 | M27: =E27-I27 -> 0 | N27: =F27-J27 -> 0 | O27: =(K18+K19+K20+K21+K22+K23+K24+K25+K26+K27)/10 -> 0.016105164 | P27: =(L18+L19+L20+L21+L22+L23+L24+L25+L26+L27)/10 -> 0.14503994 | Q27: =(M18+M19+M20+M21+M22+M23+M24+M25+M26+M27)/10 -> 0.45525176 | R27: =(N18+N19+N20+N21+N22+N23+N24+N25+N26+N27)/10 -> -13.015619
C28: 0 | D28: 0 | E28: 0 | F28: 0 | G28: 0 | H28: 0 | I28: 0 | J28: 0 | K28: =C28-G28 -> 0 | L28: =D28-H28 -> 0 | M28: =E28-I28 -> 0 | N28: =F28-J28 -> 0 | O28: =(K19+K20+K21+K22+K23+K24+K25+K26+K27+K28)/10 -> 0 | P28: =(L19+L20+L21+L22+L23+L24+L25+L26+L27+L28)/10 -> 0 | Q28: =(M19+M20+M21+M22+M23+M24+M25+M26+M27+M28)/10 -> 0 | R28: =(N19+N20+N21+N22+N23+N24+N25+N26+N27+N28)/10 -> 0
C29: 0 | D29: 0 | E29: 0 | F29: 0 | G29: 0 | H29: 0 | I29: 0 | J29: 0 | K29: =C29-G29 -> 0 | L29: =D29-H29 -> 0 | M29: =E29-I29 -> 0 | N29: =F29-J29 -> 0 | O29: =(K20+K21+K22+K23+K24+K25+K26+K27+K28+K29)/10 -> 0 | P29: =(L20+L21+L22+L23+L24+L25+L26+L27+L28+L29)/10 -> 0 | Q29: =(M20+M21+M22+M23+M24+M25+M26+M27+M28+M29)/10 -> 0 | R29: =(N20+N21+N22+N23+N24+N25+N26+N27+N28+N29)/10 -> 0
C30: 0 | D30: 0 | E30: 0 | F30: 0 | G30: 0 | H30: 0 | I30: 0 | J30: 0 | K30: =C30-G30 -> 0 | L30: =D30-H30 -> 0 | M30: =E30-I30 -> 0 | N30: =F30-J30 -> 0 | O30: =(K21+K22+K23+K24+K25+K26+K27+K28+K29+K30)/10 -> 0 | P30: =(L21+L22+L23+L24+L25+L26+L27+L28+L29+L30)/10 -> 0 | Q30: =(M21+M22+M23+M24+M25+M26+M27+M28+M29+M30)/10 -> 0 | R30: =(N21+N22+N23+N24+N25+N26+N27+N28+N29+N30)/10 -> 0
... C39: 0 | D39: 0 | E39: 0 | F39: 0 | G39: 0 | H39: 0 | I39: 0 | J39: 0 | K39: =C39-G39 -> 0 | L39: =D39-H39 -> 0 | M39: =E39-I39 -> 0 | N39: =F39-J39 -> 0 | O39: =(K30+K31+K32+K33+K34+K35+K36+K37+K38+K39)/10 -> 0 | P39: =(L30+L31+L32+L33+L34+L35+L36+L37+L38+L39)/10 -> 0 | Q39: =(M30+M31+M32+M33+M34+M35+M36+M37+M38+M39)/10 -> 0 | R39: =(N30+N31+N32+N33+N34+N35+N36+N37+N38+N39)/10 -> 0
A40: 40751.422 | B40: 0.42233796 | C40: 0.94134007 | D40: 3.6061549 | E40: 8.4467847 | F40: 8.4467847 | G40: 0.64142758 | H40: 1.4366189 | I40: 2.254742 | J40: 83.342308 | K40: =C40-G40 -> 0.2999125 | L40: =D40-H40 -> 2.169536 | M40: =E40-I40 -> 6.1920427 | N40: =F40-J40 -> -74.895523 | O40: =(K31+K32+K33+K34+K35+K36+K37+K38+K39+K40)/10 -> 0.02999125 | P40: =(L31+L32+L33+L34+L35+L36+L37+L38+L39+L40)/10 -> 0.2169536 | Q40: =(M31+M32+M33+M34+M35+M36+M37+M38+M39+M40)/10 -> 0.61920427 | R40: =(N31+N32+N33+N34+N35+N36+N37+N38+N39+N40)/10 -> -7.4895523 | S40: 1 | T40: -0.54 | U40: 0.34288171 | V40: 44.567563 | W40: -0.24284421 | X40: -36.309658 | Y40: 107.43087 | Z40: =0.4*U40*1.25*O40/1.5 -> 0.003427817 | AA40: =0.4*U40*1.25*P40/1.5 -> 0.024796474 | AB40: =0.4*U40*1.25*Q40/1.5 -> 0.070771273 | AC40: =0.4*U40*1.25*R40/1.5 -> -0.85601017 | AD40: =-U40*U40*U40/X40 -> 0.0011102245
A41: 40751.423 | B41: 0.42303241 | C41: 0.97541736 | D41: 4.3121604 | E41: 10.993567 | F41: 10.993567 | G41: 0.77646192 | H41: 1.9152256 | I41: 3.0743015 | J41: 142.84646 | K41: =C41-G41 -> 0.19895544 | L41: =D41-H41 -> 2.3969347 | M41: =E41-I41 -> 7.9192656 | N41: =F41-J41 -> -131.85289 | O41: =(K32+K33+K34+K35+K36+K37+K38+K39+K40+K41)/10 -> 0.049886794 | P41: =(L32+L33+L34+L35+L36+L37+L38+L39+L40+L41)/10 -> 0.45664707 | Q41: =(M32+M33+M34+M35+M36+M37+M38+M39+M40+M41)/10 -> 1.4111308 | R41: =(N32+N33+N34+N35+N36+N37+N38+N39+N40+N41)/10 -> -20.674841 | S41: 1 | T41: -0.55 | U41: 0.34377766 | V41: 44.601025 | W41: -0.24824312 | X41: -35.705847 | Y41: 110.10623 | Z41: =0.4*U41*1.25*O41/1.5 -> 0.0057166551 | AA41: =0.4*U41*1.25*P41/1.5 -> 0.052328354 | AB41: =0.4*U41*1.25*Q41/1.5 -> 0.16170508 | AC41: =0.4*U41*1.25*R41/1.5 -> -2.3691829 | AD41: =-U41*U41*U41/X41 -> 0.0011378725
A42: 40751.424 | B42: 0.42372685 | C42: 0.90810107 | D42: 3.1200465 | E42: 6.5970696 | F42: 6.5970696 | G42: 0.61887298 | H42: 1.1974024 | I42: 2.0155255 | J42: 77.99069 | K42: =C42-G42 -> 0.28922809 | L42: =D42-H42 -> 1.9226441 | M42: =E42-I42 -> 4.5815442 | N42: =F42-J42 -> -71.39362 | O42: =(K33+K34+K35+K36+K37+K38+K39+K40+K41+K42)/10 -> 0.078809603 | P42: =(L33+L34+L35+L36+L37+L38+L39+L40+L41+L42)/10 -> 0.64891149 | Q42: =(M33+M34+M35+M36+M37+M38+M39+M40+M41+M42)/10 -> 1.8692852 | R42: =(N33+N34+N35+N36+N37+N38+N39+N40+N41+N42)/10 -> -27.814203 | S42: 1 | T42: -0.53 | U42: 0.34197576 | V42: 44.669275 | W42: -0.23746767 | X42: -36.935794 | Y42: 104.7748 | Z42: =0.4*U42*1.25*O42/1.5 -> 0.0089836579 | AA42: =0.4*U42*1.25*P42/1.5 -> 0.073970666 | AB42: =0.4*U42*1.25*Q42/1.5 -> 0.21308341 | AC42: =0.4*U42*1.25*R42/1.5 -> -3.1705945 | AD42: =-U42*U42*U42/X42 -> 0.0010827758
A43: 40751.424 | B43: 0.4244213 | C43: 0.83083249 | D43: 2.1795429 | E43: 3.8838979 | F43: 3.8838979 | G43: 0.50997588 | H43: 0.95445137 | I43: 1.3976695 | J43: 49.233065 | K43: =C43-G43 -> 0.32085661 | L43: =D43-H43 -> 1.2250916 | M43: =E43-I43 -> 2.4862283 | N43: =F43-J43 -> -45.349167 | O43: =(K34+K35+K36+K37+K38+K39+K40+K41+K42+K43)/10 -> 0.11089526 | P43: =(L34+L35+L36+L37+L38+L39+L40+L41+L42+L43)/10 -> 0.77142064 | Q43: =(M34+M35+M36+M37+M38+M39+M40+M41+M42+M43)/10 -> 2.1179081 | R43: =(N34+N35+N36+N37+N38+N39+N40+N41+N42+N43)/10 -> -32.34912 | S43: 0.98 | T43: -0.56 | U43: 0.33974209 | V43: 44.900108 | W43: -0.25571998 | X43: -33.852856 | Y43: 112.09107 | Z43: =0.4*U43*1.25*O43/1.5 -> 0.012558596 | AA43: =0.4*U43*1.25*P43/1.5 -> 0.087361354 | AB43: =0.4*U43*1.25*Q43/1.5 -> 0.2398475 | AC43: =0.4*U43*1.25*R43/1.5 -> -3.6634526 | AD43: =-U43*U43*U43/X43 -> 0.0011583845
A44: 40751.425 | B44: 0.42511574 | C44: 0.98116335 | D44: 4.2703795 | E44: 10.576677 | F44: 10.576677 | G44: 0.60837882 | H44: 1.2961748 | I44: 2.0120325 | J44: 84.615352 | K44: =C44-G44 -> 0.37278453 | L44: =D44-H44 -> 2.9742047 | M44: =E44-I44 -> 8.5646443 | N44: =F44-J44 -> -74.038675 | O44: =(K35+K36+K37+K38+K39+K40+K41+K42+K43+K44)/10 -> 0.14817372 | P44: =(L35+L36+L37+L38+L39+L40+L41+L42+L43+L44)/10 -> 1.0688411 | Q44: =(M35+M36+M37+M38+M39+M40+M41+M42+M43+M44)/10 -> 2.9743725 | R44: =(N35+N36+N37+N38+N39+N40+N41+N42+N43+N44)/10 -> -39.752988 | S44: 0.98 | T44: -0.57 | U44: 0.34061574 | V44: 44.99715 | W44: -0.26121249 | X44: -33.311697 | Y44: 114.79307 | Z44: =0.4*U44*1.25*O44/1.5 -> 0.016823433 | AA44: =0.4*U44*1.25*P44/1.5 -> 0.1213547 | AB44: =0.4*U44*1.25*Q44/1.5 -> 0.33770603 | AC44: =0.4*U44*1.25*R44/1.5 -> -4.5134978 | AD44: =-U44*U44*U44/X44 -> 0.0011863078
A45: 40751.426 | B45: 0.42581019 | C45: 0.93828534 | D45: 3.0052218 | E45: 7.2662114 | F45: 7.2662114 | G45: 0.61231996 | H45: 1.5093446 | I45: 2.293311 | J45: 105.75671 | K45: =C45-G45 -> 0.32596538 | L45: =D45-H45 -> 1.4958772 | M45: =E45-I45 -> 4.9729004 | N45: =F45-J45 -> -98.490496 | O45: =(K36+K37+K38+K39+K40+K41+K42+K43+K44+K45)/10 -> 0.18077025 | P45: =(L36+L37+L38+L39+L40+L41+L42+L43+L44+L45)/10 -> 1.2184288 | Q45: =(M36+M37+M38+M39+M40+M41+M42+M43+M44+M45)/10 -> 3.4716625 | R45: =(N36+N37+N38+N39+N40+N41+N42+N43+N44+N45)/10 -> -49.602037 | S45: 0.96 | T45: -0.56 | U45: 0.33481189 | V45: 45.025062 | W45: -0.25784858 | X45: -32.606056 | Y45: 111.38395 | Z45: =0.4*U45*1.25*O45/1.5 -> 0.020174677 | AA45: =0.4*U45*1.25*P45/1.5 -> 0.13598149 | AB45: =0.4*U45*1.25*Q45/1.5 -> 0.3874513 | AC45: =0.4*U45*1.25*R45/1.5 -> -5.5357839 | AD45: =-U45*U45*U45/X45 -> 0.0011510769
A46: 40751.426 | B46: 0.42650463 | C46: 0.86567732 | D46: 3.5804361 | E46: 8.7618142 | F46: 8.7618142 | G46: 0.61798853 | H46: 1.4545041 | I46: 1.9999877 | J46: 80.480556 | K46: =C46-G46 -> 0.2476888 | L46: =D46-H46 -> 2.125932 | M46: =E46-I46 -> 6.7618265 | N46: =F46-J46 -> -71.718741 | O46: =(K37+K38+K39+K40+K41+K42+K43+K44+K45+K46)/10 -> 0.20553913 | P46: =(L37+L38+L39+L40+L41+L42+L43+L44+L45+L46)/10 -> 1.431022 | Q46: =(M37+M38+M39+M40+M41+M42+M43+M44+M45+M46)/10 -> 4.1478452 | R46: =(N37+N38+N39+N40+N41+N42+N43+N44+N45+N46)/10 -> -56.773911 | S46: 0.94 | T46: -0.57 | U46: 0.33073934 | V46: 45.161258 | W46: -0.26565071 | X46: -30.883179 | Y46: 113.35844 | Z46: =0.4*U46*1.25*O46/1.5 -> 0.022659959 | AA46: =0.4*U46*1.25*P46/1.5 -> 0.1577651 | AB46: =0.4*U46*1.25*Q46/1.5 -> 0.45728519 | AC46: =0.4*U46*1.25*R46/1.5 -> -6.259122 | AD46: =-U46*U46*U46/X46 -> 0.0011714819
A47: 40751.427 | B47: 0.42719907 | C47: 0.96508217 | D47: 3.8318336 | E47: 9.251899 | F47: 9.251899 | G47: 0.6578441 | H47: 1.453226 | I47: 2.0668183 | J47: 98.629101 | K47: =C47-G47 -> 0.30723806 | L47: =D47-H47 -> 2.3786076 | M47: =E47-I47 -> 7.1850807 | N47: =F47-J47 -> -89.377202 | O47: =(K38+K39+K40+K41+K42+K43+K44+K45+K46+K47)/10 -> 0.23626294 | P47: =(L38+L39+L40+L41+L42+L43+L44+L45+L46+L47)/10 -> 1.6688828 | Q47: =(M38+M39+M40+M41+M42+M43+M44+M45+M46+M47)/10 -> 4.8663533 | R47: =(N38+N39+N40+N41+N42+N43+N44+N45+N46+N47)/10 -> -65.711632 | S47: 0.86 | T47: -0.62 | U47: 0.3149836 | V47: 45.0293 | W47: -0.30505217 | X47: -24.392877 | Y47: 123.97071 | Z47: =0.4*U47*1.25*O47/1.5 -> 0.024806317 | AA47: =0.4*U47*1.25*P47/1.5 -> 0.17522357 | AB47: =0.4*U47*1.25*Q47/1.5 -> 0.51094049 | AC47: =0.4*U47*1.25*R47/1.5 -> -6.8993621 | AD47: =-U47*U47*U47/X47 -> 0.0012811524
A48: 40751.428 | B48: 0.42789352 | C48: 1.3869077 | D48: 8.9620458 | E48: 22.938247 | F48: 22.938247 | G48: 1.0840073 | H48: 3.6775757 | I48: 6.3706324 | J48: 225.49409 | K48: =C48-G48 -> 0.30290036 | L48: =D48-H48 -> 5.2844701 | M48: =E48-I48 -> 16.567615 | N48: =F48-J48 -> -202.55584 | O48: =(K39+K40+K41+K42+K43+K44+K45+K46+K47+K48)/10 -> 0.26655298 | P48: =(L39+L40+L41+L42+L43+L44+L45+L46+L47+L48)/10 -> 2.1973298 | Q48: =(M39+M40+M41+M42+M43+M44+M45+M46+M47+M48)/10 -> 6.5231147 | R48: =(N39+N40+N41+N42+N43+N44+N45+N46+N47+N48)/10 -> -85.967215 | S48: 0.83 | T48: -0.57 | U48: 0.30337007 | V48: 44.96385 | W48: -0.27968173 | X48: -24.679857 | Y48: 109.46968 | Z48: =0.4*U48*1.25*O48/1.5 -> 0.026954732 | AA48: =0.4*U48*1.25*P48/1.5 -> 0.22220137 | AB48: =0.4*U48*1.25*Q48/1.5 -> 0.65963926 | AC48: =0.4*U48*1.25*R48/1.5 -> -8.6932934 | AD48: =-U48*U48*U48/X48 -> 0.0011312942
...

Sheet Лист2
A2: date Time Msk | B2: Wup10 | C2: Wdo10 | D2: Tup10 | E2: Tdo10 | F2: dv10 | G2: dt10 | H2: strat | I2: iter | J2: dv10 | K2: dt10 | L2: Ustar | M2: Tstar | N2: L | O2: Heat
A3: 40751.422 | B3: 8.23 | C3: 7.23 | D3: 35.24 | E3: 35.78 | F3: 1 | G3: -0.54 | H3: 1 | I3: 7 | J3: 1 | K3: -0.54 | L3: 0.34288171 | M3: -0.24284421 | N3: -36.309658 | O3: 107.43087
A4: 40751.423 | B4: 8.35 | C4: 7.35 | D4: 35.29 | E4: 35.84 | F4: 1 | G4: -0.55 | H4: 1 | I4: 7 | J4: 1 | K4: -0.55 | L4: 0.34377766 | M4: -0.24824312 | N4: -35.705847 | O4: 110.10623
A5: 40751.424 | B5: 8.35 | C5: 7.35 | D5: 35.31 | E5: 35.84 | F5: 1 | G5: -0.53 | H5: 1 | I5: 7 | J5: 1 | K5: -0.53 | L5: 0.34197576 | M5: -0.23746767 | N5: -36.935794 | O5: 104.7748
A6: 40751.424 | B6: 8.32 | C6: 7.34 | D6: 35.31 | E6: 35.87 | F6: 0.98 | G6: -0.56 | H6: 1 | I6: 7 | J6: 0.98 | K6: -0.56 | L6: 0.33974209 | M6: -0.25571998 | N6: -33.852856 | O6: 112.09107
A7: 40751.425 | B7: 8.16 | C7: 7.18 | D7: 35.34 | E7: 35.91 | F7: 0.98 | G7: -0.57 | H7: 1 | I7: 7 | J7: 0.98 | K7: -0.57 | L7: 0.34061574 | M7: -0.26121249 | N7: -33.311697 | O7: 114.79307
A8: 40751.426 | B8: 8.06 | C8: 7.1 | D8: 35.38 | E8: 35.94 | F8: 0.96 | G8: -0.56 | H8: 1 | I8: 7 | J8: 0.96 | K8: -0.56 | L8: 0.33481189 | M8: -0.25784858 | N8: -32.606056 | O8: 111.38395
A9: 40751.426 | B9: 8.07 | C9: 7.13 | D9: 35.4 | E9: 35.97 | F9: 0.94 | G9: -0.57 | H9: 1 | I9: 7 | J9: 0.94 | K9: -0.57 | L9: 0.33073934 | M9: -0.26565071 | N9: -30.883179 | O9: 113.35844
A10: 40751.427 | B10: 7.89 | C10: 7.03 | D10: 35.44 | E10: 36.06 | F10: 0.86 | G10: -0.62 | H10: 1 | I10: 7 | J10: 0.86 | K10: -0.62 | L10: 0.3149836 | M10: -0.30505217 | N10: -24.392877 | O10: 123.97071
A11: 40751.428 | B11: 7.8 | C11: 6.97 | D11: 35.54 | E11: 36.11 | F11: 0.83 | G11: -0.57 | H11: 1 | I11: 7 | J11: 0.83 | K11: -0.57 | L11: 0.30337007 | M11: -0.27968173 | N11: -24.679857 | O11: 109.46968
A12: 40751.428 | B12: 7.79 | C12: 6.97 | D12: 35.57 | E12: 36.16 | F12: 0.82 | G12: -0.59 | H12: 1 | I12: 7 | J12: 0.82 | K12: -0.59 | L12: 0.30251633 | M12: -0.29310113 | N12: -23.417547 | O12: 114.39929
A13: 40751.429 | B13: 7.56 | C13: 6.78 | D13: 35.61 | E13: 36.19 | F13: 0.78 | G13: -0.58 | H13: 1 | I13: 7 | J13: 0.78 | K13: -0.58 | L13: 0.29162323 | M13: -0.2932566 | N13: -21.749922 | O13: 110.33846
A14: 40751.43 | B14: 7.49 | C14: 6.71 | D14: 35.6 | E14: 36.19 | F14: 0.78 | G14: -0.59 | H14: 1 | I14: 7 | J14: 0.78 | K14: -0.59 | L14: 0.29243471 | M14: -0.29940453 | N14: -21.422035 | O14: 112.9651
... A1379: 40752.378 | B1379: 0.67 | C1379: 0.61 | D1379: 3.32 | E1379: 3.36 | F1379: 0.06 | G1379: -0.04 | H1379: 1 | I1379: 7 | J1379: 0.06 | K1379: -0.04 | L1379: 0.036218274 | M1379: -0.035742936 | N1379: -2.752495 | O1379: 1.6702251
A1380: 40752.378 | B1380: 0 | C1380: 0 | D1380: 0 | E1380: 0 | F1380: 0 | G1380: 0 | H1380: 3 | I1380: 1 | J1380: 0 | K1380: 0 | L1380: NaN | M1380: NaN | N1380: 0 | O1380: 0
A1381: 40752.379 | B1381: 0 | C1381: 0 | D1381: 0 | E1381: 0 | F1381: 0 | G1381: 0 | H1381: 3 | I1381: 1 | J1381: 0 | K1381: 0 | L1381: NaN | M1381: NaN | N1381: 0 | O1381: 0
A1382: 40752.38 | B1382: 0 | C1382: 0 | D1382: 0 | E1382: 0 | F1382: 0 | G1382: 0 | H1382: 3 | I1382: 1 | J1382: 0 | K1382: 0 | L1382: NaN | M1382: NaN | N1382: 0 | O1382: 0
A1383: 40752.381 | B1383: 0 | C1383: 0 | D1383: 0 | E1383: 0 | F1383: 0 | G1383: 0 | H1383: 3 | I1383: 1 | J1383: 0 | K1383: 0 | L1383: NaN | M1383: NaN | N1383: 0 | O1383: 0
A1384: 40752.381 | B1384: 0 | C1384: 0 | D1384: 0 | E1384: 0 | F1384: 0 | G1384: 0 | H1384: 3 | I1384: 1 | J1384: 0 | K1384: 0 | L1384: NaN | M1384: NaN | N1384: 0 | O1384: 0
A1385: 40752.382 | B1385: 0 | C1385: 0 | D1385: 0 | E1385: 0 | F1385: 0 | G1385: 0 | H1385: 3 | I1385: 1 | J1385: 0 | K1385: 0 | L1385: NaN | M1385: NaN | N1385: 0 | O1385: 0
A1386: 40752.383 | B1386: 0 | C1386: 0 | D1386: 0 | E1386: 0 | F1386: 0 | G1386: 0 | H1386: 3 | I1386: 1 | J1386: 0 | K1386: 0 | L1386: NaN | M1386: NaN | N1386: 0 | O1386: 0
A1387: 40752.383 | B1387: 0 | C1387: 0 | D1387: 0 | E1387: 0 | F1387: 0 | G1387: 0 | H1387: 3 | I1387: 1 | J1387: 0 | K1387: 0 | L1387: NaN | M1387: NaN | N1387: 0 | O1387: 0
A1388: 40752.384 | B1388: 0 | C1388: 0 | D1388: 0 | E1388: 0 | F1388: 0 | G1388: 0 | H1388: 3 | I1388: 1 | J1388: 0 | K1388: 0 | L1388: NaN | M1388: NaN | N1388: 0 | O1388: 0
A1389: 40752.385 | B1389: 0 | C1389: 0 | D1389: 0 | E1389: 0 | F1389: 0 | G1389: 0 | H1389: 3 | I1389: 1 | J1389: 0 | K1389: 0 | L1389: NaN | M1389: NaN | N1389: 0 | O1389: 0
A1390: 40752.385 | B1390: 0 | C1390: 0 | D1390: 0 | E1390: 0 | F1390: 0 | G1390: 0 | H1390: 3 | I1390: 1 | J1390: 0 | K1390: 0 | L1390: NaN | M1390: NaN | N1390: 0 | O1390: 0
A1391: 40752.386 | B1391: 0.75 | C1391: 0.75 | D1391: 3.43 | E1391: 3.46 | F1391: 0 | G1391: -0.03 | H1391: 1 | I1391: 1 | J1391: 0 | K1391: -0.03 | L1391: NaN | M1391: NaN | N1391: NaN | O1391: NaN
A1392: 40752.387 | B1392: 1.45 | C1392: 1.37 | D1392: 6.85 | E1392: 6.94 | F1392: 0.08 | G1392: -0.09 | H1392: 1 | I1392: 8 | J1392: 0.08 | K1392: -0.09 | L1392: 0.050872996 | M1392: -0.085158797 | N1392: -2.2793257 | O1392: 5.5895116
A1393: 40752.388 | B1393: 2.02 | C1393: 1.9 | D1393: 10.29 | E1393: 10.42 | F1393: 0.12 | G1393: -0.13 | H1393: 1 | I1393: 7 | J1393: 0.12 | K1393: -0.13 | L1393: 0.069229683 | M1393: -0.11047053 | N1393: -3.2538648 | O1393: 9.8672428
A1394: 40752.388 | B1394: 2.71 | C1394: 2.49 | D1394: 13.72 | E1394: 13.9 | F1394: 0.22 | G1394: -0.18 | H1394: 1 | I1394: 8 | J1394: 0.22 | K1394: -0.18 | L1394: 0.10546081 | M1394: -0.12377661 | N1394: -6.7391463 | O1394: 16.841731
A1395: 40752.389 | B1395: 3.48 | C1395: 3.17 | D1395: 17.15 | E1395: 17.4 | F1395: 0.31 | G1395: -0.25 | H1395: 1 | I1395: 8 | J1395: 0.31 | K1395: -0.25 | L1395: 0.13854615 | M1395: -0.1581615 | N1395: -9.1022633 | O1395: 28.27172
A1396: 40752.39 | B1396: 4.19 | C1396: 3.77 | D1396: 20.59 | E1396: 20.88 | F1396: 0.42 | G1396: -0.29 | H1396: 1 | I1396: 8 | J1396: 0.42 | K1396: -0.29 | L1396: 0.17236749 | M1396: -0.16523969 | N1396: -13.485208 | O1396: 36.747411
A1397: 40752.39 | B1397: 4.9 | C1397: 4.41 | D1397: 24.03 | E1397: 24.36 | F1397: 0.49 | G1397: -0.33 | H1397: 1 | I1397: 7 | J1397: 0.49 | K1397: -0.33 | L1397: 0.19482947 | M1397: -0.18067328 | N1397: -15.757113 | O1397: 45.415658
A1398: 40752.391 | B1398: 5.64 | C1398: 5.07 | D1398: 27.48 | E1398: 27.85 | F1398: 0.57 | G1398: -0.37 | H1398: 1 | I1398: 7 | J1398: 0.57 | K1398: -0.37 | L1398: 0.21946177 | M1398: -0.19438534 | N1398: -18.582986 | O1398: 55.040124
A1399: 40752.392 | B1399: 6.32 | C1399: 5.68 | D1399: 30.93 | E1399: 31.32 | F1399: 0.64 | G1399: -0.39 | H1399: 1 | I1399: 7 | J1399: 0.64 | K1399: -0.39 | L1399: 0.23923283 | M1399: -0.19713796 | N1399: -21.773716 | O1399: 60.848246
A1400: 40752.392 | B1400: 7.1 | C1400: 6.38 | D1400: 34.37 | E1400: 34.8 | F1400: 0.72 | G1400: -0.43 | H1400: 1 | I1400: 7 | J1400: 0.72 | K1400: -0.43 | L1400: 0.26326792 | M1400: -0.21109871 | N1400: -24.624735 | O1400: 71.703529
A1401: 40752.393 | B1401: 7.08 | C1401: 6.25 | D1401: 34.38 | E1401: 34.81 | F1401: 0.83 | G1401: -0.43 | H1401: 1 | I1401: 7 | J1401: 0.83 | K1401: -0.43 | L1401: 0.29061654 | M1401: -0.1990682 | N1401: -31.81999 | O1401: 74.641308
A1402: 40752.394 | B1402: 7.13 | C1402: 6.28 | D1402: 34.4 | E1402: 34.81 | F1402: 0.85 | G1402: -0.41 | H1402: 1 | I1402: 7 | J1402: 0.85 | K1402: -0.41 | L1402: 0.29352253 | M1402: -0.18620986 | N1402: -34.700958 | O1402: 70.518187
A1403: 40752.394 | B1403: 7.17 | C1403: 6.32 | D1403: 34.41 | E1403: 34.8 | F1403: 0.85 | G1403: -0.39 | H1403: 1 | I1403: 7 | J1403: 0.85 | K1403: -0.39 | L1403: 0.29143349 | M1403: -0.17537415 | N1403: -36.322406 | O1403: 65.941993
... A2274: 40752.999 | B2274: 4.75 | C2274: 3.73 | D2274: 25.7 | E2274: 25.49 | F2274: 1.02 | G2274: 0.21 | H2274: 2 | I2274: 7 | J2274: 1.02 | K2274: 0.21 | L2274: 0.1961258 | M2274: 0.035374609 | N2274: 81.552835 | O2274: -8.9512438

Sheet 280711
B1: Time | C1: PM0.5 | D1: PM1.0 | E1: PM1.5 | F1: PM15 | G1: PM0.5 | H1: PM1.0 | I1: PM1.5 | J1: PM15 | K1: dPM0.5 | L1: dPM1.0 | M1: dPM1.5 | N1: dPM15 | O1: dPM0.5-10m | P1: dPM1.0-10m | Q1: dPM1.5-10m | R1: dPM15-10m | S1: dv10 | T1: dt10 | U1: Ustar | V1: Tsurf | W1: L | X1: Heat | Y1: FPM0.5 | Z1: FPM1.0 | AA1: FPM1.5 | AB1: FPM15
A2: 40752 | B2: 3.4722222e-05 | C2: 1.6363512 | D2: 2.5373264 | E2: 3.5599803 | F2: 24.76884 | G2: 1.1270422 | H2: 1.5888254 | I2: 1.997887 | J2: 39.477316 | K2: =C2-G2 -> 0.50930902 | L2: =D2-H2 -> 0.94850102 | M2: =E2-I2 -> 1.5620933 | N2: =F2-J2 -> -14.708477 | O2: =('270711'!K862+'270711'!K863+'270711'!K864+'270711'!K865+'270711'!K866+'270711'!K867+'270711'!K868+'270711'!K869+'270711'!K870+'270711'!K871)/10 -> 0.48142055 | P2: =('270711'!L862+'270711'!L863+'270711'!L864+'270711'!L865+'270711'!L866+'270711'!L867+'270711'!L868+'270711'!L869+'270711'!L870+'270711'!L871)/10 -> 0.79127465 | Q2: =('270711'!M862+'270711'!M863+'270711'!M864+'270711'!M865+'270711'!M866+'270711'!M867+'270711'!M868+'270711'!M869+'270711'!M870+'270711'!M871)/10 -> 1.2174145 | R2: =('270711'!N862+'270711'!N863+'270711'!N864+'270711'!N865+'270711'!N866+'270711'!N867+'270711'!N868+'270711'!N869+'270711'!N870+'270711'!N871)/10 -> -12.757586 | S2: 0.99 | T2: 0.26 | U2: 0.17523793 | W2: 59.045299 | X2: -8.8189591 | Y2: =0.4*U2*1.25*O2/1.5 -> 0.028121047 | Z2: =0.4*U2*1.25*P2/1.5 -> 0.046220444 | AA2: =0.4*U2*1.25*Q2/1.5 -> 0.0711124 | AB2: =0.4*U2*1.25*R2/1.5 -> -0.7452043 | AC2: =-U2*U2*U2/W2 -> -9.11379e-05
A3: 40752.001 | B3: 0.00072916667 | C3: 1.6510039 | D3: 2.5296311 | E3: 3.5181283 | F3: 23.648669 | G3: 1.1501658 | H3: 1.6452438 | I3: 2.1907274 | J3: 34.791574 | K3: =C3-G3 -> 0.50083805 | L3: =D3-H3 -> 0.88438722 | M3: =E3-I3 -> 1.3274009 | N3: =F3-J3 -> -11.142906 | O3: =('270711'!K863+'270711'!K864+'270711'!K865+'270711'!K866+'270711'!K867+'270711'!K868+'270711'!K869+'270711'!K870+'270711'!K871+K2)/10 -> 0.48664421 | P3: =('270711'!L863+'270711'!L864+'270711'!L865+'270711'!L866+'270711'!L867+'270711'!L868+'270711'!L869+'270711'!L870+'270711'!L871+L2)/10 -> 0.81447335 | Q3: =('270711'!M863+'270711'!M864+'270711'!M865+'270711'!M866+'270711'!M867+'270711'!M868+'270711'!M869+'270711'!M870+'270711'!M871+M2)/10 -> 1.2712928 | R3: =('270711'!N863+'270711'!N864+'270711'!N865+'270711'!N866+'270711'!N867+'270711'!N868+'270711'!N869+'270711'!N870+'270711'!N871+N2)/10 -> -13.486363 | S3: 0.98 | T3: 0.26 | U3: 0.17222318 | V3: 14.051807 | W3: 57.598837 | X3: -8.5818196 | Y3: =0.4*U3*1.25*O3/1.5 -> 0.027937138 | Z3: =0.4*U3*1.25*P3/1.5 -> 0.046757064 | AA3: =0.4*U3*1.25*Q3/1.5 -> 0.072982031 | AB3: =0.4*U3*1.25*R3/1.5 -> -0.77422145 | AC3: =-U3*U3*U3/W3 -> -8.8687231e-05
A4: 40752.001 | B4: 0.0014236111 | C4: 1.650248 | D4: 2.623914 | E4: 3.7488332 | F4: 24.121571 | G4: 1.193286 | H4: 1.7582705 | I4: 2.167332 | J4: 35.847283 | K4: =C4-G4 -> 0.45696194 | L4: =D4-H4 -> 0.86564353 | M4: =E4-I4 -> 1.5815012 | N4: =F4-J4 -> -11.725713 | O4: =('270711'!K864+'270711'!K865+'270711'!K866+'270711'!K867+'270711'!K868+'270711'!K869+'270711'!K870+'270711'!K871+K2+K3)/10 -> 0.49532638 | P4: =('270711'!L864+'270711'!L865+'270711'!L866+'270711'!L867+'270711'!L868+'270711'!L869+'270711'!L870+'270711'!L871+L2+L3)/10 -> 0.84101869 | Q4: =('270711'!M864+'270711'!M865+'270711'!M866+'270711'!M867+'270711'!M868+'270711'!M869+'270711'!M870+'270711'!M871+M2+M3)/10 -> 1.3285178 | R4: =('270711'!N864+'270711'!N865+'270711'!N866+'270711'!N867+'270711'!N868+'270711'!N869+'270711'!N870+'270711'!N871+N2+N3)/10 -> -14.024441 | S4: 0.94 | T4: 0.27 | U4: 0.15767634 | V4: 14.046003 | W4: 49.535936 | X4: -7.6576849 | Y4: =0.4*U4*1.25*O4/1.5 -> 0.02603375 | Z4: =0.4*U4*1.25*P4/1.5 -> 0.044202916 | AA4: =0.4*U4*1.25*Q4/1.5 -> 0.069825274 | AB4: =0.4*U4*1.25*R4/1.5 -> -0.73710749 | AC4: =-U4*U4*U4/W4 -> -7.9136934e-05
A5: 40752.002 | B5: 0.0021180556 | C5: 1.6834937 | D5: 2.6845347 | E5: 3.6730319 | F5: 27.003432 | G5: 1.1311506 | H5: 1.6749616 | I5: 2.0498665 | J5: 39.416215 | K5: =C5-G5 -> 0.55234314 | L5: =D5-H5 -> 1.009573 | M5: =E5-I5 -> 1.6231654 | N5: =F5-J5 -> -12.412783 | O5: =('270711'!K865+'270711'!K866+'270711'!K867+'270711'!K868+'270711'!K869+'270711'!K870+'270711'!K871+K2+K3+K4)/10 -> 0.4893884 | P5: =('270711'!L865+'270711'!L866+'270711'!L867+'270711'!L868+'270711'!L869+'270711'!L870+'270711'!L871+L2+L3+L4)/10 -> 0.85394566 | Q5: =('270711'!M865+'270711'!M866+'270711'!M867+'270711'!M868+'270711'!M869+'270711'!M870+'270711'!M871+M2+M3+M4)/10 -> 1.365293 | R5: =('270711'!N865+'270711'!N866+'270711'!N867+'270711'!N868+'270711'!N869+'270711'!N870+'270711'!N871+N2+N3+N4)/10 -> -14.173734 | S5: 0.98 | T5: 0.27 | U5: 0.1698576 | V5: 14.043683 | W5: 54.984379 | X5: -8.624499 | Y5: =0.4*U5*1.25*O5/1.5 -> 0.02770878 | Z5: =0.4*U5*1.25*P5/1.5 -> 0.04834972 | AA5: =0.4*U5*1.25*Q5/1.5 -> 0.0773018 | AB5: =0.4*U5*1.25*R5/1.5 -> -0.8025055 | AC5: =-U5*U5*U5/W5 -> -8.9128301e-05
A6: 40752.003 | B6: 0.0028125 | C6: 1.7260344 | D6: 2.8855054 | E6: 3.4990977 | F6: 26.819696 | G6: 1.1936983 | H6: 1.7157997 | I6: 2.19297 | J6: 35.198248 | K6: =C6-G6 -> 0.53233607 | L6: =D6-H6 -> 1.1697057 | M6: =E6-I6 -> 1.3061278 | N6: =F6-J6 -> -8.3785516 | O6: =('270711'!K866+'270711'!K867+'270711'!K868+'270711'!K869+'270711'!K870+'270711'!K871+K2+K3+K4+K5)/10 -> 0.50003555 | P6: =('270711'!L866+'270711'!L867+'270711'!L868+'270711'!L869+'270711'!L870+'270711'!L871+L2+L3+L4+L5)/10 -> 0.87409301 | Q6: =('270711'!M866+'270711'!M867+'270711'!M868+'270711'!M869+'270711'!M870+'270711'!M871+M2+M3+M4+M5)/10 -> 1.4024778 | R6: =('270711'!N866+'270711'!N867+'270711'!N868+'270711'!N869+'270711'!N870+'270711'!N871+N2+N3+N4+N5)/10 -> -13.687721 | S6: 0.95 | T6: 0.28 | U6: 0.15834972 | V6: 14.045387 | W6: 48.588221 | X6: -7.9074995 | Y6: =0.4*U6*1.25*O6/1.5 -> 0.026393497 | Z6: =0.4*U6*1.25*P6/1.5 -> 0.046137461 | AA6: =0.4*U6*1.25*Q6/1.5 -> 0.074027322 | AB6: =0.4*U6*1.25*R6/1.5 -> -0.72248225 | AC6: =-U6*U6*U6/W6 -> -8.1718597e-05
A7: 40752.003 | B7: 0.0035069444 | C7: 1.66628 | D7: 2.5963891 | E7: 3.8235738 | F7: 26.050096 | G7: 1.1292091 | H7: 1.6141252 | I7: 1.7505473 | J7: 32.835838 | K7: =C7-G7 -> 0.53707084 | L7: =D7-H7 -> 0.98226389 | M7: =E7-I7 -> 2.0730265 | N7: =F7-J7 -> -6.7857412 | O7: =('270711'!K867+'270711'!K868+'270711'!K869+'270711'!K870+'270711'!K871+K2+K3+K4+K5+K6)/10 -> 0.50476158 | P7: =('270711'!L867+'270711'!L868+'270711'!L869+'270711'!L870+'270711'!L871+L2+L3+L4+L5+L6)/10 -> 0.89751263 | Q7: =('270711'!M867+'270711'!M868+'270711'!M869+'270711'!M870+'270711'!M871+M2+M3+M4+M5+M6)/10 -> 1.3815756 | R7: =('270711'!N867+'270711'!N868+'270711'!N869+'270711'!N870+'270711'!N871+N2+N3+N4+N5+N6)/10 -> -13.034907 | S7: 0.95 | T7: 0.29 | U7: 0.15598808 | V7: 14.039093 | W7: 46.452689 | X7: -7.9064521 | Y7: =0.4*U7*1.25*O7/1.5 -> 0.026245597 | Z7: =0.4*U7*1.25*P7/1.5 -> 0.046667091 | AA7: =0.4*U7*1.25*Q7/1.5 -> 0.071836442 | AB7: =0.4*U7*1.25*R7/1.5 -> -0.67776336 | AC7: =-U7*U7*U7/W7 -> -8.1707774e-05
A8: 40752.004 | B8: 0.0042013889 | C8: 1.7375981 | D8: 2.6420922 | E8: 3.664746 | F8: 24.027879 | G8: 1.1786425 | H8: 1.7343579 | I8: 2.2115282 | J8: 34.112814 | K8: =C8-G8 -> 0.55895559 | L8: =D8-H8 -> 0.90773425 | M8: =E8-I8 -> 1.4532178 | N8: =F8-J8 -> -10.084936 | O8: =('270711'!K868+'270711'!K869+'270711'!K870+'270711'!K871+K2+K3+K4+K5+K6+K7)/10 -> 0.51263846 | P8: =('270711'!L868+'270711'!L869+'270711'!L870+'270711'!L871+L2+L3+L4+L5+L6+L7)/10 -> 0.92419506 | Q8: =('270711'!M868+'270711'!M869+'270711'!M870+'270711'!M871+M2+M3+M4+M5+M6+M7)/10 -> 1.4730125 | R8: =('270711'!N868+'270711'!N869+'270711'!N870+'270711'!N871+N2+N3+N4+N5+N6+N7)/10 -> -12.169514 | S8: 0.94 | T8: 0.29 | U8: 0.15290687 | V8: 14.022467 | W8: 45.198928 | X8: -7.6536945 | Y8: =0.4*U8*1.25*O8/1.5 -> 0.026128648 | Z8: =0.4*U8*1.25*P8/1.5 -> 0.047105258 | AA8: =0.4*U8*1.25*Q8/1.5 -> 0.075077909 | AB8: =0.4*U8*1.25*R8/1.5 -> -0.62026743 | AC8: =-U8*U8*U8/W8 -> -7.9095698e-05
A9: 40752.005 | B9: 0.0048958333 | C9: 1.7097953 | D9: 2.599198 | E9: 3.5537431 | F9: 25.937165 | G9: 1.2113994 | H9: 1.8187777 | I9: 2.1597305 | J9: 33.735747 | K9: =C9-G9 -> 0.49839597 | L9: =D9-H9 -> 0.78042033 | M9: =E9-I9 -> 1.3940126 | N9: =F9-J9 -> -7.798582 | O9: =('270711'!K869+'270711'!K870+'270711'!K871+K2+K3+K4+K5+K6+K7+K8)/10 -> 0.52079879 | P9: =('270711'!L869+'270711'!L870+'270711'!L871+L2+L3+L4+L5+L6+L7+L8)/10 -> 0.9188082 | Q9: =('270711'!M869+'270711'!M870+'270711'!M871+M2+M3+M4+M5+M6+M7+M8)/10 -> 1.4983052 | R9: =('270711'!N869+'270711'!N870+'270711'!N871+N2+N3+N4+N5+N6+N7+N8)/10 -> -11.620739 | S9: 0.94 | T9: 0.29 | U9: 0.15290687 | V9: 14.014923 | W9: 45.198928 | X9: -7.6536945 | Y9: =0.4*U9*1.25*O9/1.5 -> 0.026544571 | Z9: =0.4*U9*1.25*P9/1.5 -> 0.046830695 | AA9: =0.4*U9*1.25*Q9/1.5 -> 0.076367055 | AB9: =0.4*U9*1.25*R9/1.5 -> -0.59229692 | AC9: =-U9*U9*U9/W9 -> -7.9095698e-05
A10: 40752.006 | B10: 0.0055902778 | C10: 1.7066432 | D10: 2.6638439 | E10: 3.4138582 | F10: 21.249531 | G10: 1.224428 | H10: 1.7332946 | I10: 2.0742474 | J10: 37.23474 | K10: =C10-G10 -> 0.48221517 | L10: =D10-H10 -> 0.93054928 | M10: =E10-I10 -> 1.3396108 | N10: =F10-J10 -> -15.985209 | O10: =('270711'!K870+'270711'!K871+K2+K3+K4+K5+K6+K7+K8+K9)/10 -> 0.52055951 | P10: =('270711'!L870+'270711'!L871+L2+L3+L4+L5+L6+L7+L8+L9)/10 -> 0.91831391 | Q10: =('270711'!M870+'270711'!M871+M2+M3+M4+M5+M6+M7+M8+M9)/10 -> 1.4909796 | R10: =('270711'!N870+'270711'!N871+N2+N3+N4+N5+N6+N7+N8+N9)/10 -> -10.789516 | S10: 0.93 | T10: 0.29 | U10: 0.14981808 | V10: 14.01113 | W10: 43.957222 | X10: -7.4025391 | Y10: =0.4*U10*1.25*O10/1.5 -> 0.025996409 | Z10: =0.4*U10*1.25*P10/1.5 -> 0.045860009 | AA10: =0.4*U10*1.25*Q10/1.5 -> 0.074458568 | AB10: =0.4*U10*1.25*R10/1.5 -> -0.53882152 | AC10: =-U10*U10*U10/W10 -> -7.6500178e-05
A11: 40752.006 | B11: 0.0062847222 | C11: 1.7028527 | D11: 2.6583401 | E11: 3.7151506 | F11: 25.9797 | G11: 1.2502217 | H11: 1.8813306 | I11: 2.1539701 | J11: 30.42153 | K11: =C11-G11 -> 0.45263101 | L11: =D11-H11 -> 0.77700951 | M11: =E11-I11 -> 1.5611805 | N11: =F11-J11 -> -4.4418304 | O11: =('270711'!K871+K2+K3+K4+K5+K6+K7+K8+K9+K10)/10 -> 0.51971141 | P11: =('270711'!L871+L2+L3+L4+L5+L6+L7+L8+L9+L10)/10 -> 0.93532582 | Q11: =('270711'!M871+M2+M3+M4+M5+M6+M7+M8+M9+M10)/10 -> 1.5011807 | R11: =('270711'!N871+N2+N3+N4+N5+N6+N7+N8+N9+N10)/10 -> -11.157324 | S11: 0.91 | T11: 0.28 | U11: 0.14602889 | V11: 14.008733 | W11: 43.477142 | X11: -6.9306447 | Y11: =0.4*U11*1.25*O11/1.5 -> 0.025297627 | Z11: =0.4*U11*1.25*P11/1.5 -> 0.045528197 | AA11: =0.4*U11*1.25*Q11/1.5 -> 0.073071915 | AB11: =0.4*U11*1.25*R11/1.5 -> -0.5430972 | AC11: =-U11*U11*U11/W11 -> -7.1623471e-05
A12: 40752.007 | B12: 0.0069791667 | C12: 1.7445822 | D12: 2.7703501 | E12: 3.4862078 | F12: 22.341981 | G12: 1.2380758 | H12: 1.8151947 | I12: 2.3265216 | J12: 38.122499 | K12: =C12-G12 -> 0.50650643 | L12: =D12-H12 -> 0.95515549 | M12: =E12-I12 -> 1.1596863 | N12: =F12-J12 -> -15.780518 | O12: =(K2+K3+K4+K5+K6+K7+K8+K9+K10+K11)/10 -> 0.50810568 | P12: =(L2+L3+L4+L5+L6+L7+L8+L9+L10+L11)/10 -> 0.92557878 | Q12: =(M2+M3+M4+M5+M6+M7+M8+M9+M10+M11)/10 -> 1.5221337 | R12: =(N2+N3+N4+N5+N6+N7+N8+N9+N10+N11)/10 -> -10.346473 | S12: 0.92 | T12: 0.29 | U12: 0.14672161 | V12: 13.99923 | W12: 42.727572 | X12: -7.1530681 | Y12: =0.4*U12*1.25*O12/1.5 -> 0.024850028 | Z12: =0.4*U12*1.25*P12/1.5 -> 0.04526747 | AA12: =0.4*U12*1.25*Q12/1.5 -> 0.074443301 | AB12: =0.4*U12*1.25*R12/1.5 -> -0.50601705 | AC12: =-U12*U12*U12/W12 -> -7.3922056e-05
A13: 40752.008 | B13: 0.0076736111 | C13: 1.6920013 | D13: 2.6054135 | E13: 3.3212712 | F13: 17.451877 | G13: 1.2119888 | H13: 1.799346 | I13: 2.1742509 | J13: 30.650759 | K13: =C13-G13 -> 0.48001255 | L13: =D13-H13 -> 0.80606747 | M13: =E13-I13 -> 1.1470203 | N13: =F13-J13 -> -13.198883 | O13: =(K3+K4+K5+K6+K7+K8+K9+K10+K11+K12)/10 -> 0.50782542 | P13: =(L3+L4+L5+L6+L7+L8+L9+L10+L11+L12)/10 -> 0.92624423 | Q13: =(M3+M4+M5+M6+M7+M8+M9+M10+M11+M12)/10 -> 1.481893 | R13: =(N3+N4+N5+N6+N7+N8+N9+N10+N11+N12)/10 -> -10.453677 | S13: 0.97 | T13: 0.29 | U13: 0.16212833 | V13: 13.98995 | W13: 48.996508 | X13: -8.4164681 | Y13: =0.4*U13*1.25*O13/1.5 -> 0.027444296 | Z13: =0.4*U13*1.25*P13/1.5 -> 0.05005681 | AA13: =0.4*U13*1.25*Q13/1.5 -> 0.080085611 | AB13: =0.4*U13*1.25*R13/1.5 -> -0.56494573 | AC13: =-U13*U13*U13/W13 -> -8.6978437e-05
A14: 40752.008 | B14: 0.0083680556 | C14: 1.7307839 | D14: 2.7739661 | E14: 3.5920892 | F14: 22.704704 | G14: 1.2517058 | H14: 1.8975991 | I14: 2.1702386 | J14: 39.441128 | K14: =C14-G14 -> 0.47907812 | L14: =D14-H14 -> 0.87636705 | M14: =E14-I14 -> 1.4218506 | N14: =F14-J14 -> -16.736424 | O14: =(K4+K5+K6+K7+K8+K9+K10+K11+K12+K13)/10 -> 0.50574287 | P14: =(L4+L5+L6+L7+L8+L9+L10+L11+L12+L13)/10 -> 0.91841225 | Q14: =(M4+M5+M6+M7+M8+M9+M10+M11+M12+M13)/10 -> 1.4638549 | R14: =(N4+N5+N6+N7+N8+N9+N10+N11+N12+N13)/10 -> -10.659275 | S14: 1 | T14: 0.29 | U14: 0.17128481 | V14: 13.988983 | W14: 52.903176 | X14: -9.1916424 | Y14: =0.4*U14*1.25*O14/1.5 -> 0.028875357 | Z14: =0.4*U14*1.25*P14/1.5 -> 0.052436689 | AA14: =0.4*U14*1.25*Q14/1.5 -> 0.083578704 | AB14: =0.4*U14*1.25*R14/1.5 -> -0.60859061 | AC14: =-U14*U14*U14/W14 -> -9.4989326e-05
A15: 40752.009 | B15: 0.0090625 | C15: 1.8153931 | D15: 2.7763115 | E15: 3.4580125 | F15: 21.986766 | G15: 1.2157717 | H15: 1.8222777 | I15: 2.1290739 | J15: 38.141085 | K15: =C15-G15 -> 0.59962135 | L15: =D15-H15 -> 0.95403373 | M15: =E15-I15 -> 1.3289386 | N15: =F15-J15 -> -16.154319 | O15: =(K5+K6+K7+K8+K9+K10+K11+K12+K13+K14)/10 -> 0.50795449 | P15: =(L5+L6+L7+L8+L9+L10+L11+L12+L13+L14)/10 -> 0.9194846 | Q15: =(M5+M6+M7+M8+M9+M10+M11+M12+M13+M14)/10 -> 1.4478899 | R15: =(N5+N6+N7+N8+N9+N10+N11+N12+N13+N14)/10 -> -11.160346 | S15: 0.98 | T15: 0.3 | U15: 0.16288231 | V15: 13.986133 | W15: 48.168049 | X15: -8.681225 | Y15: =0.4*U15*1.25*O15/1.5 -> 0.027578934 | Z15: =0.4*U15*1.25*P15/1.5 -> 0.049922592 | AA15: =0.4*U15*1.25*Q15/1.5 -> 0.078611881 | AB15: =0.4*U15*1.25*R15/1.5 -> -0.60594097 | AC15: =-U15*U15*U15/W15 -> -8.9714513e-05
A16: 40752.01 | B16: 0.0097569444 | C16: 1.7070436 | D16: 2.8298749 | E16: 3.511576 | F16: 23.428668 | G16: 1.2457981 | H16: 1.7675927 | I16: 2.0402322 | J16: 34.807567 | K16: =C16-G16 -> 0.46124555 | L16: =D16-H16 -> 1.0622822 | M16: =E16-I16 -> 1.4713438 | N16: =F16-J16 -> -11.378899 | O16: =(K6+K7+K8+K9+K10+K11+K12+K13+K14+K15)/10 -> 0.51268231 | P16: =(L6+L7+L8+L9+L10+L11+L12+L13+L14+L15)/10 -> 0.91393067 | Q16: =(M6+M7+M8+M9+M10+M11+M12+M13+M14+M15)/10 -> 1.4184672 | R16: =(N6+N7+N8+N9+N10+N11+N12+N13+N14+N15)/10 -> -11.534499 | S16: 1.02 | T16: 0.3 | U16: 0.17509624 | V16: 13.9801 | W16: 53.280798 | X16: -9.7494024 | Y16: =0.4*U16*1.25*O16/1.5 -> 0.029922915 | Z16: =0.4*U16*1.25*P16/1.5 -> 0.053341941 | AA16: =0.4*U16*1.25*Q16/1.5 -> 0.082789423 | AB16: =0.4*U16*1.25*R16/1.5 -> -0.67321582 | AC16: =-U16*U16*U16/W16 -> -0.00010075341
A17: 40752.01 | B17: 0.010451389 | C17: 1.745417 | D17: 2.6440964 | E17: 3.734859 | F17: 24.900309 | G17: 1.2812713 | H17: 1.8911713 | I17: 2.3343894 | J17: 41.655283 | K17: =C17-G17 -> 0.46414577 | L17: =D17-H17 -> 0.75292517 | M17: =E17-I17 -> 1.4004696 | N17: =F17-J17 -> -16.754974 | O17: =(K7+K8+K9+K10+K11+K12+K13+K14+K15+K16)/10 -> 0.50557326 | P17: =(L7+L8+L9+L10+L11+L12+L13+L14+L15+L16)/10 -> 0.90318832 | Q17: =(M7+M8+M9+M10+M11+M12+M13+M14+M15+M16)/10 -> 1.4349888 | R17: =(N7+N8+N9+N10+N11+N12+N13+N14+N15+N16)/10 -> -11.834534 | S17: 1.05 | T17: 0.3 | U17: 0.18418559 | V17: 13.976173 | W17: 57.238888 | X17: -10.563164 | Y17: =0.4*U17*1.25*O17/1.5 -> 0.03103977 | Z17: =0.4*U17*1.25*P17/1.5 -> 0.055451425 | AA17: =0.4*U17*1.25*Q17/1.5 -> 0.088101418 | AB17: =0.4*U17*1.25*R17/1.5 -> -0.72658355 | AC17: =-U17*U17*U17/W17 -> -0.00010916308
A18: 40752.011 | B18: 0.011145833 | C18: 1.8178932 | D18: 2.8644431 | E18: 3.5461442 | F18: 27.412693 | G18: 1.2486879 | H18: 1.8073958 | I18: 2.250614 | J18: 30.612503 | K18: =C18-G18 -> 0.56920526 | L18: =D18-H18 -> 1.0570473 | M18: =E18-I18 -> 1.2955302 | N18: =F18-J18 -> -3.1998107 | O18: =(K8+K9+K10+K11+K12+K13+K14+K15+K16+K17)/10 -> 0.49828075 | P18: =(L8+L9+L10+L11+L12+L13+L14+L15+L16+L17)/10 -> 0.88025445 | Q18: =(M8+M9+M10+M11+M12+M13+M14+M15+M16+M17)/10 -> 1.3677331 | R18: =(N8+N9+N10+N11+N12+N13+N14+N15+N16+N17)/10 -> -12.831457 | S18: 1.07 | T18: 0.31 | U18: 0.18802827 | V18: 13.970103 | W18: 57.586985 | X18: -11.170262 | Y18: =0.4*U18*1.25*O18/1.5 -> 0.031230289 | Z18: =0.4*U18*1.25*P18/1.5 -> 0.055170907 | AA18: =0.4*U18*1.25*Q18/1.5 -> 0.085724162 | AB18: =0.4*U18*1.25*R18/1.5 -> -0.80422558 | AC18: =-U18*U18*U18/W18 -> -0.00011543702
A19: 40752.012 | B19: 0.011840278 | C19: 1.7758481 | D19: 2.8651337 | E19: 4.0581617 | F19: 27.908184 | G19: 1.2802559 | H19: 1.8435744 | I19: 2.2526359 | J19: 38.699561 | K19: =C19-G19 -> 0.49559224 | L19: =D19-H19 -> 1.0215593 | M19: =E19-I19 -> 1.8055258 | N19: =F19-J19 -> -10.791377 | O19: =(K9+K10+K11+K12+K13+K14+K15+K16+K17+K18)/10 -> 0.49930572 | P19: =(L9+L10+L11+L12+L13+L14+L15+L16+L17+L18)/10 -> 0.89518576 | Q19: =(M9+M10+M11+M12+M13+M14+M15+M16+M17+M18)/10 -> 1.3519643 | R19: =(N9+N10+N11+N12+N13+N14+N15+N16+N17+N18)/10 -> -12.142945 | S19: 1.14 | T19: 0.31 | U19: 0.20900656 | V19: 13.964183 | W19: 67.096228 | X19: -13.167397 | Y19: =0.4*U19*1.25*O19/1.5 -> 0.034786057 | Z19: =0.4*U19*1.25*P19/1.5 -> 0.062366565 | AA19: =0.4*U19*1.25*Q19/1.5 -> 0.094189805 | AB19: =0.4*U19*1.25*R19/1.5 -> -0.84598505 | AC19: =-U19*U19*U19/W19 -> -0.00013607603
A20: 40752.013 | B20: 0.012534722 | C20: 1.7500127 | D20: 2.792677 | E20: 3.9517529 | F20: 29.286407 | G20: 1.2567205 | H20: 1.8616992 | I20: 2.2707607 | J20: 39.055113 | K20: =C20-G20 -> 0.49329226 | L20: =D20-H20 -> 0.93097783 | M20: =E20-I20 -> 1.6809922 | N20: =F20-J20 -> -9.7687059 | O20: =(K10+K11+K12+K13+K14+K15+K16+K17+K18+K19)/10 -> 0.49902534 | P20: =(L10+L11+L12+L13+L14+L15+L16+L17+L18+L19)/10 -> 0.91929965 | Q20: =(M10+M11+M12+M13+M14+M15+M16+M17+M18+M19)/10 -> 1.3931156 | R20: =(N10+N11+N12+N13+N14+N15+N16+N17+N18+N19)/10 -> -12.442224 | S20: 1.14 | T20: 0.32 | U20: 0.20691237 | V20: 13.955947 | W20: 64.603589 | X20: -13.268475 | Y20: =0.4*U20*1.25*O20/1.5 -> 0.034418172 | Z20: =0.4*U20*1.25*P20/1.5 -> 0.063404823 | AA20: =0.4*U20*1.25*Q20/1.5 -> 0.096084286 | AB20: =0.4*U20*1.25*R20/1.5 -> -0.85815005 | AC20: =-U20*U20*U20/W20 -> -0.0001371206
A21: 40752.013 | B21: 0.013229167 | C21: 1.7951535 | D21: 2.802127 | E21: 3.5521414 | F21: 28.811888 | G21: 1.2441742 | H21: 1.7303339 | I21: 2.1052388 | J21: 34.71839 | K21: =C21-G21 -> 0.55097929 | L21: =D21-H21 -> 1.0717931 | M21: =E21-I21 -> 1.4469025 | N21: =F21-J21 -> -5.9065023 | O21: =(K11+K12+K13+K14+K15+K16+K17+K18+K19+K20)/10 -> 0.50013305 | P21: =(L11+L12+L13+L14+L15+L16+L17+L18+L19+L20)/10 -> 0.91934251 | Q21: =(M11+M12+M13+M14+M15+M16+M17+M18+M19+M20)/10 -> 1.4272538 | R21: =(N11+N12+N13+N14+N15+N16+N17+N18+N19+N20)/10 -> -11.820574 | S21: 1.15 | T21: 0.34 | U21: 0.20577065 | V21: 13.950343 | W21: 61.3358 | X21: -13.74531 | Y21: =0.4*U21*1.25*O21/1.5 -> 0.034304235 | Z21: =0.4*U21*1.25*P21/1.5 -> 0.063057902 | AA21: =0.4*U21*1.25*Q21/1.5 -> 0.097895646 | AB21: =0.4*U21*1.25*R21/1.5 -> -0.81077574 | AC21: =-U21*U21*U21/W21 -> -0.00014204837
A22: 40752.014 | B22: 0.013923611 | C22: 1.8351932 | D22: 2.8562064 | E22: 3.5039554 | F22: 24.85525 | G22: 1.7354992 | H22: 2.5634308 | I22: 3.1428664 | J22: 33.7489 | K22: =C22-G22 -> 0.099693979 | L22: =D22-H22 -> 0.29277565 | M22: =E22-I22 -> 0.36108893 | N22: =F22-J22 -> -8.8936503 | O22: =(K12+K13+K14+K15+K16+K17+K18+K19+K20+K21)/10 -> 0.50996788 | P22: =(L12+L13+L14+L15+L16+L17+L18+L19+L20+L21)/10 -> 0.94882087 | Q22: =(M12+M13+M14+M15+M16+M17+M18+M19+M20+M21)/10 -> 1.415826 | R22: =(N12+N13+N14+N15+N16+N17+N18+N19+N20+N21)/10 -> -11.967041 | S22: 1.17 | T22: 0.34 | U22: 0.21176092 | V22: 13.941867 | W22: 63.935828 | X22: -14.371809 | Y22: =0.4*U22*1.25*O22/1.5 -> 0.035997089 | Z22: =0.4*U22*1.25*P22/1.5 -> 0.066974393 | AA22: =0.4*U22*1.25*Q22/1.5 -> 0.099938871 | AB22: =0.4*U22*1.25*R22/1.5 -> -0.84471722 | AC22: =-U22*U22*U22/W22 -> -0.00014852281
A23: 40752.015 | B23: 0.014618056 | C23: 1.8175628 | D23: 2.7413877 | E23: 4.0366811 | F23: 21.35152 | G23: 1.78582 | H23: 2.5313762 | I23: 3.1108119 | J23: 33.444411 | K23: =C23-G23 -> 0.031742718 | L23: =D23-H23 -> 0.2100115 | M23: =E23-I23 -> 0.9258692 | N23: =F23-J23 -> -12.092891 | O23: =(K13+K14+K15+K16+K17+K18+K19+K20+K21+K22)/10 -> 0.46928664 | P23: =(L13+L14+L15+L16+L17+L18+L19+L20+L21+L22)/10 -> 0.88258288 | Q23: =(M13+M14+M15+M16+M17+M18+M19+M20+M21+M22)/10 -> 1.3359662 | R23: =(N13+N14+N15+N16+N17+N18+N19+N20+N21+N22)/10 -> -11.278355 | S23: 1.15 | T23: 0.35 | U23: 0.20372842 | V23: 13.935057 | W23: 59.216194 | X23: -13.817601 | Y23: =0.4*U23*1.25*O23/1.5 -> 0.031869008 | Z23: =0.4*U23*1.25*P23/1.5 -> 0.059935739 | AA23: =0.4*U23*1.25*Q23/1.5 -> 0.090724764 | AB23: =0.4*U23*1.25*R23/1.5 -> -0.76590712 | AC23: =-U23*U23*U23/W23 -> -0.00014279545
... A546: 40752.378 | B546: 0.3778125 | C546: 3.360283 | D546: 4.440176 | E546: 5.6673606 | F546: 34.042749 | G546: 3.5336827 | H546: 4.3453991 | I546: 4.7544606 | J546: 50.80193 | K546: =C546-G546 -> -0.17339972 | L546: =D546-H546 -> 0.094776914 | M546: =E546-I546 -> 0.9129 | N546: =F546-J546 -> -16.75918 | O546: =(K536+K537+K538+K539+K540+K541+K542+K543+K544+K545)/10 -> -0.010176189 | P546: =(L536+L537+L538+L539+L540+L541+L542+L543+L544+L545)/10 -> 0.57379433 | Q546: =(M536+M537+M538+M539+M540+M541+M542+M543+M544+M545)/10 -> 1.9884723 | R546: =(N536+N537+N538+N539+N540+N541+N542+N543+N544+N545)/10 -> -5.3218796 | S546: 0.06 | T546: -0.04 | U546: 0.036218274 | V546: 24.12976 | W546: -2.752495 | X546: 1.6702251 | Y546: =0.4*U546*1.25*O546/1.5 -> -0.00012285467 | Z546: =0.4*U546*1.25*P546/1.5 -> 0.0069272801 | AA546: =0.4*U546*1.25*Q546/1.5 -> 0.024006345 | AB546: =0.4*U546*1.25*R546/1.5 -> -0.064249765 | AC546: =-U546*U546*U546/W546 -> 1.7260633e-05
A547: 40752.378 | B547: 0.37850694 | C547: 3.4112316 | D547: 4.6629655 | E547: 6.1969463 | F547: 64.640894 | G547: 3.551013 | H547: 4.2230249 | I547: 4.4956644 | J547: 60.538241 | K547: =C547-G547 -> -0.13978144 | L547: =D547-H547 -> 0.43994056 | M547: =E547-I547 -> 1.7012818 | N547: =F547-J547 -> 4.1026531 | O547: =(K537+K538+K539+K540+K541+K542+K543+K544+K545+K546)/10 -> -0.025673575 | P547: =(L537+L538+L539+L540+L541+L542+L543+L544+L545+L546)/10 -> 0.50810247 | Q547: =(M537+M538+M539+M540+M541+M542+M543+M544+M545+M546)/10 -> 1.8716478 | R547: =(N537+N538+N539+N540+N541+N542+N543+N544+N545+N546)/10 -> -6.6800554 | S547: 0 | T547: 0 | U547: NaN | V547: 24.78525 | W547: 0 | X547: 0 | Y547: =0.4*U547*1.25*O547/1.5 -> #VALUE! | Z547: =0.4*U547*1.25*P547/1.5 -> #VALUE! | AA547: =0.4*U547*1.25*Q547/1.5 -> #VALUE! | AB547: =0.4*U547*1.25*R547/1.5 -> #VALUE! | AC547: =-U547*U547*U547/W547 -> #VALUE!
A548: 40752.379 | B548: 0.37920139 | C548: 3.6156781 | D548: 6.1498297 | E548: 11.9448 | F548: 152.63664 | G548: 3.5930767 | H548: 4.9484968 | I548: 6.209838 | J548: 196.79485 | K548: =C548-G548 -> 0.022601401 | L548: =D548-H548 -> 1.2013329 | M548: =E548-I548 -> 5.734962 | N548: =F548-J548 -> -44.158209 | O548: =(K538+K539+K540+K541+K542+K543+K544+K545+K546+K547)/10 -> -0.046569343 | P548: =(L538+L539+L540+L541+L542+L543+L544+L545+L546+L547)/10 -> 0.48642711 | Q548: =(M538+M539+M540+M541+M542+M543+M544+M545+M546+M547)/10 -> 1.7988397 | R548: =(N538+N539+N540+N541+N542+N543+N544+N545+N546+N547)/10 -> -3.9997909 | S548: 0 | T548: 0 | U548: NaN | V548: 24.982077 | W548: 0 | X548: 0 | Y548: =0.4*U548*1.25*O548/1.5 -> #VALUE! | Z548: =0.4*U548*1.25*P548/1.5 -> #VALUE! | AA548: =0.4*U548*1.25*Q548/1.5 -> #VALUE! | AB548: =0.4*U548*1.25*R548/1.5 -> #VALUE! | AC548: =-U548*U548*U548/W548 -> #VALUE!
A549: 40752.38 | B549: 0.37989583 | C549: 3.4973822 | D549: 5.4857452 | E549: 8.6901288 | F549: 88.911793 | G549: 3.5391546 | H549: 4.3863233 | I549: 4.8976502 | J549: 102.05942 | K549: =C549-G549 -> -0.041772488 | L549: =D549-H549 -> 1.0994219 | M549: =E549-I549 -> 3.7924785 | N549: =F549-J549 -> -13.147627 | O549: =(K539+K540+K541+K542+K543+K544+K545+K546+K547+K548)/10 -> -0.046273528 | P549: =(L539+L540+L541+L542+L543+L544+L545+L546+L547+L548)/10 -> 0.50718203 | Q549: =(M539+M540+M541+M542+M543+M544+M545+M546+M547+M548)/10 -> 2.0309363 | R549: =(N539+N540+N541+N542+N543+N544+N545+N546+N547+N548)/10 -> -10.527908 | S549: 0 | T549: 0 | U549: NaN | V549: 24.655337 | W549: 0 | X549: 0 | Y549: =0.4*U549*1.25*O549/1.5 -> #VALUE! | Z549: =0.4*U549*1.25*P549/1.5 -> #VALUE! | AA549: =0.4*U549*1.25*Q549/1.5 -> #VALUE! | AB549: =0.4*U549*1.25*R549/1.5 -> #VALUE! | AC549: =-U549*U549*U549/W549 -> #VALUE!
A550: 40752.381 | B550: 0.38059028 | C550: 3.4226159 | D550: 4.7294708 | E550: 6.4338257 | F550: 55.0144 | G550: 3.5507446 | H550: 4.4619406 | I550: 4.9051588 | J550: 89.224213 | K550: =C550-G550 -> -0.12812862 | L550: =D550-H550 -> 0.26753017 | M550: =E550-I550 -> 1.5286669 | N550: =F550-J550 -> -34.209813 | O550: =(K540+K541+K542+K543+K544+K545+K546+K547+K548+K549)/10 -> -0.045929112 | P550: =(L540+L541+L542+L543+L544+L545+L546+L547+L548+L549)/10 -> 0.52758048 | Q550: =(M540+M541+M542+M543+M544+M545+M546+M547+M548+M549)/10 -> 2.0786191 | R550: =(N540+N541+N542+N543+N544+N545+N546+N547+N548+N549)/10 -> -13.965663 | S550: 0 | T550: 0 | U550: NaN | V550: 24.514583 | W550: 0 | X550: 0 | Y550: =0.4*U550*1.25*O550/1.5 -> #VALUE! | Z550: =0.4*U550*1.25*P550/1.5 -> #VALUE! | AA550: =0.4*U550*1.25*Q550/1.5 -> #VALUE! | AB550: =0.4*U550*1.25*R550/1.5 -> #VALUE! | AC550: =-U550*U550*U550/W550 -> #VALUE!
A551: 40752.381 | B551: 0.38128472 | C551: 3.5256492 | D551: 5.5482644 | E551: 8.2071645 | F551: 87.308753 | G551: 3.5774783 | H551: 4.4626005 | I551: 5.2126149 | J551: 110.54763 | K551: =C551-G551 -> -0.05182912 | L551: =D551-H551 -> 1.0856639 | M551: =E551-I551 -> 2.9945496 | N551: =F551-J551 -> -23.238878 | O551: =(K541+K542+K543+K544+K545+K546+K547+K548+K549+K550)/10 -> -0.060521802 | P551: =(L541+L542+L543+L544+L545+L546+L547+L548+L549+L550)/10 -> 0.4654318 | Q551: =(M541+M542+M543+M544+M545+M546+M547+M548+M549+M550)/10 -> 1.9926017 | R551: =(N541+N542+N543+N544+N545+N546+N547+N548+N549+N550)/10 -> -16.646973 | S551: 0 | T551: 0 | U551: NaN | V551: 24.285497 | W551: 0 | X551: 0 | Y551: =0.4*U551*1.25*O551/1.5 -> #VALUE! | Z551: =0.4*U551*1.25*P551/1.5 -> #VALUE! | AA551: =0.4*U551*1.25*Q551/1.5 -> #VALUE! | AB551: =0.4*U551*1.25*R551/1.5 -> #VALUE! | AC551: =-U551*U551*U551/W551 -> #VALUE!
A552: 40752.382 | B552: 0.38197917 | C552: 3.5168815 | D552: 5.1536343 | E552: 8.2897046 | F552: 78.271397 | G552: 3.5661727 | H552: 4.5161758 | I552: 5.0956114 | J552: 97.166742 | K552: =C552-G552 -> -0.049291186 | L552: =D552-H552 -> 0.63745854 | M552: =E552-I552 -> 3.1940932 | N552: =F552-J552 -> -18.895345 | O552: =(K542+K543+K544+K545+K546+K547+K548+K549+K550+K551)/10 -> -0.053650954 | P552: =(L542+L543+L544+L545+L546+L547+L548+L549+L550+L551)/10 -> 0.54020598 | Q552: =(M542+M543+M544+M545+M546+M547+M548+M549+M550+M551)/10 -> 2.1321303 | R552: =(N542+N543+N544+N545+N546+N547+N548+N549+N550+N551)/10 -> -18.170617 | S552: 0 | T552: 0 | U552: NaN | V552: 24.683647 | W552: 0 | X552: 0 | Y552: =0.4*U552*1.25*O552/1.5 -> #VALUE! | Z552: =0.4*U552*1.25*P552/1.5 -> #VALUE! | AA552: =0.4*U552*1.25*Q552/1.5 -> #VALUE! | AB552: =0.4*U552*1.25*R552/1.5 -> #VALUE! | AC552: =-U552*U552*U552/W552 -> #VALUE!
A553: 40752.383 | B553: 0.38267361 | C553: 3.4972731 | D553: 4.9426858 | E553: 6.3744012 | F553: 52.417698 | G553: 3.573763 | H553: 4.3672114 | I553: 4.8785383 | J553: 71.379264 | K553: =C553-G553 -> -0.076489906 | L553: =D553-H553 -> 0.57547439 | M553: =E553-I553 -> 1.4958629 | N553: =F553-J553 -> -18.961567 | O553: =(K543+K544+K545+K546+K547+K548+K549+K550+K551+K552)/10 -> -0.067871815 | P553: =(L543+L544+L545+L546+L547+L548+L549+L550+L551+L552)/10 -> 0.54793688 | Q553: =(M543+M544+M545+M546+M547+M548+M549+M550+M551+M552)/10 -> 2.2421266 | R553: =(N543+N544+N545+N546+N547+N548+N549+N550+N551+N552)/10 -> -22.612307 | S553: 0 | T553: 0 | U553: NaN | V553: 25.128183 | W553: 0 | X553: 0 | Y553: =0.4*U553*1.25*O553/1.5 -> #VALUE! | Z553: =0.4*U553*1.25*P553/1.5 -> #VALUE! | AA553: =0.4*U553*1.25*Q553/1.5 -> #VALUE! | AB553: =0.4*U553*1.25*R553/1.5 -> #VALUE! | AC553: =-U553*U553*U553/W553 -> #VALUE!
A554: 40752.383 | B554: 0.38336806 | C554: 3.5165228 | D554: 4.2647898 | E554: 4.7761167 | F554: 13.667544 | G554: 3.5024554 | H554: 4.1185485 | I554: 4.2889226 | J554: 19.57354 | K554: =C554-G554 -> 0.01406741 | L554: =D554-H554 -> 0.1462413 | M554: =E554-I554 -> 0.4871941 | N554: =F554-J554 -> -5.905996 | O554: =(K544+K545+K546+K547+K548+K549+K550+K551+K552+K553)/10 -> -0.075417407 | P554: =(L544+L545+L546+L547+L548+L549+L550+L551+L552+L553)/10 -> 0.55758378 | Q554: =(M544+M545+M546+M547+M548+M549+M550+M551+M552+M553)/10 -> 2.1972252 | R554: =(N544+N545+N546+N547+N548+N549+N550+N551+N552+N553)/10 -> -20.224007 | S554: 0 | T554: 0 | U554: NaN | V554: 25.431933 | W554: 0 | X554: 0 | Y554: =0.4*U554*1.25*O554/1.5 -> #VALUE! | Z554: =0.4*U554*1.25*P554/1.5 -> #VALUE! | AA554: =0.4*U554*1.25*Q554/1.5 -> #VALUE! | AB554: =0.4*U554*1.25*R554/1.5 -> #VALUE! | AC554: =-U554*U554*U554/W554 -> #VALUE!
A555: 40752.384 | B555: 0.3840625 | C555: 3.5066015 | D555: 5.4361776 | E555: 7.9586556 | F555: 83.194416 | G555: 3.5075092 | H555: 4.5139529 | I555: 5.2639673 | J555: 122.09373 | K555: =C555-G555 -> -0.00090762739 | L555: =D555-H555 -> 0.92222465 | M555: =E555-I555 -> 2.6946883 | N555: =F555-J555 -> -38.899311 | O555: =(K545+K546+K547+K548+K549+K550+K551+K552+K553+K554)/10 -> -0.066205731 | P555: =(L545+L546+L547+L548+L549+L550+L551+L552+L553+L554)/10 -> 0.58435255 | Q555: =(M545+M546+M547+M548+M549+M550+M551+M552+M553+M554)/10 -> 2.2376361 | R555: =(N545+N546+N547+N548+N549+N550+N551+N552+N553+N554)/10 -> -18.647978 | S555: 0 | T555: 0 | U555: NaN | V555: 25.518093 | W555: 0 | X555: 0 | Y555: =0.4*U555*1.25*O555/1.5 -> #VALUE! | Z555: =0.4*U555*1.25*P555/1.5 -> #VALUE! | AA555: =0.4*U555*1.25*Q555/1.5 -> #VALUE! | AB555: =0.4*U555*1.25*R555/1.5 -> #VALUE! | AC555: =-U555*U555*U555/W555 -> #VALUE!
A556: 40752.385 | B556: 0.38475694 | C556: 3.4987741 | D556: 4.3548131 | E556: 5.1387796 | F556: 28.40656 | G556: 3.4364074 | H556: 4.0776145 | I556: 4.5208327 | J556: 50.332519 | K556: =C556-G556 -> 0.062366732 | L556: =D556-H556 -> 0.27719861 | M556: =E556-I556 -> 0.61794688 | N556: =F556-J556 -> -21.925958 | O556: =(K546+K547+K548+K549+K550+K551+K552+K553+K554+K555)/10 -> -0.062493129 | P556: =(L546+L547+L548+L549+L550+L551+L552+L553+L554+L555)/10 -> 0.64700652 | Q556: =(M546+M547+M548+M549+M550+M551+M552+M553+M554+M555)/10 -> 2.4536677 | R556: =(N546+N547+N548+N549+N550+N551+N552+N553+N554+N555)/10 -> -21.007327 | S556: 0 | T556: 0 | U556: NaN | V556: 24.597003 | W556: 0 | X556: 0 | Y556: =0.4*U556*1.25*O556/1.5 -> #VALUE! | Z556: =0.4*U556*1.25*P556/1.5 -> #VALUE! | AA556: =0.4*U556*1.25*Q556/1.5 -> #VALUE! | AB556: =0.4*U556*1.25*R556/1.5 -> #VALUE! | AC556: =-U556*U556*U556/W556 -> #VALUE!
A557: 40752.385 | B557: 0.38545139 | C557: 3.5328728 | D557: 5.0689294 | E557: 6.2961141 | F557: 64.887472 | G557: 3.4905639 | H557: 4.2672236 | I557: 5.1876121 | J557: 96.542198 | K557: =C557-G557 -> 0.042308931 | L557: =D557-H557 -> 0.80170579 | M557: =E557-I557 -> 1.108502 | N557: =F557-J557 -> -31.654726 | O557: =(K547+K548+K549+K550+K551+K552+K553+K554+K555+K556)/10 -> -0.038916484 | P557: =(L547+L548+L549+L550+L551+L552+L553+L554+L555+L556)/10 -> 0.66524869 | Q557: =(M547+M548+M549+M550+M551+M552+M553+M554+M555+M556)/10 -> 2.4241724 | R557: =(N547+N548+N549+N550+N551+N552+N553+N554+N555+N556)/10 -> -21.524005 | S557: 0 | T557: 0 | U557: NaN | V557: 23.33499 | W557: 0 | X557: 0 | Y557: =0.4*U557*1.25*O557/1.5 -> #VALUE! | Z557: =0.4*U557*1.25*P557/1.5 -> #VALUE! | AA557: =0.4*U557*1.25*Q557/1.5 -> #VALUE! | AB557: =0.4*U557*1.25*R557/1.5 -> #VALUE! | AC557: =-U557*U557*U557/W557 -> #VALUE!
