Workbook

Sheet 270711
B1: Time | C1: PM0.5 | D1: PM1.0 | E1: PM1.5 | F1: PM15 | G1: PM0.5 | H1: PM1.0 | I1: PM1.5 | J1: PM15 | K1: dPM0.5 | L1: dPM1.0 | M1: dPM1.5 | N1: dPM15 | O1: dPM0.5-10m | P1: dPM1.0-10m | Q1: dPM1.5-10m | R1: dPM15-10m | S1: dv10 | T1: dt10 | U1: Ustar | V1: Tsurf | W1: Tstar | X1: L | Y1: Heat | Z1: FPM0.5 | AA1: FPM1.0 | AB1: FPM1.5 | AC1: FPM15
B2: 0.39622685 | C2: 1.0351841 | D2: 3.359067 | E2: 8.9155545 | F2: 1175.9225 | G2: 0.78903965 | H2: 1.5415465 | I2: 2.2915608 | J2: 136.98082 | K2: =C2-G2 -> 0.24614448 | L2: =D2-H2 -> 1.8175205 | M2: =E2-I2 -> 6.6239937 | N2: =F2-J2 -> 1038.9417
B3: 0.3969213 | C3: 1.0708978 | D3: 4.4937819 | E3: 12.675013 | F3: 434.46279 | G3: 0.82607202 | H3: 2.0315974 | I3: 3.770109 | J3: 161.81727 | K3: =C3-G3 -> 0.24482575 | L3: =D3-H3 -> 2.4621845 | M3: =E3-I3 -> 8.9049038 | N3: =F3-J3 -> 272.64552
B4: 0.39761574 | C4: 0.98649191 | D4: 3.4334147 | E4: 8.8876368 | F4: 114.88334 | G4: 0.79493594 | H4: 1.7860253 | I4: 2.7745225 | J4: 140.56517 | K4: =C4-G4 -> 0.19155597 | L4: =D4-H4 -> 1.6473894 | M4: =E4-I4 -> 6.1131143 | N4: =F4-J4 -> -25.681832
B5: 0.39831019 | C5: 0.91839347 | D5: 3.510034 | E5: 8.0097109 | F5: 79.237699 | G5: 0.76996854 | H5: 1.6656667 | I5: 2.8928513 | J5: 118.42122 | K5: =C5-G5 -> 0.14842493 | L5: =D5-H5 -> 1.8443673 | M5: =E5-I5 -> 5.1168596 | N5: =F5-J5 -> -39.183524
B6: 0.39900463 | C6: 1.0766839 | D6: 4.6551133 | E6: 11.131989 | F6: 54.88603 | G6: 0.83392767 | H6: 2.1290216 | I6: 3.6288458 | J6: 179.39325 | K6: =C6-G6 -> 0.24275625 | L6: =D6-H6 -> 2.5260917 | M6: =E6-I6 -> 7.5031435 | N6: =F6-J6 -> -124.50722
B7: 0.39969907 | C7: 2.137174 | D7: 10.401386 | E7: 25.57082 | F7: 3313.7441 | G7: 1.0237744 | H7: 3.2476788 | I7: 6.0088442 | J7: 345.51292 | K7: =C7-G7 -> 1.1133996 | L7: =D7-H7 -> 7.1537076 | M7: =E7-I7 -> 19.561976 | N7: =F7-J7 -> 2968.2311
B8: 0.40039352 | C8: 0.96390225 | D8: 3.5111499 | E8: 8.8970587 | F8: 621.30925 | G8: 2.2337668 | H8: 6.5888384 | I8: 12.111169 | J8: 3150.6891 | K8: =C8-G8 -> -1.2698646 | L8: =D8-H8 -> -3.0776885 | M8: =E8-I8 -> -3.2141105 | N8: =F8-J8 -> -2529.3799
B9: 0.40108796 | C9: 1.1331055 | D9: 5.7853185 | E9: 15.125625 | F9: 747.7215 | G9: 0.7738361 | H9: 1.7935897 | I9: 3.7707887 | J9: 175.24625 | K9: =C9-G9 -> 0.35926937 | L9: =D9-H9 -> 3.9917288 | M9: =E9-I9 -> 11.354837 | N9: =F9-J9 -> 572.47526
B10: 0.40178241 | C10: 0.99537526 | D10: 4.1347731 | E10: 9.6229473 | F10: 351.24932 | G10: 0.76114737 | H10: 1.7388302 | I10: 2.761484 | J10: 122.87089 | K10: =C10-G10 -> 0.23422788 | L10: =D10-H10 -> 2.395943 | M10: =E10-I10 -> 6.8614633 | N10: =F10-J10 -> 228.37843
B11: 0.40247685 | C11: 0.87314927 | D11: 2.586103 | E11: 6.3018136 | F11: 19.073271 | G11: 0.59369066 | H11: 1.1739213 | I11: 1.889779 | J11: 78.023184 | K11: =C11-G11 -> 0.27945861 | L11: =D11-H11 -> 1.4121818 | M11: =E11-I11 -> 4.4120346 | N11: =F11-J11 -> -58.949913 | O11: =(K2+K3+K4+K5+K6+K7+K8+K9+K10+K11)/10 -> 0.17901983 | P11: =(L2+L3+L4+L5+L6+L7+L8+L9+L10+L11)/10 -> 2.2173426 | Q11: =(M2+M3+M4+M5+M6+M7+M8+M9+M10+M11)/10 -> 7.3238215 | R11: =(N2+N3+N4+N5+N6+N7+N8+N9+N10+N11)/10 -> 230.29696
B12: 0.4031713 | C12: 0.91097774 | D12: 2.1650306 | E12: 4.2784471 | F12: 15.256252 | G12: 0.59314066 | H12: 1.1502026 | I12: 1.5251075 | J12: 80.738386 | K12: =C12-G12 -> 0.31783707 | L12: =D12-H12 -> 1.014828 | M12: =E12-I12 -> 2.7533396 | N12: =F12-J12 -> -65.482135 | O12: =(K3+K4+K5+K6+K7+K8+K9+K10+K11+K12)/10 -> 0.18618909 | P12: =(L3+L4+L5+L6+L7+L8+L9+L10+L11+L12)/10 -> 2.1370734 | Q12: =(M3+M4+M5+M6+M7+M8+M9+M10+M11+M12)/10 -> 6.9367561 | R12: =(N3+N4+N5+N6+N7+N8+N9+N10+N11+N12)/10 -> 119.85458
B13: 0.40386574 | C13: 0.88294508 | D13: 2.4551424 | E13: 5.2844166 | F13: 43.248109 | G13: 0.5953932 | H13: 1.3197207 | I13: 1.9674697 | J13: 100.05927 | K13: =C13-G13 -> 0.28755188 | L13: =D13-H13 -> 1.1354217 | M13: =E13-I13 -> 3.3169469 | N13: =F13-J13 -> -56.811157 | O13: =(K4+K5+K6+K7+K8+K9+K10+K11+K12+K13)/10 -> 0.1904617 | P13: =(L4+L5+L6+L7+L8+L9+L10+L11+L12+L13)/10 -> 2.0043971 | Q13: =(M4+M5+M6+M7+M8+M9+M10+M11+M12+M13)/10 -> 6.3779604 | R13: =(N4+N5+N6+N7+N8+N9+N10+N11+N12+N13)/10 -> 86.908917
B14: 0.40456019 | C14: 0.90450052 | D14: 2.440514 | E14: 4.8607266 | F14: 31.519987 | G14: 0.5682773 | H14: 1.215805 | I14: 1.8293973 | J14: 84.52235 | K14: =C14-G14 -> 0.33622322 | L14: =D14-H14 -> 1.224709 | M14: =E14-I14 -> 3.0313293 | N14: =F14-J14 -> -53.002363 | O14: =(K5+K6+K7+K8+K9+K10+K11+K12+K13+K14)/10 -> 0.20492843 | P14: =(L5+L6+L7+L8+L9+L10+L11+L12+L13+L14)/10 -> 1.962129 | Q14: =(M5+M6+M7+M8+M9+M10+M11+M12+M13+M14)/10 -> 6.0697819 | R14: =(N5+N6+N7+N8+N9+N10+N11+N12+N13+N14)/10 -> 84.176863
B15: 0.40525463 | C15: 1.0294568 | D15: 4.3810242 | E15: 10.960165 | F15: 134.64323 | G15: 0.7399066 | H15: 2.1295589 | I15: 3.3567436 | J15: 183.2346 | K15: =C15-G15 -> 0.28955017 | L15: =D15-H15 -> 2.2514652 | M15: =E15-I15 -> 7.6034219 | N15: =F15-J15 -> -48.591375 | O15: =(K6+K7+K8+K9+K10+K11+K12+K13+K14+K15)/10 -> 0.21904095 | P15: =(L6+L7+L8+L9+L10+L11+L12+L13+L14+L15)/10 -> 2.0028388 | Q15: =(M6+M7+M8+M9+M10+M11+M12+M13+M14+M15)/10 -> 6.3184381 | R15: =(N6+N7+N8+N9+N10+N11+N12+N13+N14+N15)/10 -> 83.236078
B16: 0.40594907 | C16: 0.9616981 | D16: 3.6406796 | E16: 8.6175269 | F16: 42.576474 | G16: 0.67635968 | H16: 1.5141065 | I16: 2.7071345 | J16: 134.64516 | K16: =C16-G16 -> 0.28533843 | L16: =D16-H16 -> 2.1265731 | M16: =E16-I16 -> 5.9103924 | N16: =F16-J16 -> -92.068683 | O16: =(K7+K8+K9+K10+K11+K12+K13+K14+K15+K16)/10 -> 0.22329917 | P16: =(L7+L8+L9+L10+L11+L12+L13+L14+L15+L16)/10 -> 1.962887 | Q16: =(M7+M8+M9+M10+M11+M12+M13+M14+M15+M16)/10 -> 6.159163 | R16: =(N7+N8+N9+N10+N11+N12+N13+N14+N15+N16)/10 -> 86.479932
B17: 0.40664352 | C17: 1.0386719 | D17: 4.5492553 | E17: 11.844254 | F17: 106.92812 | G17: 0.69095322 | H17: 1.7187057 | I17: 2.8436249 | J17: 149.81832 | K17: =C17-G17 -> 0.34771867 | L17: =D17-H17 -> 2.8305496 | M17: =E17-I17 -> 9.0006293 | N17: =F17-J17 -> -42.890202 | O17: =(K8+K9+K10+K11+K12+K13+K14+K15+K16+K17)/10 -> 0.14673107 | P17: =(L8+L9+L10+L11+L12+L13+L14+L15+L16+L17)/10 -> 1.5305712 | Q17: =(M8+M9+M10+M11+M12+M13+M14+M15+M16+M17)/10 -> 5.1030283 | R17: =(N8+N9+N10+N11+N12+N13+N14+N15+N16+N17)/10 -> -214.6322
B18: 0.40733796 | C18: 0.8945792 | D18: 3.334599 | E18: 7.9365413 | F18: 53.364593 | G18: 0.73352756 | H18: 1.8841996 | I18: 3.3840237 | J18: 183.52079 | K18: =C18-G18 -> 0.16105164 | L18: =D18-H18 -> 1.4503994 | M18: =E18-I18 -> 4.5525176 | N18: =F18-J18 -> -130.15619 | O18: =(K9+K10+K11+K12+K13+K14+K15+K16+K17+K18)/10 -> 0.28982269 | P18: =(L9+L10+L11+L12+L13+L14+L15+L16+L17+L18)/10 -> 1.98338 | Q18: =(M9+M10+M11+M12+M13+M14+M15+M16+M17+M18)/10 -> 5.8796912 | R18: =(N9+N10+N11+N12+N13+N14+N15+N16+N17+N18)/10 -> 25.290167
C19: 0 | D19: 0 | E19: 0 | F19: 0 | G19: 0 | H19: 0 | I19: 0 | J19: 0 | K19: =C19-G19 -> 0 | L19: =D19-H19 -> 0 | M19: =E19-I19 -> 0 | N19: =F19-J19 -> 0 | O19: =(K10+K11+K12+K13+K14+K15+K16+K17+K18+K19)/10 -> 0.25389576 | P19: =(L10+L11+L12+L13+L14+L15+L16+L17+L18+L19)/10 -> 1.5842071 | Q19: =(M10+M11+M12+M13+M14+M15+M16+M17+M18+M19)/10 -> 4.7442075 | R19: =(N10+N11+N12+N13+N14+N15+N16+N17+N18+N19)/10 -> -31.957359
C20: 0 | D20: 0 | E20: 0 | F20: 0 | G20: 0 | H20: 0 | I20: 0 | J20: 0 | K20: =C20-G20 -> 0 | L20: =D20-H20 -> 0 | M20: =E20-I20 -> 0 | N20: =F20-J20 -> 0 | O20: =(K11+K12+K13+K14+K15+K16+K17+K18+K19+K20)/10 -> 0.23047297 | P20: =(L11+L12+L13+L14+L15+L16+L17+L18+L19+L20)/10 -> 1.3446128 | Q20: =(M11+M12+M13+M14+M15+M16+M17+M18+M19+M20)/10 -> 4.0580612 | R20: =(N11+N12+N13+N14+N15+N16+N17+N18+N19+N20)/10 -> -54.795202
C21: 0 | D21: 0 | E21: 0 | F21: 0 | G21: 0 | H21: 0 | I21: 0 | J21: 0 | K21: =C21-G21 -> 0 | L21: =D21-H21 -> 0 | M21: =E21-I21 -> 0 | N21: =F21-J21 -> 0 | O21: =(K12+K13+K14+K15+K16+K17+K18+K19+K20+K21)/10 -> 0.20252711 | P21: =(L12+L13+L14+L15+L16+L17+L18+L19+L20+L21)/10 -> 1.2033946 | Q21: =(M12+M13+M14+M15+M16+M17+M18+M19+M20+M21)/10 -> 3.6168577 | R21: =(N12+N13+N14+N15+N16+N17+N18+N19+N20+N21)/10 -> -48.900211
C22: 0 | D22: 0 | E22: 0 | F22: 0 | G22: 0 | H22: 0 | I22: 0 | J22: 0 | K22: =C22-G22 -> 0 | L22: =D22-H22 -> 0 | M22: =E22-I22 -> 0 | N22: =F22-J22 -> 0 | O22: =(K13+K14+K15+K16+K17+K18+K19+K20+K21+K22)/10 -> 0.1707434 | P22: =(L13+L14+L15+L16+L17+L18+L19+L20+L21+L22)/10 -> 1.1019118 | Q22: =(M13+M14+M15+M16+M17+M18+M19+M20+M21+M22)/10 -> 3.3415237 | R22: =(N13+N14+N15+N16+N17+N18+N19+N20+N21+N22)/10 -> -42.351997
C23: 0 | D23: 0 | E23: 0 | F23: 0 | G23: 0 | H23: 0 | I23: 0 | J23: 0 | K23: =C23-G23 -> 0 | L23: =D23-H23 -> 0 | M23: =E23-I23 -> 0 | N23: =F23-J23 -> 0 | O23: =(K14+K15+K16+K17+K18+K19+K20+K21+K22+K23)/10 -> 0.14198821 | P23: =(L14+L15+L16+L17+L18+L19+L20+L21+L22+L23)/10 -> 0.98836963 | Q23: =(M14+M15+M16+M17+M18+M19+M20+M21+M22+M23)/10 -> 3.0098291 | R23: =(N14+N15+N16+N17+N18+N19+N20+N21+N22+N23)/10 -> -36.670882
C24: 0 | D24: 0 | E24: 0 | F24: 0 | G24: 0 | H24: 0 | I24: 0 | J24: 0 | K24: =C24-G24 -> 0 | L24: =D24-H24 -> 0 | M24: =E24-I24 -> 0 | N24: =F24-J24 -> 0 | O24: =(K15+K16+K17+K18+K19+K20+K21+K22+K23+K24)/10 -> 0.10836589 | P24: =(L15+L16+L17+L18+L19+L20+L21+L22+L23+L24)/10 -> 0.86589873 | Q24: =(M15+M16+M17+M18+M19+M20+M21+M22+M23+M24)/10 -> 2.7066961 | R24: =(N15+N16+N17+N18+N19+N20+N21+N22+N23+N24)/10 -> -31.370645
C25: 0 | D25: 0 | E25: 0 | F25: 0 | G25: 0 | H25: 0 | I25: 0 | J25: 0 | K25: =C25-G25 -> 0 | L25: =D25-H25 -> 0 | M25: =E25-I25 -> 0 | N25: =F25-J25 -> 0 | O25: =(K16+K17+K18+K19+K20+K21+K22+K23+K24+K25)/10 -> 0.079410873 | P25: =(L16+L17+L18+L19+L20+L21+L22+L23+L24+L25)/10 -> 0.64075221 | Q25: =(M16+M17+M18+M19+M20+M21+M22+M23+M24+M25)/10 -> 1.9463539 | R25: =(N16+N17+N18+N19+N20+N21+N22+N23+N24+N25)/10 -> -26.511508
C26: 0 | D26: 0 | E26: 0 | F26: 0 | G26: 0 | H26: 0 | I26: 0 | J26: 0 | K26: =C26-G26 -> 0 | L26: =D26-H26 -> 0 | M26: =E26-I26 -> 0 | N26: =F26-J26 -> 0 | O26: =(K17+K18+K19+K20+K21+K22+K23+K24+K25+K26)/10 -> 0.050877031 | P26: =(L17+L18+L19+L20+L21+L22+L23+L24+L25+L26)/10 -> 0.42809489 | Q26: =(M17+M18+M19+M20+M21+M22+M23+M24+M25+M26)/10 -> 1.3553147 | R26: =(N17+N18+N19+N20+N21+N22+N23+N24+N25+N26)/10 -> -17.30464
C27: 0 | D27: 0 | E27: 0 | F27: 0 | G27: 0 | H27: 0 | I27: 0 | J27: 0 | K27: =C27-G27 -> 0 | L27: =D27-H27 -> 0 | M27: =E27-I27 -> 0 | N27: =F27-J27 -> 0 | O27: =(K18+K19+K20+K21+K22+K23+K24+K25+K26+K27)/10 -> 0.016105164 | P27: =(L18+L19+L20+L21+L22+L23+L24+L25+L26+L27)/10 -> 0.14503994 | Q27: =(M18+M19+M20+M21+M22+M23+M24+M25+M26+M27)/10 -> 0.45525176 | R27: =(N18+N19+N20+N21+N22+N23+N24+N25+N26+N27)/10 -> -13.015619
C28: 0 | D28: 0 | E28: 0 | F28: 0 | G28: 0 | H28: 0 | I28: 0 | J28: 0 | K28: =C28-G28 -> 0 | L28: =D28-H28 -> 0 | M28: =E28-I28 -> 0 | N28: =F28-J28 -> 0 | O28: =(K19+K20+K21+K22+K23+K24+K25+K26+K27+K28)/10 -> 0 | P28: =(L19+L20+L21+L22+L23+L24+L25+L26+L27+L28)/10 -> 0 | Q28: =(M19+M20+M21+M22+M23+M24+M25+M26+M27+M28)/10 -> 0 | R28: =(N19+N20+N21+N22+N23+N24+N25+N26+N27+N28)/10 -> 0
C29: 0 | D29: 0 | E29: 0 | F29: 0 | G29: 0 | H29: 0 | I29: 0 | J29: 0 | K29: =C29-G29 -> 0 | L29: =D29-H29 -> 0 | M29: =E29-I29 -> 0 | N29: =F29-J29 -> 0 | O29: =(K20+K21+K22+K23+K24+K25+K26+K27+K28+K29)/10 -> 0 | P29: =(L20+L21+L22+L23+L24+L25+L26+L27+L28+L29)/10 -> 0 | Q29: =(M20+M21+M22+M23+M24+M25+M26+M27+M28+M29)/10 -> 0 | R29: =(N20+N21+N22+N23+N24+N25+N26+N27+N28+N29)/10 -> 0
C30: 0 | D30: 0 | E30: 0 | F30: 0 | G30: 0 | H30: 0 | I30: 0 | J30: 0 | K30: =C30-G30 -> 0 | L30: =D30-H30 -> 0 | M30: =E30-I30 -> 0 | N30: =F30-J30 -> 0 | O30: =(K21+K22+K23+K24+K25+K26+K27+K28+K29+K30)/10 -> 0 | P30: =(L21+L22+L23+L24+L25+L26+L27+L28+L29+L30)/10 -> 0 | Q30: =(M21+M22+M23+M24+M25+M26+M27+M28+M29+M30)/10 -> 0 | R30: =(N21+N22+N23+N24+N25+N26+N27+N28+N29+N30)/10 -> 0
... C39: 0 | D39: 0 | E39: 0 | F39: 0 | G39: 0 | H39: 0 | I39: 0 | J39: 0 | K39: =C39-G39 -> 0 | L39: =D39-H39 -> 0 | M39: =E39-I39 -> 0 | N39: =F39-J39 -> 0 | O39: =(K30+K31+K32+K33+K34+K35+K36+K37+K38+K39)/10 -> 0 | P39: =(L30+L31+L32+L33+L34+L35+L36+L37+L38+L39)/10 -> 0 | Q39: =(M30+M31+M32+M33+M34+M35+M36+M37+M38+M39)/10 -> 0 | R39: =(N30+N31+N32+N33+N34+N35+N36+N37+N38+N39)/10 -> 0
A40: 40751.422 | B40: 0.42233796 | C40: 0.94134007 | D40: 3.6061549 | E40: 8.4467847 | F40: 8.4467847 | G40: 0.64142758 | H40: 1.4366189 | I40: 2.254742 | J40: 83.342308 | K40: =C40-G40 -> 0.2999125 | L40: =D40-H40 -> 2.169536 | M40: =E40-I40 -> 6.1920427 | N40: =F40-J40 -> -74.895523 | O40: =(K31+K32+K33+K34+K35+K36+K37+K38+K39+K40)/10 -> 0.02999125 | P40: =(L31+L32+L33+L34+L35+L36+L37+L38+L39+L40)/10 -> 0.2169536 | Q40: =(M31+M32+M33+M34+M35+M36+M37+M38+M39+M40)/10 -> 0.61920427 | R40: =(N31+N32+N33+N34+N35+N36+N37+N38+N39+N40)/10 -> -7.4895523 | S40: 1 | T40: -0.54 | U40: 0.34288171 | V40: 44.567563 | W40: -0.24284421 | X40: -36.309658 | Y40: 107.43087 | Z40: =0.4*U40*1.25*O40/1.5 -> 0.003427817 | AA40: =0.4*U40*1.25*P40/1.5 -> 0.024796474 | AB40: =0.4*U40*1.25*Q40/1.5 -> 0.070771273 | AC40: =0.4*U40*1.25*R40/1.5 -> -0.85601017 | AD40: =-U40*U40*U40/X40 -> 0.0011102245
A41: 40751.423 | B41: 0.42303241 | C41: 0.97541736 | D41: 4.3121604 | E41: 10.993567 | F41: 10.993567 | G41: 0.77646192 | H41: 1.9152256 | I41: 3.0743015 | J41: 142.84646 | K41: =C41-G41 -> 0.19895544 | L41: =D41-H41 -> 2.3969347 | M41: =E41-I41 -> 7.9192656 | N41: =F41-J41 -> -131.85289 | O41: =(K32+K33+K34+K35+K36+K37+K38+K39+K40+K41)/10 -> 0.049886794 | P41: =(L32+L33+L34+L35+L36+L37+L38+L39+L40+L41)/10 -> 0.45664707 | Q41: =(M32+M33+M34+M35+M36+M37+M38+M39+M40+M41)/10 -> 1.4111308 | R41: =(N32+N33+N34+N35+N36+N37+N38+N39+N40+N41)/10 -> -20.674841 | S41: 1 | T41: -0.55 | U41: 0.34377766 | V41: 44.601025 | W41: -0.24824312 | X41: -35.705847 | Y41: 110.10623 | Z41: =0.4*U41*1.25*O41/1.5 -> 0.0057166551 | AA41: =0.4*U41*1.25*P41/1.5 -> 0.052328354 | AB41: =0.4*U41*1.25*Q41/1.5 -> 0.16170508 | AC41: =0.4*U41*1.25*R41/1.5 -> -2.3691829 | AD41: =-U41*U41*U41/X41 -> 0.0011378725
A42: 40751.424 | B42: 0.42372685 | C42: 0.90810107 | D42: 3.1200465 | E42: 6.5970696 | F42: 6.5970696 | G42: 0.61887298 | H42: 1.1974024 | I42: 2.0155255 | J42: 77.99069 | K42: =C42-G42 -> 0.28922809 | L42: =D42-H42 -> 1.9226441 | M42: =E42-I42 -> 4.5815442 | N42: =F42-J42 -> -71.39362 | O42: =(K33+K34+K35+K36+K37+K38+K39+K40+K41+K42)/10 -> 0.078809603 | P42: =(L33+L34+L35+L36+L37+L38+L39+L40+L41+L42)/10 -> 0.64891149 | Q42: =(M33+M34+M35+M36+M37+M38+M39+M40+M41+M42)/10 -> 1.8692852 | R42: =(N33+N34+N35+N36+N37+N38+N39+N40+N41+N42)/10 -> -27.814203 | S42: 1 | T42: -0.53 | U42: 0.34197576 | V42: 44.669275 | W42: -0.23746767 | X42: -36.935794 | Y42: 104.7748 | Z42: =0.4*U42*1.25*O42/1.5 -> 0.0089836579 | AA42: =0.4*U42*1.25*P42/1.5 -> 0.073970666 | AB42: =0.4*U42*1.25*Q42/1.5 -> 0.21308341 | AC42: =0.4*U42*1.25*R42/1.5 -> -3.1705945 | AD42: =-U42*U42*U42/X42 -> 0.0010827758
A43: 40751.424 | B43: 0.4244213 | C43: 0.83083249 | D43: 2.1795429 | E43: 3.8838979 | F43: 3.8838979 | G43: 0.50997588 | H43: 0.95445137 | I43: 1.3976695 | J43: 49.233065 | K43: =C43-G43 -> 0.32085661 | L43: =D43-H43 -> 1.2250916 | M43: =E43-I43 -> 2.4862283 | N43: =F43-J43 -> -45.349167 | O43: =(K34+K35+K36+K37+K38+K39+K40+K41+K42+K43)/10 -> 0.11089526 | P43: =(L34+L35+L36+L37+L38+L39+L40+L41+L42+L43)/10 -> 0.77142064 | Q43: =(M34+M35+M36+M37+M38+M39+M40+M41+M42+M43)/10 -> 2.1179081 | R43: =(N34+N35+N36+N37+N38+N39+N40+N41+N42+N43)/10 -> -32.34912 | S43: 0.98 | T43: -0.56 | U43: 0.33974209 | V43: 44.900108 | W43: -0.25571998 | X43: -33.852856 | Y43: 112.09107 | Z43: =0.4*U43*1.25*O43/1.5 -> 0.012558596 | AA43: =0.4*U43*1.25*P43/1.5 -> 0.087361354 | AB43: =0.4*U43*1.25*Q43/1.5 -> 0.2398475 | AC43: =0.4*U43*1.25*R43/1.5 -> -3.6634526 | AD43: =-U43*U43*U43/X43 -> 0.0011583845
A44: 40751.425 | B44: 0.42511574 | C44: 0.98116335 | D44: 4.2703795 | E44: 10.576677 | F44: 10.576677 | G44: 0.60837882 | H44: 1.2961748 | I44: 2.0120325 | J44: 84.615352 | K44: =C44-G44 -> 0.37278453 | L44: =D44-H44 -> 2.9742047 | M44: =E44-I44 -> 8.5646443 | N44: =F44-J44 -> -74.038675 | O44: =(K35+K36+K37+K38+K39+K40+K41+K42+K43+K44)/10 -> 0.14817372 | P44: =(L35+L36+L37+L38+L39+L40+L41+L42+L43+L44)/10 -> 1.0688411 | Q44: =(M35+M36+M37+M38+M39+M40+M41+M42+M43+M44)/10 -> 2.9743725 | R44: =(N35+N36+N37+N38+N39+N40+N41+N42+N43+N44)/10 -> -39.752988 | S44: 0.98 | T44: -0.57 | U44: 0.34061574 | V44: 44.99715 | W44: -0.26121249 | X44: -33.311697 | Y44: 114.79307 | Z44: =0.4*U44*1.25*O44/1.5 -> 0.016823433 | AA44: =0.4*U44*1.25*P44/1.5 -> 0.1213547 | AB44: =0.4*U44*1.25*Q44/1.5 -> 0.33770603 | AC44: =0.4*U44*1.25*R44/1.5 -> -4.5134978 | AD44: =-U44*U44*U44/X44 -> 0.0011863078
A45: 40751.426 | B45: 0.42581019 | C45: 0.93828534 | D45: 3.0052218 | E45: 7.2662114 | F45: 7.2662114 | G45: 0.61231996 | H45: 1.5093446 | I45: 2.293311 | J45: 105.75671 | K45: =C45-G45 -> 0.32596538 | L45: =D45-H45 -> 1.4958772 | M45: =E45-I45 -> 4.9729004 | N45: =F45-J45 -> -98.490496 | O45: =(K36+K37+K38+K39+K40+K41+K42+K43+K44+K45)/10 -> 0.18077025 | P45: =(L36+L37+L38+L39+L40+L41+L42+L43+L44+L45)/10 -> 1.2184288 | Q45: =(M36+M37+M38+M39+M40+M41+M42+M43+M44+M45)/10 -> 3.4716625 | R45: =(N36+N37+N38+N39+N40+N41+N42+N43+N44+N45)/10 -> -49.602037 | S45: 0.96 | T45: -0.56 | U45: 0.33481189 | V45: 45.025062 | W45: -0.25784858 | X45: -32.606056 | Y45: 111.38395 | Z45: =0.4*U45*1.25*O45/1.5 -> 0.020174677 | AA45: =0.4*U45*1.25*P45/1.5 -> 0.13598149 | AB45: =0.4*U45*1.25*Q45/1.5 -> 0.3874513 | AC45: =0.4*U45*1.25*R45/1.5 -> -5.5357839 | AD45: =-U45*U45*U45/X45 -> 0.0011510769
A46: 40751.426 | B46: 0.42650463 | C46: 0.86567732 | D46: 3.5804361 | E46: 8.7618142 | F46: 8.7618142 | G46: 0.61798853 | H46: 1.4545041 | I46: 1.9999877 | J46: 80.480556 | K46: =C46-G46 -> 0.2476888 | L46: =D46-H46 -> 2.125932 | M46: =E46-I46 -> 6.7618265 | N46: =F46-J46 -> -71.718741 | O46: =(K37+K38+K39+K40+K41+K42+K43+K44+K45+K46)/10 -> 0.20553913 | P46: =(L37+L38+L39+L40+L41+L42+L43+L44+L45+L46)/10 -> 1.431022 | Q46: =(M37+M38+M39+M40+M41+M42+M43+M44+M45+M46)/10 -> 4.1478452 | R46: =(N37+N38+N39+N40+N41+N42+N43+N44+N45+N46)/10 -> -56.773911 | S46: 0.94 | T46: -0.57 | U46: 0.33073934 | V46: 45.161258 | W46: -0.26565071 | X46: -30.883179 | Y46: 113.35844 | Z46: =0.4*U46*1.25*O46/1.5 -> 0.022659959 | AA46: =0.4*U46*1.25*P46/1.5 -> 0.1577651 | AB46: =0.4*U46*1.25*Q46/1.5 -> 0.45728519 | AC46: =0.4*U46*1.25*R46/1.5 -> -6.259122 | AD46: =-U46*U46*U46/X46 -> 0.0011714819
A47: 40751.427 | B47: 0.42719907 | C47: 0.96508217 | D47: 3.8318336 | E47: 9.251899 | F47: 9.251899 | G47: 0.6578441 | H47: 1.453226 | I47: 2.0668183 | J47: 98.629101 | K47: =C47-G47 -> 0.30723806 | L47: =D47-H47 -> 2.3786076 | M47: =E47-I47 -> 7.1850807 | N47: =F47-J47 -> -89.377202 | O47: =(K38+K39+K40+K41+K42+K43+K44+K45+K46+K47)/10 -> 0.23626294 | P47: =(L38+L39+L40+L41+L42+L43+L44+L45+L46+L47)/10 -> 1.6688828 | Q47: =(M38+M39+M40+M41+M42+M43+M44+M45+M46+M47)/10 -> 4.8663533 | R47: =(N38+N39+N40+N41+N42+N43+N44+N45+N46+N47)/10 -> -65.711632 | S47: 0.86 | T47: -0.62 | U47: 0.3149836 | V47: 45.0293 | W47: -0.30505217 | X47: -24.392877 | Y47: 123.97071 | Z47: =0.4*U47*1.25*O47/1.5 -> 0.024806317 | AA47: =0.4*U47*1.25*P47/1.5 -> 0.17522357 | AB47: =0.4*U47*1.25*Q47/1.5 -> 0.51094049 | AC47: =0.4*U47*1.25*R47/1.5 -> -6.8993621 | AD47: =-U47*U47*U47/X47 -> 0.0012811524
A48: 40751.428 | B48: 0.42789352 | C48: 1.3869077 | D48: 8.9620458 | E48: 22.938247 | F48: 22.938247 | G48: 1.0840073 | H48: 3.6775757 | I48: 6.3706324 | J48: 225.49409 | K48: =C48-G48 -> 0.30290036 | L48: =D48-H48 -> 5.2844701 | M48: =E48-I48 -> 16.567615 | N48: =F48-J48 -> -202.55584 | O48: =(K39+K40+K41+K42+K43+K44+K45+K46+K47+K48)/10 -> 0.26655298 | P48: =(L39+L40+L41+L42+L43+L44+L45+L46+L47+L48)/10 -> 2.1973298 | Q48: =(M39+M40+M41+M42+M43+M44+M45+M46+M47+M48)/10 -> 6.5231147 | R48: =(N39+N40+N41+N42+N43+N44+N45+N46+N47+N48)/10 -> -85.967215 | S48: 0.83 | T48: -0.57 | U48: 0.30337007 | V48: 44.96385 | W48: -0.27968173 | X48: -24.679857 | Y48: 109.46968 | Z48: =0.4*U48*1.25*O48/1.5 -> 0.026954732 | AA48: =0.4*U48*1.25*P48/1.5 -> 0.22220137 | AB48: =0.4*U48*1.25*Q48/1.5 -> 0.65963926 | AC48: =0.4*U48*1.25*R48/1.5 -> -8.6932934 | AD48: =-U48*U48*U48/X48 -> 0.0011312942
A49: 40751.428 | B49: 0.42858796 | C49: 0.97532791 | D49: 4.0097263 | E49: 10.213758 | F49: 10.213758 | G49: 0.70267905 | H49: 1.7589999 | I49: 2.8497625 | J49: 114.56192 | K49: =C49-G49 -> 0.27264886 | L49: =D49-H49 -> 2.2507264 | M49: =E49-I49 -> 7.3639957 | N49: =F49-J49 -> -104.34816 | O49: =(K40+K41+K42+K43+K44+K45+K46+K47+K48+K49)/10 -> 0.29381786 | P49: =(L40+L41+L42+L43+L44+L45+L46+L47+L48+L49)/10 -> 2.4224024 | Q49: =(M40+M41+M42+M43+M44+M45+M46+M47+M48+M49)/10 -> 7.2595143 | R49: =(N40+N41+N42+N43+N44+N45+N46+N47+N48+N49)/10 -> -96.402031 | S49: 0.82 | T49: -0.59 | U49: 0.30251633 | V49: 44.916546 | W49: -0.29310113 | X49: -23.417547 | Y49: 114.39929 | Z49: =0.4*U49*1.25*O49/1.5 -> 0.029628234 | AA49: =0.4*U49*1.25*P49/1.5 -> 0.2442721 | AB49: =0.4*U49*1.25*Q49/1.5 -> 0.73204054 | AC49: =0.4*U49*1.25*R49/1.5 -> -9.7210629 | AD49: =-U49*U49*U49/X49 -> 0.0011822384
A50: 40751.429 | B50: 0.42928241 | C50: 0.96347367 | D50: 4.018867 | E50: 9.166293 | F50: 9.166293 | G50: 0.72352534 | H50: 1.8677051 | I50: 3.3675293 | J50: 117.10416 | K50: =C50-G50 -> 0.23994833 | L50: =D50-H50 -> 2.1511619 | M50: =E50-I50 -> 5.7987637 | N50: =F50-J50 -> -107.93787 | O50: =(K41+K42+K43+K44+K45+K46+K47+K48+K49+K50)/10 -> 0.28782145 | P50: =(L41+L42+L43+L44+L45+L46+L47+L48+L49+L50)/10 -> 2.420565 | Q50: =(M41+M42+M43+M44+M45+M46+M47+M48+M49+M50)/10 -> 7.2201864 | R50: =(N41+N42+N43+N44+N45+N46+N47+N48+N49+N50)/10 -> -99.706266 | S50: 0.78 | T50: -0.58 | U50: 0.29162323 | V50: 45.027067 | W50: -0.2932566 | X50: -21.749922 | Y50: 110.33846 | Z50: =0.4*U50*1.25*O50/1.5 -> 0.027978473 | AA50: =0.4*U50*1.25*P50/1.5 -> 0.23529767 | AB50: =0.4*U50*1.25*Q50/1.5 -> 0.70185803 | AC50: =0.4*U50*1.25*R50/1.5 -> -9.6922211 | AD50: =-U50*U50*U50/X50 -> 0.0011402725
A51: 40751.43 | B51: 0.42997685 | C51: 1.034528 | D51: 4.4806454 | E51: 11.093739 | F51: 11.093739 | G51: 0.77171147 | H51: 2.1250125 | I51: 3.7612587 | J51: 143.79767 | K51: =C51-G51 -> 0.26281658 | L51: =D51-H51 -> 2.3556329 | M51: =E51-I51 -> 7.3324802 | N51: =F51-J51 -> -132.70393 | O51: =(K42+K43+K44+K45+K46+K47+K48+K49+K50+K51)/10 -> 0.29420756 | P51: =(L42+L43+L44+L45+L46+L47+L48+L49+L50+L51)/10 -> 2.4164349 | Q51: =(M42+M43+M44+M45+M46+M47+M48+M49+M50+M51)/10 -> 7.1615079 | R51: =(N42+N43+N44+N45+N46+N47+N48+N49+N50+N51)/10 -> -99.79137 | S51: 0.78 | T51: -0.59 | U51: 0.29243471 | V51: 45.183333 | W51: -0.29940453 | X51: -21.422035 | Y51: 112.9651 | Z51: =0.4*U51*1.25*O51/1.5 -> 0.028678834 | AA51: =0.4*U51*1.25*P51/1.5 -> 0.23554981 | AB51: =0.4*U51*1.25*Q51/1.5 -> 0.69809116 | AC51: =0.4*U51*1.25*R51/1.5 -> -9.7274868 | AD51: =-U51*U51*U51/X51 -> 0.0011674171
... A673: 40751.862 | B673: 0.8619213 | C673: 0.68222229 | D673: 1.1149057 | E673: 1.7626546 | F673: 7.828481 | G673: 0.44440661 | H673: 0.73036345 | I673: 0.93489423 | J673: 27.490613 | K673: =C673-G673 -> 0.23781568 | L673: =D673-H673 -> 0.38454222 | M673: =E673-I673 -> 0.82776041 | N673: =F673-J673 -> -19.662132 | O673: =(K664+K665+K666+K667+K668+K669+K670+K671+K672+K673)/10 -> 0.28192313 | P673: =(L664+L665+L666+L667+L668+L669+L670+L671+L672+L673)/10 -> 0.51095384 | Q673: =(M664+M665+M666+M667+M668+M669+M670+M671+M672+M673)/10 -> 0.79388125 | R673: =(N664+N665+N666+N667+N668+N669+N670+N671+N672+N673)/10 -> -46.180493 | S673: 0.98 | T673: 0.25 | U673: 0.17461002 | V673: 29.501417 | W673: 0.037846805 | X673: 60.418557 | Y673: -8.5261976 | Z673: =0.4*U673*1.25*O673/1.5 -> 0.016408868 | AA673: =0.4*U673*1.25*P673/1.5 -> 0.02973922 | AB673: =0.4*U673*1.25*Q673/1.5 -> 0.04620654 | AC673: =0.4*U673*1.25*R673/1.5 -> -2.687859 | AD673: =-U673*U673*U673/X673 -> -8.8112422e-05
A674: 40751.863 | C674: 0 | D674: 0 | E674: 0 | F674: 0 | G674: 0 | H674: 0 | I674: 0 | J674: 0 | K674: =C674-G674 -> 0 | L674: =D674-H674 -> 0 | M674: =E674-I674 -> 0 | N674: =F674-J674 -> 0 | O674: =(K665+K666+K667+K668+K669+K670+K671+K672+K673+K674)/10 -> 0.27417056 | P674: =(L665+L666+L667+L668+L669+L670+L671+L672+L673+L674)/10 -> 0.49568892 | Q674: =(M665+M666+M667+M668+M669+M670+M671+M672+M673+M674)/10 -> 0.75816326 | R674: =(N665+N666+N667+N668+N669+N670+N671+N672+N673+N674)/10 -> -44.849522 | S674: 0.98 | T674: 0.27 | U674: 0.1698576 | V674: 29.430233 | W674: 0.039354272 | X674: 54.984379 | Y674: -8.624499 | Z674: =0.4*U674*1.25*O674/1.5 -> 0.015523318 | AA674: =0.4*U674*1.25*P674/1.5 -> 0.02806551 | AB674: =0.4*U674*1.25*Q674/1.5 -> 0.042926597 | AC674: =0.4*U674*1.25*R674/1.5 -> -2.5393441 | AD674: =-U674*U674*U674/X674 -> -8.9128301e-05
A675: 40751.863 | C675: 0 | D675: 0 | E675: 0 | F675: 0 | G675: 0 | H675: 0 | I675: 0 | J675: 0 | K675: =C675-G675 -> 0 | L675: =D675-H675 -> 0 | M675: =E675-I675 -> 0 | N675: =F675-J675 -> 0 | O675: =(K666+K667+K668+K669+K670+K671+K672+K673+K674+K675)/10 -> 0.25609925 | P675: =(L666+L667+L668+L669+L670+L671+L672+L673+L674+L675)/10 -> 0.47100039 | Q675: =(M666+M667+M668+M669+M670+M671+M672+M673+M674+M675)/10 -> 0.69598424 | R675: =(N666+N667+N668+N669+N670+N671+N672+N673+N674+N675)/10 -> -43.536699 | S675: 0.98 | T675: 0.29 | U675: 0.16518755 | V675: 29.378462 | W675: 0.04069713 | X675: 50.28658 | Y675: -8.6735744 | Z675: =0.4*U675*1.25*O675/1.5 -> 0.014101469 | AA675: =0.4*U675*1.25*P675/1.5 -> 0.025934467 | AB675: =0.4*U675*1.25*Q675/1.5 -> 0.038322644 | AC675: =0.4*U675*1.25*R675/1.5 -> -2.3972402 | AD675: =-U675*U675*U675/X675 -> -8.9635457e-05
A676: 40751.864 | C676: 0 | D676: 0 | E676: 0 | F676: 0 | G676: 0 | H676: 0 | I676: 0 | J676: 0 | K676: =C676-G676 -> 0 | L676: =D676-H676 -> 0 | M676: =E676-I676 -> 0 | N676: =F676-J676 -> 0 | O676: =(K667+K668+K669+K670+K671+K672+K673+K674+K675+K676)/10 -> 0.2205981 | P676: =(L667+L668+L669+L670+L671+L672+L673+L674+L675+L676)/10 -> 0.41302101 | Q676: =(M667+M668+M669+M670+M671+M672+M673+M674+M675+M676)/10 -> 0.62438311 | R676: =(N667+N668+N669+N670+N671+N672+N673+N674+N675+N676)/10 -> -42.66077 | S676: 1.02 | T676: 0.32 | U676: 0.17063319 | V676: 29.312963 | W676: 0.044450168 | X676: 49.126392 | Y676: -9.7857461 | Z676: =0.4*U676*1.25*O676/1.5 -> 0.012547119 | AA676: =0.4*U676*1.25*P676/1.5 -> 0.023491697 | AB676: =0.4*U676*1.25*Q676/1.5 -> 0.035513494 | AC676: =0.4*U676*1.25*R676/1.5 -> -2.4264478 | AD676: =-U676*U676*U676/X676 -> -0.00010112899
A677: 40751.865 | B677: 0.86462963 | C677: 0.67710204 | D677: 1.1564749 | E677: 1.8042239 | F677: 8.4250159 | G677: 0.45792969 | H677: 0.78938034 | I677: 0.89164572 | J677: 30.147155 | K677: =C677-G677 -> 0.21917235 | L677: =D677-H677 -> 0.36709458 | M677: =E677-I677 -> 0.91257815 | N677: =F677-J677 -> -21.722139 | O677: =(K668+K669+K670+K671+K672+K673+K674+K675+K676+K677)/10 -> 0.20061345 | P677: =(L668+L669+L670+L671+L672+L673+L674+L675+L676+L677)/10 -> 0.37914879 | Q677: =(M668+M669+M670+M671+M672+M673+M674+M675+M676+M677)/10 -> 0.60415309 | R677: =(N668+N669+N670+N671+N672+N673+N674+N675+N676+N677)/10 -> -36.414419 | S677: 1.03 | T677: 0.34 | U677: 0.16931886 | V677: 29.280142 | W677: 0.046130167 | X677: 46.610838 | Y677: -10.077374 | Z677: =0.4*U677*1.25*O677/1.5 -> 0.011322547 | AA677: =0.4*U677*1.25*P677/1.5 -> 0.021399014 | AB677: =0.4*U677*1.25*Q677/1.5 -> 0.034098171 | AC677: =0.4*U677*1.25*R677/1.5 -> -2.055216 | AD677: =-U677*U677*U677/X677 -> -0.00010414276
A678: 40751.865 | B678: 0.86532407 | C678: 0.66144139 | D678: 1.1539061 | E678: 1.4265457 | F678: 7.6057639 | G678: 0.46374207 | H678: 0.80556555 | I678: 1.1123617 | J678: 29.928833 | K678: =C678-G678 -> 0.19769932 | L678: =D678-H678 -> 0.34834059 | M678: =E678-I678 -> 0.31418395 | N678: =F678-J678 -> -22.323069 | O678: =(K669+K670+K671+K672+K673+K674+K675+K676+K677+K678)/10 -> 0.18029824 | P678: =(L669+L670+L671+L672+L673+L674+L675+L676+L677+L678)/10 -> 0.3386337 | Q678: =(M669+M670+M671+M672+M673+M674+M675+M676+M677+M678)/10 -> 0.54316447 | R678: =(N669+N670+N671+N672+N673+N674+N675+N676+N677+N678)/10 -> -30.350855 | S678: 1 | T678: 0.36 | U678: 0.15568784 | V678: 29.226671 | W678: 0.045438448 | X678: 40.008031 | Y678: -9.1271506 | Z678: =0.4*U678*1.25*O678/1.5 -> 0.0093567481 | AA678: =0.4*U678*1.25*P678/1.5 -> 0.017573717 | AB678: =0.4*U678*1.25*Q678/1.5 -> 0.028188035 | AC678: =0.4*U678*1.25*R678/1.5 -> -1.5750864 | AD678: =-U678*U678*U678/X678 -> -9.4322847e-05
A679: 40751.866 | B679: 0.86601852 | C679: 0.65846075 | D679: 1.0604037 | E679: 1.5717306 | F679: 12.467314 | G679: 0.48626981 | H679: 0.74850453 | I679: 0.9530353 | J679: 29.306563 | K679: =C679-G679 -> 0.17219094 | L679: =D679-H679 -> 0.31189913 | M679: =E679-I679 -> 0.61869529 | N679: =F679-J679 -> -16.83925 | O679: =(K670+K671+K672+K673+K674+K675+K676+K677+K678+K679)/10 -> 0.15933227 | P679: =(L670+L671+L672+L673+L674+L675+L676+L677+L678+L679)/10 -> 0.30092662 | Q679: =(M670+M671+M672+M673+M674+M675+M676+M677+M678+M679)/10 -> 0.51568393 | R679: =(N670+N671+N672+N673+N674+N675+N676+N677+N678+N679)/10 -> -23.204704 | S679: 1.02 | T679: 0.38 | U679: 0.15764389 | V679: 29.224308 | W679: 0.047503222 | X679: 39.236702 | Y679: -9.6617821 | Z679: =0.4*U679*1.25*O679/1.5 -> 0.008372586 | AA679: =0.4*U679*1.25*P679/1.5 -> 0.015813081 | AB679: =0.4*U679*1.25*Q679/1.5 -> 0.02709814 | AC679: =0.4*U679*1.25*R679/1.5 -> -1.2193599 | AD679: =-U679*U679*U679/X679 -> -9.9847899e-05
A680: 40751.867 | B680: 0.86671296 | C680: 0.68731889 | D680: 1.1661739 | E680: 1.5752354 | F680: 9.7510012 | G680: 0.44410206 | H680: 0.73608873 | I680: 0.87251076 | J680: 29.378586 | K680: =C680-G680 -> 0.24321683 | L680: =D680-H680 -> 0.43008514 | M680: =E680-I680 -> 0.70272466 | N680: =F680-J680 -> -19.627585 | O680: =(K671+K672+K673+K674+K675+K676+K677+K678+K679+K680)/10 -> 0.14733477 | P680: =(L671+L672+L673+L674+L675+L676+L677+L678+L679+L680)/10 -> 0.27235152 | Q680: =(M671+M672+M673+M674+M675+M676+M677+M678+M679+M680)/10 -> 0.47005096 | R680: =(N671+N672+N673+N674+N675+N676+N677+N678+N679+N680)/10 -> -15.507873 | S680: 1.02 | T680: 0.4 | U680: 0.15343799 | V680: 29.1653 | W680: 0.048264514 | X680: 36.584671 | Y680: -9.5547179 | Z680: =0.4*U680*1.25*O680/1.5 -> 0.0075355836 | AA680: =0.4*U680*1.25*P680/1.5 -> 0.01392969 | AB680: =0.4*U680*1.25*Q680/1.5 -> 0.024041225 | AC680: =0.4*U680*1.25*R680/1.5 -> -0.79316564 | AD680: =-U680*U680*U680/X680 -> -9.8741461e-05
A681: 40751.867 | B681: 0.86740741 | C681: 0.68722766 | D681: 1.1419813 | E681: 1.4487774 | F681: 8.8333037 | G681: 0.45168961 | H681: 0.77473142 | I681: 0.97926219 | J681: 25.882667 | K681: =C681-G681 -> 0.23553805 | L681: =D681-H681 -> 0.36724987 | M681: =E681-I681 -> 0.46951526 | N681: =F681-J681 -> -17.049363 | O681: =(K672+K673+K674+K675+K676+K677+K678+K679+K680+K681)/10 -> 0.15408449 | P681: =(L672+L673+L674+L675+L676+L677+L678+L679+L680+L681)/10 -> 0.27183734 | Q681: =(M672+M673+M674+M675+M676+M677+M678+M679+M680+M681)/10 -> 0.44227283 | R681: =(N672+N673+N674+N675+N676+N677+N678+N679+N680+N681)/10 -> -13.415944 | S681: 1 | T681: 0.41 | U681: 0.14503936 | V681: 29.144533 | W681: 0.047185511 | X681: 33.436774 | Y681: -8.8298143 | Z681: =0.4*U681*1.25*O681/1.5 -> 0.0074494384 | AA681: =0.4*U681*1.25*P681/1.5 -> 0.013142371 | AB681: =0.4*U681*1.25*Q681/1.5 -> 0.021382323 | AC681: =0.4*U681*1.25*R681/1.5 -> -0.64861329 | AD681: =-U681*U681*U681/X681 -> -9.125008e-05
A682: 40751.868 | B682: 0.86810185 | C682: 0.68579494 | D682: 1.1619999 | E682: 1.7414356 | F682: 9.7305712 | G682: 0.42196023 | H682: 0.67514779 | I682: 1.0500527 | J682: 39.398165 | K682: =C682-G682 -> 0.26383471 | L682: =D682-H682 -> 0.48685215 | M682: =E682-I682 -> 0.69138292 | N682: =F682-J682 -> -29.667594 | O682: =(K673+K674+K675+K676+K677+K678+K679+K680+K681+K682)/10 -> 0.15694679 | P682: =(L673+L674+L675+L676+L677+L678+L679+L680+L681+L682)/10 -> 0.26960637 | Q682: =(M673+M674+M675+M676+M677+M678+M679+M680+M681+M682)/10 -> 0.45368406 | R682: =(N673+N674+N675+N676+N677+N678+N679+N680+N681+N682)/10 -> -14.689113 | S682: 0.97 | T682: 0.41 | U682: 0.13550773 | V682: 29.094296 | W682: 0.044968809 | X682: 30.625136 | Y682: -7.8619898 | Z682: =0.4*U682*1.25*O682/1.5 -> 0.0070891677 | AA682: =0.4*U682*1.25*P682/1.5 -> 0.012177916 | AB682: =0.4*U682*1.25*Q682/1.5 -> 0.020492566 | AC682: =0.4*U682*1.25*R682/1.5 -> -0.66349613 | AD682: =-U682*U682*U682/X682 -> -8.1248282e-05
A683: 40751.869 | B683: 0.8687963 | C683: 0.69324564 | D683: 1.1894757 | E683: 1.5985373 | F683: 9.4407216 | G683: 0.46304914 | H683: 0.72292796 | I683: 1.0297241 | J683: 24.799734 | K683: =C683-G683 -> 0.2301965 | L683: =D683-H683 -> 0.46654776 | M683: =E683-I683 -> 0.56881314 | N683: =F683-J683 -> -15.359013 | O683: =(K674+K675+K676+K677+K678+K679+K680+K681+K682+K683)/10 -> 0.15618487 | P683: =(L674+L675+L676+L677+L678+L679+L680+L681+L682+L683)/10 -> 0.27780692 | Q683: =(M674+M675+M676+M677+M678+M679+M680+M681+M682+M683)/10 -> 0.42778934 | R683: =(N674+N675+N676+N677+N678+N679+N680+N681+N682+N683)/10 -> -14.258801 | S683: 0.96 | T683: 0.4 | U683: 0.1344514 | V683: 29.034471 | W683: 0.044014291 | X683: 30.803371 | Y683: -7.6351236 | Z683: =0.4*U683*1.25*O683/1.5 -> 0.0069997581 | AA683: =0.4*U683*1.25*P683/1.5 -> 0.01245051 | AB683: =0.4*U683*1.25*Q683/1.5 -> 0.019172292 | AC683: =0.4*U683*1.25*R683/1.5 -> -0.6390386 | AD683: =-U683*U683*U683/X683 -> -7.8903767e-05
A684: 40751.869 | B684: 0.86949074 | C684: 0.66352612 | D684: 1.0800987 | E684: 1.7617997 | F684: 8.9674843 | G684: 0.47269635 | H684: 0.76418569 | I684: 1.0368252 | J684: 24.761577 | K684: =C684-G684 -> 0.19082977 | L684: =D684-H684 -> 0.31591296 | M684: =E684-I684 -> 0.72497451 | N684: =F684-J684 -> -15.794092 | O684: =(K675+K676+K677+K678+K679+K680+K681+K682+K683+K684)/10 -> 0.17526785 | P684: =(L675+L676+L677+L678+L679+L680+L681+L682+L683+L684)/10 -> 0.30939822 | Q684: =(M675+M676+M677+M678+M679+M680+M681+M682+M683+M684)/10 -> 0.50028679 | R684: =(N675+N676+N677+N678+N679+N680+N681+N682+N683+N684)/10 -> -15.83821 | S684: 0.95 | T684: 0.4 | U684: 0.13126038 | V684: 28.980383 | W684: 0.043260888 | X684: 29.86986 | Y684: -7.326324 | Z684: =0.4*U684*1.25*O684/1.5 -> 0.0076685747 | AA684: =0.4*U684*1.25*P684/1.5 -> 0.013537243 | AB684: =0.4*U684*1.25*Q684/1.5 -> 0.021889278 | AC684: =0.4*U684*1.25*R684/1.5 -> -0.69297651 | AD684: =-U684*U684*U684/X684 -> -7.5712534e-05
A685: 40751.87 | B685: 0.87018519 | C685: 0.67850833 | D685: 1.081484 | E685: 1.4905455 | F685: 8.7481809 | G685: 0.4462076 | H685: 0.72430254 | I685: 0.92883331 | J685: 30.096999 | K685: =C685-G685 -> 0.23230073 | L685: =D685-H685 -> 0.35718147 | M685: =E685-I685 -> 0.56171224 | N685: =F685-J685 -> -21.348818 | O685: =(K676+K677+K678+K679+K680+K681+K682+K683+K684+K685)/10 -> 0.19849792 | P685: =(L676+L677+L678+L679+L680+L681+L682+L683+L684+L685)/10 -> 0.34511636 | Q685: =(M676+M677+M678+M679+M680+M681+M682+M683+M684+M685)/10 -> 0.55645801 | R685: =(N676+N677+N678+N679+N680+N681+N682+N683+N684+N685)/10 -> -17.973092 | S685: 0.96 | T685: 0.4 | U685: 0.1344514 | V685: 28.921421 | W685: 0.044014291 | X685: 30.803371 | Y685: -7.6351236 | Z685: =0.4*U685*1.25*O685/1.5 -> 0.0088961078 | AA685: =0.4*U685*1.25*P685/1.5 -> 0.015467126 | AB685: =0.4*U685*1.25*Q685/1.5 -> 0.024938853 | AC685: =0.4*U685*1.25*R685/1.5 -> -0.80550248 | AD685: =-U685*U685*U685/X685 -> -7.8903767e-05
A686: 40751.871 | B686: 0.87087963 | C686: 0.66444289 | D686: 1.1976062 | E686: 1.7770419 | F686: 7.9902449 | G686: 0.46348327 | H686: 0.72481241 | I686: 0.99745193 | J686: 34.623309 | K686: =C686-G686 -> 0.20095963 | L686: =D686-H686 -> 0.47279378 | M686: =E686-I686 -> 0.77958994 | N686: =F686-J686 -> -26.633064 | O686: =(K677+K678+K679+K680+K681+K682+K683+K684+K685+K686)/10 -> 0.21859388 | P686: =(L677+L678+L679+L680+L681+L682+L683+L684+L685+L686)/10 -> 0.39239574 | Q686: =(M677+M678+M679+M680+M681+M682+M683+M684+M685+M686)/10 -> 0.63441701 | R686: =(N677+N678+N679+N680+N681+N682+N683+N684+N685+N686)/10 -> -20.636399 | S686: 0.93 | T686: 0.38 | U686: 0.12923154 | V686: 28.880058 | W686: 0.04139713 | X686: 30.257152 | Y686: -6.9023306 | Z686: =0.4*U686*1.25*O686/1.5 -> 0.009416408 | AA686: =0.4*U686*1.25*P686/1.5 -> 0.016903302 | AB686: =0.4*U686*1.25*Q686/1.5 -> 0.027328896 | AC686: =0.4*U686*1.25*R686/1.5 -> -0.88895786 | AD686: =-U686*U686*U686/X686 -> -7.1330869e-05
A687: 40751.872 | B687: 0.87157407 | C687: 0.64212673 | D687: 1.0424124 | E687: 1.5537393 | F687: 7.1858459 | G687: 0.45203724 | H687: 0.7345395 | I687: 0.97322691 | J687: 33.098368 | K687: =C687-G687 -> 0.19008949 | L687: =D687-H687 -> 0.30787292 | M687: =E687-I687 -> 0.58051244 | N687: =F687-J687 -> -25.912522 | O687: =(K678+K679+K680+K681+K682+K683+K684+K685+K686+K687)/10 -> 0.2156856 | P687: =(L678+L679+L680+L681+L682+L683+L684+L685+L686+L687)/10 -> 0.38647358 | Q687: =(M678+M679+M680+M681+M682+M683+M684+M685+M686+M687)/10 -> 0.60121043 | R687: =(N678+N679+N680+N681+N682+N683+N684+N685+N686+N687)/10 -> -21.055437 | S687: 0.91 | T687: 0.37 | U687: 0.12506566 | V687: 28.816525 | W687: 0.039746303 | X687: 29.514858 | Y687: -6.4134519 | Z687: =0.4*U687*1.25*O687/1.5 -> 0.0089916205 | AA687: =0.4*U687*1.25*P687/1.5 -> 0.016111524 | AB687: =0.4*U687*1.25*Q687/1.5 -> 0.025063593 | AC687: =0.4*U687*1.25*R687/1.5 -> -0.87777071 | AD687: =-U687*U687*U687/X687 -> -6.6278633e-05
A688: 40751.872 | B688: 0.87226852 | C688: 0.70732748 | D688: 1.185828 | E688: 1.5948896 | F688: 7.767661 | G688: 0.4725737 | H688: 0.82582335 | I688: 0.99619748 | J688: 32.376388 | K688: =C688-G688 -> 0.23475378 | L688: =D688-H688 -> 0.36000469 | M688: =E688-I688 -> 0.5986921 | N688: =F688-J688 -> -24.608727 | O688: =(K679+K680+K681+K682+K683+K684+K685+K686+K687+K688)/10 -> 0.21939104 | P688: =(L679+L680+L681+L682+L683+L684+L685+L686+L687+L688)/10 -> 0.38763999 | Q688: =(M679+M680+M681+M682+M683+M684+M685+M686+M687+M688)/10 -> 0.62966125 | R688: =(N679+N680+N681+N682+N683+N684+N685+N686+N687+N688)/10 -> -21.284003 | S688: 0.92 | T688: 0.36 | U688: 0.13050089 | V688: 28.750729 | W688: 0.040263442 | X688: 31.723224 | Y688: -6.7792459 | Z688: =0.4*U688*1.25*O688/1.5 -> 0.0095435754 | AA688: =0.4*U688*1.25*P688/1.5 -> 0.016862454 | AB688: =0.4*U688*1.25*Q688/1.5 -> 0.027390451 | AC688: =0.4*U688*1.25*R688/1.5 -> -0.92586044 | AD688: =-U688*U688*U688/X688 -> -7.0058866e-05
... A847: 40751.983 | B847: 0.98268519 | C847: 1.3935474 | D847: 2.1172025 | E847: 2.8330602 | F847: 25.317684 | G847: 0.97251877 | H847: 1.4106938 | I847: 1.7855987 | J847: 40.087045 | K847: =C847-G847 -> 0.42102866 | L847: =D847-H847 -> 0.70650874 | M847: =E847-I847 -> 1.0474615 | N847: =F847-J847 -> -14.769361 | O847: =(K838+K839+K840+K841+K842+K843+K844+K845+K846+K847)/10 -> 0.43059452 | P847: =(L838+L839+L840+L841+L842+L843+L844+L845+L846+L847)/10 -> 0.7142189 | Q847: =(M838+M839+M840+M841+M842+M843+M844+M845+M846+M847)/10 -> 1.1164491 | R847: =(N838+N839+N840+N841+N842+N843+N844+N845+N846+N847)/10 -> -23.0373 | S847: 0.89 | T847: 0.17 | U847: 0.16832763 | V847: 23.790808 | W847: 0.027973738 | X847: 75.966408 | Y847: -6.0752331 | Z847: =0.4*U847*1.25*O847/1.5 -> 0.024160318 | AA847: =0.4*U847*1.25*P847/1.5 -> 0.040074258 | AB847: =0.4*U847*1.25*Q847/1.5 -> 0.062643078 | AC847: =0.4*U847*1.25*R847/1.5 -> -1.2926047 | AD847: =-U847*U847*U847/X847 -> -6.2783372e-05
A848: 40751.983 | B848: 0.98337963 | O848: =O847/2+O851/2 -> 0.38552454 | P848: =P847/2+P851/2 -> 0.64904741 | Q848: =Q847/2+Q851/2 -> 1.0171926 | R848: =R847/2+R851/2 -> -19.273189 | S848: 0.87 | T848: 0.16 | U848: 0.16523452 | V848: 23.759208 | W848: 0.02648448 | X848: 77.31636 | Y848: -5.646109 | Z848: =0.4*U848*1.25*O848/1.5 -> 0.021233987 | AA848: =0.4*U848*1.25*P848/1.5 -> 0.035748346 | AB848: =0.4*U848*1.25*Q848/1.5 -> 0.056025109 | AC848: =0.4*U848*1.25*R848/1.5 -> -1.061532 | AD848: =-U848*U848*U848/X848 -> -5.8348668e-05
A849: 40751.984 | B849: 0.9840625 | O849: =O848/2+O852/2 -> 0.36827095 | P849: =P848/2+P852/2 -> 0.61816985 | Q849: =Q848/2+Q852/2 -> 1.0101684 | R849: =R848/2+R852/2 -> -16.126587 | S849: 0.89 | T849: 0.15 | U849: 0.17389944 | V849: 23.746488 | W849: 0.025853864 | X849: 87.726776 | Y849: -5.8007033 | Z849: =0.4*U849*1.25*O849/1.5 -> 0.021347371 | AA849: =0.4*U849*1.25*P849/1.5 -> 0.035833131 | AB849: =0.4*U849*1.25*Q849/1.5 -> 0.058555907 | AC849: =0.4*U849*1.25*R849/1.5 -> -0.93480146 | AD849: =-U849*U849*U849/X849 -> -5.99463e-05
A850: 40751.985 | C850: 0 | D850: 0 | E850: 0 | F850: 0 | G850: 0 | H850: 0 | I850: 0 | J850: 0 | K850: =C850-G850 -> 0 | L850: =D850-H850 -> 0 | M850: =E850-I850 -> 0 | N850: =F850-J850 -> 0 | O850: =O849/2+O853/2 -> 0.37163619 | P850: =P849/2+P853/2 -> 0.62152539 | Q850: =Q849/2+Q853/2 -> 1.0066952 | R850: =R849/2+R853/2 -> -14.249904 | S850: 0.87 | T850: 0.15 | U850: 0.16807663 | V850: 23.730658 | W850: 0.025438406 | X850: 83.288691 | Y850: -5.5163808 | Z850: =0.4*U850*1.25*O850/1.5 -> 0.020821119 | AA850: =0.4*U850*1.25*P850/1.5 -> 0.034821298 | AB850: =0.4*U850*1.25*Q850/1.5 -> 0.056400645 | AC850: =0.4*U850*1.25*R850/1.5 -> -0.79835862 | AD850: =-U850*U850*U850/X850 -> -5.700802e-05
A851: 40751.985 | B851: 0.98545139 | C851: 1.4612145 | D851: 2.1341993 | E851: 3.3272273 | F851: 22.733778 | G851: 0.99627338 | H851: 1.4750646 | I851: 1.713752 | J851: 40.469273 | K851: =C851-G851 -> 0.46494108 | L851: =D851-H851 -> 0.65913475 | M851: =E851-I851 -> 1.6134753 | N851: =F851-J851 -> -17.735496 | O851: =(K839+K840+K841+K842+K843+K844+K845+K846+K847+K850)/10 -> 0.34045456 | P851: =(L839+L840+L841+L842+L843+L844+L845+L846+L847+L850)/10 -> 0.58387591 | Q851: =(M839+M840+M841+M842+M843+M844+M845+M846+M847+M850)/10 -> 0.91793602 | R851: =(N839+N840+N841+N842+N843+N844+N845+N846+N847+N850)/10 -> -15.509077 | S851: 0.85 | T851: 0.14 | U851: 0.1651466 | V851: 23.708158 | W851: 0.023935573 | X851: 85.458784 | Y851: -5.1000037 | Z851: =0.4*U851*1.25*O851/1.5 -> 0.018741638 | AA851: =0.4*U851*1.25*P851/1.5 -> 0.032141707 | AB851: =0.4*U851*1.25*Q851/1.5 -> 0.050531338 | AC851: =0.4*U851*1.25*R851/1.5 -> -0.85375713 | AD851: =-U851*U851*U851/X851 -> -5.2705047e-05
A852: 40751.986 | B852: 0.98614583 | C852: 1.5214849 | D852: 2.234846 | E852: 2.9165471 | F852: 29.870054 | G852: 0.96398703 | H852: 1.3793082 | I852: 1.6861044 | J852: 37.324315 | K852: =C852-G852 -> 0.55749784 | L852: =D852-H852 -> 0.8555378 | M852: =E852-I852 -> 1.2304427 | N852: =F852-J852 -> -7.4542611 | O852: =(K840+K841+K842+K843+K844+K845+K846+K847+K850+K851)/10 -> 0.35101736 | P852: =(L840+L841+L842+L843+L844+L845+L846+L847+L850+L851)/10 -> 0.5872923 | Q852: =(M840+M841+M842+M843+M844+M845+M846+M847+M850+M851)/10 -> 1.0031443 | R852: =(N840+N841+N842+N843+N844+N845+N846+N847+N850+N851)/10 -> -12.979985 | S852: 0.86 | T852: 0.15 | U852: 0.16515488 | V852: 23.685663 | W852: 0.025222769 | X852: 81.105688 | Y852: -5.3745386 | Z852: =0.4*U852*1.25*O852/1.5 -> 0.019324077 | AA852: =0.4*U852*1.25*P852/1.5 -> 0.032331397 | AB852: =0.4*U852*1.25*Q852/1.5 -> 0.055224724 | AC852: =0.4*U852*1.25*R852/1.5 -> -0.71456928 | AD852: =-U852*U852*U852/X852 -> -5.554218e-05
A853: 40751.987 | B853: 0.98684028 | C853: 1.4962951 | D853: 2.3936479 | E853: 3.211771 | F853: 30.035982 | G853: 0.9631089 | H853: 1.4372851 | I853: 1.6418158 | J853: 43.576613 | K853: =C853-G853 -> 0.53318619 | L853: =D853-H853 -> 0.95636281 | M853: =E853-I853 -> 1.5699551 | N853: =F853-J853 -> -13.540631 | O853: =(K841+K842+K843+K844+K845+K846+K847+K850+K851+K852)/10 -> 0.37500143 | P853: =(L841+L842+L843+L844+L845+L846+L847+L850+L851+L852)/10 -> 0.62488093 | Q853: =(M841+M842+M843+M844+M845+M846+M847+M850+M851+M852)/10 -> 1.003222 | R853: =(N841+N842+N843+N844+N845+N846+N847+N850+N851+N852)/10 -> -12.373221 | S853: 0.88 | T853: 0.16 | U853: 0.16816896 | V853: 23.663996 | W853: 0.026717401 | X853: 79.38871 | Y853: -5.7969169 | Z853: =0.4*U853*1.25*O853/1.5 -> 0.0210212 | AA853: =0.4*U853*1.25*P853/1.5 -> 0.035028525 | AB853: =0.4*U853*1.25*Q853/1.5 -> 0.056236931 | AC853: =0.4*U853*1.25*R853/1.5 -> -0.69359726 | AD853: =-U853*U853*U853/X853 -> -5.9907165e-05
A854: 40751.988 | B854: 0.98753472 | C854: 1.4849917 | D854: 2.3504954 | E854: 3.3389926 | F854: 29.795195 | G854: 0.95713925 | H854: 1.4458415 | I854: 1.8207464 | J854: 33.099637 | K854: =C854-G854 -> 0.52785241 | L854: =D854-H854 -> 0.90465392 | M854: =E854-I854 -> 1.5182462 | N854: =F854-J854 -> -3.3044421 | O854: =(K842+K843+K844+K845+K846+K847+K850+K851+K852+K853)/10 -> 0.38591421 | P854: =(L842+L843+L844+L845+L846+L847+L850+L851+L852+L853)/10 -> 0.63828837 | Q854: =(M842+M843+M844+M845+M846+M847+M850+M851+M852+M853)/10 -> 1.0370825 | R854: =(N842+N843+N844+N845+N846+N847+N850+N851+N852+N853)/10 -> -12.952925 | S854: 0.85 | T854: 0.16 | U854: 0.15934412 | V854: 23.631046 | W854: 0.026001045 | X854: 73.239026 | Y854: -5.3454452 | Z854: =0.4*U854*1.25*O854/1.5 -> 0.02049772 | AA854: =0.4*U854*1.25*P854/1.5 -> 0.033902499 | AB854: =0.4*U854*1.25*Q854/1.5 -> 0.055084331 | AC854: =0.4*U854*1.25*R854/1.5 -> -0.68799083 | AD854: =-U854*U854*U854/X854 -> -5.5241513e-05
A855: 40751.988 | B855: 0.98822917 | C855: 1.4621278 | D855: 2.2709874 | E855: 3.1572192 | F855: 21.873912 | G855: 1.0154027 | H855: 1.4437909 | I855: 1.8528525 | J855: 36.469342 | K855: =C855-G855 -> 0.44672519 | L855: =D855-H855 -> 0.82719643 | M855: =E855-I855 -> 1.3043667 | N855: =F855-J855 -> -14.59543 | O855: =(K843+K844+K845+K846+K847+K850+K851+K852+K853+K854)/10 -> 0.40360794 | P855: =(L843+L844+L845+L846+L847+L850+L851+L852+L853+L854)/10 -> 0.67845953 | Q855: =(M843+M844+M845+M846+M847+M850+M851+M852+M853+M854)/10 -> 1.0806693 | R855: =(N843+N844+N845+N846+N847+N850+N851+N852+N853+N854)/10 -> -10.475444 | S855: 0.85 | T855: 0.16 | U855: 0.15934412 | V855: 23.606483 | W855: 0.026001045 | X855: 73.239026 | Y855: -5.3454452 | Z855: =0.4*U855*1.25*O855/1.5 -> 0.021437518 | AA855: =0.4*U855*1.25*P855/1.5 -> 0.036036179 | AB855: =0.4*U855*1.25*Q855/1.5 -> 0.057399432 | AC855: =0.4*U855*1.25*R855/1.5 -> -0.55640012 | AD855: =-U855*U855*U855/X855 -> -5.5241513e-05
A856: 40751.989 | B856: 0.98892361 | C856: 1.5185003 | D856: 2.4648887 | E856: 2.9420589 | F856: 25.388837 | G856: 1.011927 | H856: 1.5348694 | I856: 1.8075089 | J856: 38.674753 | K856: =C856-G856 -> 0.50657336 | L856: =D856-H856 -> 0.93001926 | M856: =E856-I856 -> 1.13455 | N856: =F856-J856 -> -13.285917 | O856: =(K844+K845+K846+K847+K850+K851+K852+K853+K854+K855)/10 -> 0.41337707 | P856: =(L844+L845+L846+L847+L850+L851+L852+L853+L854+L855)/10 -> 0.70357165 | Q856: =(M844+M845+M846+M847+M850+M851+M852+M853+M854+M855)/10 -> 1.1057814 | R856: =(N844+N845+N846+N847+N850+N851+N852+N853+N854+N855)/10 -> -10.182264 | S856: 0.83 | T856: 0.16 | U856: 0.15342384 | V856: 23.587612 | W856: 0.025492893 | X856: 69.251288 | Y856: -5.0462529 | Z856: =0.4*U856*1.25*O856/1.5 -> 0.021140633 | AA856: =0.4*U856*1.25*P856/1.5 -> 0.035981555 | AB856: =0.4*U856*1.25*Q856/1.5 -> 0.056551077 | AC856: =0.4*U856*1.25*R856/1.5 -> -0.520734 | AD856: =-U856*U856*U856/X856 -> -5.2149565e-05
A857: 40751.99 | B857: 0.98961806 | C857: 1.4770823 | D857: 2.4266676 | E857: 3.6196956 | F857: 23.833161 | G857: 1.0078054 | H857: 1.4457771 | I857: 1.9229474 | J857: 36.504961 | K857: =C857-G857 -> 0.46927688 | L857: =D857-H857 -> 0.98089041 | M857: =E857-I857 -> 1.6967481 | N857: =F857-J857 -> -12.6718 | O857: =(K845+K846+K847+K850+K851+K852+K853+K854+K855+K856)/10 -> 0.42580998 | P857: =(L845+L846+L847+L850+L851+L852+L853+L854+L855+L856)/10 -> 0.72594445 | Q857: =(M845+M846+M847+M850+M851+M852+M853+M854+M855+M856)/10 -> 1.1179277 | R857: =(N845+N846+N847+N850+N851+N852+N853+N854+N855+N856)/10 -> -10.634083 | S857: 0.84 | T857: 0.16 | U857: 0.15638772 | V857: 23.58045 | W857: 0.025750133 | X857: 71.233954 | Y857: -5.195641 | Z857: =0.4*U857*1.25*O857/1.5 -> 0.022197151 | AA857: =0.4*U857*1.25*P857/1.5 -> 0.037842932 | AB857: =0.4*U857*1.25*Q857/1.5 -> 0.05827672 | AC857: =0.4*U857*1.25*R857/1.5 -> -0.55434668 | AD857: =-U857*U857*U857/X857 -> -5.3693398e-05
A858: 40751.99 | B858: 0.9903125 | C858: 1.4857333 | D858: 2.3276249 | E858: 3.1799046 | F858: 25.280551 | G858: 1.0527449 | H858: 1.5212668 | I858: 2.0325937 | J858: 43.579453 | K858: =C858-G858 -> 0.43298837 | L858: =D858-H858 -> 0.80635806 | M858: =E858-I858 -> 1.1473109 | N858: =F858-J858 -> -18.298902 | O858: =(K846+K847+K850+K851+K852+K853+K854+K855+K856+K857)/10 -> 0.42840059 | P858: =(L846+L847+L850+L851+L852+L853+L854+L855+L856+L857)/10 -> 0.73993605 | Q858: =(M846+M847+M850+M851+M852+M853+M854+M855+M856+M857)/10 -> 1.1796568 | R858: =(N846+N847+N850+N851+N852+N853+N854+N855+N856+N857)/10 -> -10.940446 | S858: 0.85 | T858: 0.16 | U858: 0.15934412 | V858: 23.5713 | W858: 0.026001045 | X858: 73.239026 | Y858: -5.3454452 | Z858: =0.4*U858*1.25*O858/1.5 -> 0.022754372 | AA858: =0.4*U858*1.25*P858/1.5 -> 0.039301486 | AB858: =0.4*U858*1.25*Q858/1.5 -> 0.062657123 | AC858: =0.4*U858*1.25*R858/1.5 -> -0.58109856 | AD858: =-U858*U858*U858/X858 -> -5.5241513e-05
A859: 40751.991 | B859: 0.99100694 | C859: 1.4284315 | D859: 2.1711665 | E859: 2.7506022 | F859: 20.168345 | G859: 1.0597668 | H859: 1.6580503 | I859: 1.9648465 | J859: 38.258128 | K859: =C859-G859 -> 0.36866468 | L859: =D859-H859 -> 0.51311623 | M859: =E859-I859 -> 0.78575574 | N859: =F859-J859 -> -18.089784 | O859: =(K847+K850+K851+K852+K853+K854+K855+K856+K857+K858)/10 -> 0.436007 | P859: =(L847+L850+L851+L852+L853+L854+L855+L856+L857+L858)/10 -> 0.76266622 | Q859: =(M847+M850+M851+M852+M853+M854+M855+M856+M857+M858)/10 -> 1.2262557 | R859: =(N847+N850+N851+N852+N853+N854+N855+N856+N857+N858)/10 -> -11.565624 | S859: 0.86 | T859: 0.17 | U859: 0.15946724 | V859: 23.569817 | W859: 0.027205185 | X859: 70.105572 | Y859: -5.5973205 | Z859: =0.4*U859*1.25*O859/1.5 -> 0.023176277 | AA859: =0.4*U859*1.25*P859/1.5 -> 0.040540092 | AB859: =0.4*U859*1.25*Q859/1.5 -> 0.065182535 | AC859: =0.4*U859*1.25*R859/1.5 -> -0.61477938 | AD859: =-U859*U859*U859/X859 -> -5.7844477e-05
A860: 40751.992 | B860: 0.99170139 | C860: 1.4963025 | D860: 2.3889762 | E860: 3.1389906 | F860: 29.31888 | G860: 1.0341836 | H860: 1.5602218 | I860: 2.0715487 | J860: 34.536374 | K860: =C860-G860 -> 0.46211886 | L860: =D860-H860 -> 0.82875446 | M860: =E860-I860 -> 1.0674419 | N860: =F860-J860 -> -5.2174942 | O860: =(K850+K851+K852+K853+K854+K855+K856+K857+K858+K859)/10 -> 0.4307706 | P860: =(L850+L851+L852+L853+L854+L855+L856+L857+L858+L859)/10 -> 0.74332697 | Q860: =(M850+M851+M852+M853+M854+M855+M856+M857+M858+M859)/10 -> 1.2000851 | R860: =(N850+N851+N852+N853+N854+N855+N856+N857+N858+N859)/10 -> -11.897666 | S860: 0.87 | T860: 0.17 | U860: 0.16242792 | V860: 23.562646 | W860: 0.02746758 | X860: 72.038093 | Y860: -5.7562294 | Z860: =0.4*U860*1.25*O860/1.5 -> 0.023323057 | AA860: =0.4*U860*1.25*P860/1.5 -> 0.040245684 | AB860: =0.4*U860*1.25*Q860/1.5 -> 0.064975775 | AC860: =0.4*U860*1.25*R860/1.5 -> -0.64417106 | AD860: =-U860*U860*U860/X860 -> -5.9486695e-05
A861: 40751.992 | B861: 0.99239583 | C861: 1.5076785 | D861: 2.292058 | E861: 3.2805553 | F861: 30.171067 | G861: 1.0350071 | H861: 1.5080916 | I861: 1.9171531 | J861: 40.550202 | K861: =C861-G861 -> 0.47267138 | L861: =D861-H861 -> 0.78396646 | M861: =E861-I861 -> 1.3634021 | N861: =F861-J861 -> -10.379135 | O861: =(K851+K852+K853+K854+K855+K856+K857+K858+K859+K860)/10 -> 0.47698248 | P861: =(L851+L852+L853+L854+L855+L856+L857+L858+L859+L860)/10 -> 0.82620241 | Q861: =(M851+M852+M853+M854+M855+M856+M857+M858+M859+M860)/10 -> 1.3068293 | R861: =(N851+N852+N853+N854+N855+N856+N857+N858+N859+N860)/10 -> -12.419416 | S861: 0.88 | T861: 0.18 | U861: 0.16262734 | V861: 23.5606 | W861: 0.028669893 | X861: 69.186652 | Y861: -6.0155681 | Z861: =0.4*U861*1.25*O861/1.5 -> 0.025856798 | AA861: =0.4*U861*1.25*P861/1.5 -> 0.0447877 | AB861: =0.4*U861*1.25*Q861/1.5 -> 0.070842056 | AC861: =0.4*U861*1.25*R861/1.5 -> -0.67324551 | AD861: =-U861*U861*U861/X861 -> -6.2166778e-05
A862: 40751.993 | B862: 0.99309028 | C862: 1.5364434 | D862: 2.348627 | E862: 3.030328 | F862: 30.422594 | G862: 1.0793709 | H862: 1.632113 | I862: 2.0070179 | J862: 37.843296 | K862: =C862-G862 -> 0.45707244 | L862: =D862-H862 -> 0.71651399 | M862: =E862-I862 -> 1.0233102 | N862: =F862-J862 -> -7.4207019 | O862: =(K852+K853+K854+K855+K856+K857+K858+K859+K860+K861)/10 -> 0.47775551 | P862: =(L852+L853+L854+L855+L856+L857+L858+L859+L860+L861)/10 -> 0.83868558 | Q862: =(M852+M853+M854+M855+M856+M857+M858+M859+M860+M861)/10 -> 1.281822 | R862: =(N852+N853+N854+N855+N856+N857+N858+N859+N860+N861)/10 -> -11.68378 | S862: 0.88 | T862: 0.19 | U862: 0.15990581 | V862: 23.551742 | W862: 0.0295581 | X862: 64.88036 | Y862: -6.0981455 | Z862: =0.4*U862*1.25*O862/1.5 -> 0.025465294 | AA862: =0.4*U862*1.25*P862/1.5 -> 0.044703566 | AB862: =0.4*U862*1.25*Q862/1.5 -> 0.068323593 | AC862: =0.4*U862*1.25*R862/1.5 -> -0.62276808 | AD862: =-U862*U862*U862/X862 -> -6.3020157e-05
A863: 40751.994 | B863: 0.99378472 | C863: 1.4740536 | D863: 2.1496724 | E863: 2.7291081 | F863: 26.1487 | G863: 1.0600373 | H863: 1.5307385 | I863: 1.9739567 | J863: 31.910831 | K863: =C863-G863 -> 0.41401633 | L863: =D863-H863 -> 0.61893385 | M863: =E863-I863 -> 0.75515134 | N863: =F863-J863 -> -5.7621317 | O863: =(K853+K854+K855+K856+K857+K858+K859+K860+K861+K862)/10 -> 0.46771298 | P863: =(L853+L854+L855+L856+L857+L858+L859+L860+L861+L862)/10 -> 0.8247832 | Q863: =(M853+M854+M855+M856+M857+M858+M859+M860+M861+M862)/10 -> 1.2611087 | R863: =(N853+N854+N855+N856+N857+N858+N859+N860+N861+N862)/10 -> -11.680424 | S863: 0.87 | T863: 0.2 | U863: 0.15420942 | V863: 23.533887 | W863: 0.030061715 | X863: 59.32931 | Y863: -5.9811084 | Z863: =0.4*U863*1.25*O863/1.5 -> 0.024041916 | AA863: =0.4*U863*1.25*P863/1.5 -> 0.042396446 | AB863: =0.4*U863*1.25*Q863/1.5 -> 0.064824947 | AC863: =0.4*U863*1.25*R863/1.5 -> -0.60041046 | AD863: =-U863*U863*U863/X863 -> -6.1810665e-05
A864: 40751.994 | B864: 0.99447917 | C864: 1.5757243 | D864: 2.3890872 | E864: 3.2413669 | F864: 28.631735 | G864: 1.0593825 | H864: 1.6527134 | I864: 2.0276183 | J864: 38.86451 | K864: =C864-G864 -> 0.51634178 | L864: =D864-H864 -> 0.73637379 | M864: =E864-I864 -> 1.2137486 | N864: =F864-J864 -> -10.232775 | O864: =(K854+K855+K856+K857+K858+K859+K860+K861+K862+K863)/10 -> 0.45579599 | P864: =(L854+L855+L856+L857+L858+L859+L860+L861+L862+L863)/10 -> 0.79104031 | Q864: =(M854+M855+M856+M857+M858+M859+M860+M861+M862+M863)/10 -> 1.1796283 | R864: =(N854+N855+N856+N857+N858+N859+N860+N861+N862+N863)/10 -> -10.902574 | S864: 0.92 | T864: 0.2 | U864: 0.16916616 | V864: 23.516662 | W864: 0.031631968 | X864: 67.851906 | Y864: -6.9039355 | Z864: =0.4*U864*1.25*O864/1.5 -> 0.025701752 | AA864: =0.4*U864*1.25*P864/1.5 -> 0.04460575 | AB864: =0.4*U864*1.25*Q864/1.5 -> 0.066517731 | AC864: =0.4*U864*1.25*R864/1.5 -> -0.61478218 | AD864: =-U864*U864*U864/X864 -> -7.1347444e-05
A865: 40751.995 | B865: 0.99517361 | C865: 1.5225835 | D865: 2.3320687 | E865: 3.0479264 | F865: 24.698556 | G865: 1.0767119 | H865: 1.5239691 | I865: 1.7966086 | J865: 41.971475 | K865: =C865-G865 -> 0.44587158 | L865: =D865-H865 -> 0.80809964 | M865: =E865-I865 -> 1.2513178 | N865: =F865-J865 -> -17.27292 | O865: =(K855+K856+K857+K858+K859+K860+K861+K862+K863+K864)/10 -> 0.45464493 | P865: =(L855+L856+L857+L858+L859+L860+L861+L862+L863+L864)/10 -> 0.77421229 | Q865: =(M855+M856+M857+M858+M859+M860+M861+M862+M863+M864)/10 -> 1.1491786 | R865: =(N855+N856+N857+N858+N859+N860+N861+N862+N863+N864)/10 -> -11.595407 | S865: 0.9 | T865: 0.21 | U865: 0.16057805 | V865: 23.499233 | W865: 0.031852091 | X865: 60.714954 | Y865: -6.5990459 | Z865: =0.4*U865*1.25*O865/1.5 -> 0.024335332 | AA865: =0.4*U865*1.25*P865/1.5 -> 0.0414405 | AB865: =0.4*U865*1.25*Q865/1.5 -> 0.061510951 | AC865: =0.4*U865*1.25*R865/1.5 -> -0.62065595 | AD865: =-U865*U865*U865/X865 -> -6.8196623e-05
A866: 40751.996 | B866: 0.99586806 | C866: 1.607002 | D866: 2.5224224 | E866: 3.5792329 | F866: 25.107766 | G866: 1.1219262 | H866: 1.5869129 | I866: 2.0640832 | J866: 40.014457 | K866: =C866-G866 -> 0.48507576 | L866: =D866-H866 -> 0.9355095 | M866: =E866-I866 -> 1.5151497 | N866: =F866-J866 -> -14.906691 | O866: =(K856+K857+K858+K859+K860+K861+K862+K863+K864+K865)/10 -> 0.45455957 | P866: =(L856+L857+L858+L859+L860+L861+L862+L863+L864+L865)/10 -> 0.77230262 | Q866: =(M856+M857+M858+M859+M860+M861+M862+M863+M864+M865)/10 -> 1.1438737 | R866: =(N856+N857+N858+N859+N860+N861+N862+N863+N864+N865)/10 -> -11.863156 | S866: 0.93 | T866: 0.21 | U866: 0.16955633 | V866: 23.487875 | W866: 0.032821628 | X866: 65.694522 | Y866: -7.1801109 | Z866: =0.4*U866*1.25*O866/1.5 -> 0.025691151 | AA866: =0.4*U866*1.25*P866/1.5 -> 0.043649599 | AB866: =0.4*U866*1.25*Q866/1.5 -> 0.06465034 | AC866: =0.4*U866*1.25*R866/1.5 -> -0.67049107 | AD866: =-U866*U866*U866/X866 -> -7.4201531e-05
A867: 40751.997 | B867: 0.9965625 | C867: 1.5746116 | D867: 2.4587175 | E867: 3.1064665 | F867: 23.844692 | G867: 1.1163096 | H867: 1.7432779 | I867: 1.9478087 | J867: 39.284361 | K867: =C867-G867 -> 0.45830205 | L867: =D867-H867 -> 0.7154396 | M867: =E867-I867 -> 1.1586578 | N867: =F867-J867 -> -15.439669 | O867: =(K857+K858+K859+K860+K861+K862+K863+K864+K865+K866)/10 -> 0.45240981 | P867: =(L857+L858+L859+L860+L861+L862+L863+L864+L865+L866)/10 -> 0.77285164 | Q867: =(M857+M858+M859+M860+M861+M862+M863+M864+M865+M866)/10 -> 1.1819336 | R867: =(N857+N858+N859+N860+N861+N862+N863+N864+N865+N866)/10 -> -12.025234 | S867: 0.94 | T867: 0.22 | U867: 0.1699973 | V867: 23.486471 | W867: 0.033999466 | X867: 63.748977 | Y867: -7.4571203 | Z867: =0.4*U867*1.25*O867/1.5 -> 0.025636148 | AA867: =0.4*U867*1.25*P867/1.5 -> 0.043794231 | AB867: =0.4*U867*1.25*Q867/1.5 -> 0.066975176 | AC867: =0.4*U867*1.25*R867/1.5 -> -0.68141908 | AD867: =-U867*U867*U867/X867 -> -7.7064231e-05
A868: 40751.997 | B868: 0.99725694 | C868: 1.5515369 | D868: 2.5045204 | E868: 3.3226435 | F868: 21.740852 | G868: 1.0741846 | H868: 1.5429176 | I868: 2.1223533 | J868: 37.313541 | K868: =C868-G868 -> 0.47735236 | L868: =D868-H868 -> 0.96160284 | M868: =E868-I868 -> 1.2002903 | N868: =F868-J868 -> -15.572689 | O868: =(K858+K859+K860+K861+K862+K863+K864+K865+K866+K867)/10 -> 0.45131232 | P868: =(L858+L859+L860+L861+L862+L863+L864+L865+L866+L867)/10 -> 0.74630656 | Q868: =(M858+M859+M860+M861+M862+M863+M864+M865+M866+M867)/10 -> 1.1281246 | R868: =(N858+N859+N860+N861+N862+N863+N864+N865+N866+N867)/10 -> -12.30202 | S868: 0.96 | T868: 0.23 | U868: 0.17348114 | V868: 23.469446 | W868: 0.035507056 | X868: 63.569839 | Y868: -7.9473793 | Z868: =0.4*U868*1.25*O868/1.5 -> 0.026098059 | AA868: =0.4*U868*1.25*P868/1.5 -> 0.043156704 | AB868: =0.4*U868*1.25*Q868/1.5 -> 0.065236114 | AC868: =0.4*U868*1.25*R868/1.5 -> -0.71138951 | AD868: =-U868*U868*U868/X868 -> -8.2130731e-05
A869: 40751.998 | B869: 0.99795139 | C869: 1.62167 | D869: 2.457903 | E869: 3.4124482 | F869: 24.899027 | G869: 1.1208813 | H869: 1.6725398 | I869: 1.9451793 | J869: 41.009837 | K869: =C869-G869 -> 0.50078872 | L869: =D869-H869 -> 0.78536322 | M869: =E869-I869 -> 1.4672688 | N869: =F869-J869 -> -16.110809 | O869: =(K859+K860+K861+K862+K863+K864+K865+K866+K867+K868)/10 -> 0.45574872 | P869: =(L859+L860+L861+L862+L863+L864+L865+L866+L867+L868)/10 -> 0.76183104 | Q869: =(M859+M860+M861+M862+M863+M864+M865+M866+M867+M868)/10 -> 1.1334225 | R869: =(N859+N860+N861+N862+N863+N864+N865+N866+N867+N868)/10 -> -12.029399 | S869: 0.93 | T869: 0.24 | U869: 0.16197479 | V869: 23.449283 | W869: 0.035214322 | X869: 55.877473 | Y869: -7.3590842 | Z869: =0.4*U869*1.25*O869/1.5 -> 0.024606601 | AA869: =0.4*U869*1.25*P869/1.5 -> 0.041132474 | AB869: =0.4*U869*1.25*Q869/1.5 -> 0.061195293 | AC869: =0.4*U869*1.25*R869/1.5 -> -0.64948646 | AD869: =-U869*U869*U869/X869 -> -7.6051103e-05
A870: 40751.999 | B870: 0.99864583 | C870: 1.6357945 | D870: 2.4760204 | E870: 3.3622522 | F870: 25.526794 | G870: 1.1450984 | H870: 1.7155902 | I870: 2.1246518 | J870: 37.833925 | K870: =C870-G870 -> 0.49069616 | L870: =D870-H870 -> 0.76043017 | M870: =E870-I870 -> 1.2376005 | N870: =F870-J870 -> -12.307131 | O870: =(K860+K861+K862+K863+K864+K865+K866+K867+K868+K869)/10 -> 0.46896113 | P870: =(L860+L861+L862+L863+L864+L865+L866+L867+L868+L869)/10 -> 0.78905574 | Q870: =(M860+M861+M862+M863+M864+M865+M866+M867+M868+M869)/10 -> 1.2015738 | R870: =(N860+N861+N862+N863+N864+N865+N866+N867+N868+N869)/10 -> -11.831502 | S870: 0.95 | T870: 0.25 | U870: 0.16556382 | V870: 23.446762 | W870: 0.036713676 | X870: 55.996939 | Y870: -7.8424244 | Z870: =0.4*U870*1.25*O870/1.5 -> 0.025880999 | AA870: =0.4*U870*1.25*P870/1.5 -> 0.043546361 | AB870: =0.4*U870*1.25*Q870/1.5 -> 0.066312385 | AC870: =0.4*U870*1.25*R870/1.5 -> -0.6529562 | AD870: =-U870*U870*U870/X870 -> -8.1046082e-05
A871: 40751.999 | B871: 0.99934028 | C871: 1.657273 | D871: 2.4665913 | E871: 3.2847144 | F871: 24.342663 | G871: 1.0885847 | H871: 1.5921114 | I871: 1.9330642 | J871: 36.893002 | K871: =C871-G871 -> 0.56868832 | L871: =D871-H871 -> 0.87447991 | M871: =E871-I871 -> 1.3516502 | N871: =F871-J871 -> -12.550339 | O871: =(K861+K862+K863+K864+K865+K866+K867+K868+K869+K870)/10 -> 0.47181886 | P871: =(L861+L862+L863+L864+L865+L866+L867+L868+L869+L870)/10 -> 0.78222331 | Q871: =(M861+M862+M863+M864+M865+M866+M867+M868+M869+M870)/10 -> 1.2185897 | R871: =(N861+N862+N863+N864+N865+N866+N867+N868+N869+N870)/10 -> -12.540465 | S871: 0.98 | T871: 0.26 | U871: 0.17222318 | V871: 23.434929 | W871: 0.038621644 | X871: 57.598837 | Y871: -8.5818196 | Z871: =0.4*U871*1.25*O871/1.5 -> 0.027086048 | AA871: =0.4*U871*1.25*P871/1.5 -> 0.044905662 | AB871: =0.4*U871*1.25*Q871/1.5 -> 0.069956465 | AC871: =0.4*U871*1.25*R871/1.5 -> -0.7199196 | AD871: =-U871*U871*U871/X871 -> -8.8687231e-05

Sheet Лист2
A2: date Time Msk | B2: Wup10 | C2: Wdo10 | D2: Tup10 | E2: Tdo10 | F2: dv10 | G2: dt10 | H2: strat | I2: iter | J2: dv10 | K2: dt10 | L2: Ustar | M2: Tstar | N2: L | O2: Heat
A3: 40751.422 | B3: 8.23 | C3: 7.23 | D3: 35.24 | E3: 35.78 | F3: 1 | G3: -0.54 | H3: 1 | I3: 7 | J3: 1 | K3: -0.54 | L3: 0.34288171 | M3: -0.24284421 | N3: -36.309658 | O3: 107.43087
A4: 40751.423 | B4: 8.35 | C4: 7.35 | D4: 35.29 | E4: 35.84 | F4: 1 | G4: -0.55 | H4: 1 | I4: 7 | J4: 1 | K4: -0.55 | L4: 0.34377766 | M4: -0.24824312 | N4: -35.705847 | O4: 110.10623
A5: 40751.424 | B5: 8.35 | C5: 7.35 | D5: 35.31 | E5: 35.84 | F5: 1 | G5: -0.53 | H5: 1 | I5: 7 | J5: 1 | K5: -0.53 | L5: 0.34197576 | M5: -0.23746767 | N5: -36.935794 | O5: 104.7748
A6: 40751.424 | B6: 8.32 | C6: 7.34 | D6: 35.31 | E6: 35.87 | F6: 0.98 | G6: -0.56 | H6: 1 | I6: 7 | J6: 0.98 | K6: -0.56 | L6: 0.33974209 | M6: -0.25571998 | N6: -33.852856 | O6: 112.09107
A7: 40751.425 | B7: 8.16 | C7: 7.18 | D7: 35.34 | E7: 35.91 | F7: 0.98 | G7: -0.57 | H7: 1 | I7: 7 | J7: 0.98 | K7: -0.57 | L7: 0.34061574 | M7: -0.26121249 | N7: -33.311697 | O7: 114.79307
A8: 40751.426 | B8: 8.06 | C8: 7.1 | D8: 35.38 | E8: 35.94 | F8: 0.96 | G8: -0.56 | H8: 1 | I8: 7 | J8: 0.96 | K8: -0.56 | L8: 0.33481189 | M8: -0.25784858 | N8: -32.606056 | O8: 111.38395
A9: 40751.426 | B9: 8.07 | C9: 7.13 | D9: 35.4 | E9: 35.97 | F9: 0.94 | G9: -0.57 | H9: 1 | I9: 7 | J9: 0.94 | K9: -0.57 | L9: 0.33073934 | M9: -0.26565071 | N9: -30.883179 | O9: 113.35844
A10: 40751.427 | B10: 7.89 | C10: 7.03 | D10: 35.44 | E10: 36.06 | F10: 0.86 | G10: -0.62 | H10: 1 | I10: 7 | J10: 0.86 | K10: -0.62 | L10: 0.3149836 | M10: -0.30505217 | N10: -24.392877 | O10: 123.97071
A11: 40751.428 | B11: 7.8 | C11: 6.97 | D11: 35.54 | E11: 36.11 | F11: 0.83 | G11: -0.57 | H11: 1 | I11: 7 | J11: 0.83 | K11: -0.57 | L11: 0.30337007 | M11: -0.27968173 | N11: -24.679857 | O11: 109.46968
A12: 40751.428 | B12: 7.79 | C12: 6.97 | D12: 35.57 | E12: 36.16 | F12: 0.82 | G12: -0.59 | H12: 1 | I12: 7 | J12: 0.82 | K12: -0.59 | L12: 0.30251633 | M12: -0.29310113 | N12: -23.417547 | O12: 114.39929
A13: 40751.429 | B13: 7.56 | C13: 6.78 | D13: 35.61 | E13: 36.19 | F13: 0.78 | G13: -0.58 | H13: 1 | I13: 7 | J13: 0.78 | K13: -0.58 | L13: 0.29162323 | M13: -0.2932566 | N13: -21.749922 | O13: 110.33846
A14: 40751.43 | B14: 7.49 | C14: 6.71 | D14: 35.6 | E14: 36.19 | F14: 0.78 | G14: -0.59 | H14: 1 | I14: 7 | J14: 0.78 | K14: -0.59 | L14: 0.29243471 | M14: -0.29940453 | N14: -21.422035 | O14: 112.9651
... A1379: 40752.378 | B1379: 0.67 | C1379: 0.61 | D1379: 3.32 | E1379: 3.36 | F1379: 0.06 | G1379: -0.04 | H1379: 1 | I1379: 7 | J1379: 0.06 | K1379: -0.04 | L1379: 0.036218274 | M1379: -0.035742936 | N1379: -2.752495 | O1379: 1.6702251
A1380: 40752.378 | B1380: 0 | C1380: 0 | D1380: 0 | E1380: 0 | F1380: 0 | G1380: 0 | H1380: 3 | I1380: 1 | J1380: 0 | K1380: 0 | L1380: NaN | M1380: NaN | N1380: 0 | O1380: 0
A1381: 40752.379 | B1381: 0 | C1381: 0 | D1381: 0 | E1381: 0 | F1381: 0 | G1381: 0 | H1381: 3 | I1381: 1 | J1381: 0 | K1381: 0 | L1381: NaN | M1381: NaN | N1381: 0 | O1381: 0
A1382: 40752.38 | B1382: 0 | C1382: 0 | D1382: 0 | E1382: 0 | F1382: 0 | G1382: 0 | H1382: 3 | I1382: 1 | J1382: 0 | K1382: 0 | L1382: NaN | M1382: NaN | N1382: 0 | O1382: 0
A1383: 40752.381 | B1383: 0 | C1383: 0 | D1383: 0 | E1383: 0 | F1383: 0 | G1383: 0 | H1383: 3 | I1383: 1 | J1383: 0 | K1383: 0 | L1383: NaN | M1383: NaN | N1383: 0 | O1383: 0
A1384: 40752.381 | B1384: 0 | C1384: 0 | D1384: 0 | E1384: 0 | F1384: 0 | G1384: 0 | H1384: 3 | I1384: 1 | J1384: 0 | K1384: 0 | L1384: NaN | M1384: NaN | N1384: 0 | O1384: 0
A1385: 40752.382 | B1385: 0 | C1385: 0 | D1385: 0 | E1385: 0 | F1385: 0 | G1385: 0 | H1385: 3 | I1385: 1 | J1385: 0 | K1385: 0 | L1385: NaN | M1385: NaN | N1385: 0 | O1385: 0
A1386: 40752.383 | B1386: 0 | C1386: 0 | D1386: 0 | E1386: 0 | F1386: 0 | G1386: 0 | H1386: 3 | I1386: 1 | J1386: 0 | K1386: 0 | L1386: NaN | M1386: NaN | N1386: 0 | O1386: 0
A1387: 40752.383 | B1387: 0 | C1387: 0 | D1387: 0 | E1387: 0 | F1387: 0 | G1387: 0 | H1387: 3 | I1387: 1 | J1387: 0 | K1387: 0 | L1387: NaN | M1387: NaN | N1387: 0 | O1387: 0
A1388: 40752.384 | B1388: 0 | C1388: 0 | D1388: 0 | E1388: 0 | F1388: 0 | G1388: 0 | H1388: 3 | I1388: 1 | J1388: 0 | K1388: 0 | L1388: NaN | M1388: NaN | N1388: 0 | O1388: 0
A1389: 40752.385 | B1389: 0 | C1389: 0 | D1389: 0 | E1389: 0 | F1389: 0 | G1389: 0 | H1389: 3 | I1389: 1 | J1389: 0 | K1389: 0 | L1389: NaN | M1389: NaN | N1389: 0 | O1389: 0
A1390: 40752.385 | B1390: 0 | C1390: 0 | D1390: 0 | E1390: 0 | F1390: 0 | G1390: 0 | H1390: 3 | I1390: 1 | J1390: 0 | K1390: 0 | L1390: NaN | M1390: NaN | N1390: 0 | O1390: 0
A1391: 40752.386 | B1391: 0.75 | C1391: 0.75 | D1391: 3.43 | E1391: 3.46 | F1391: 0 | G1391: -0.03 | H1391: 1 | I1391: 1 | J1391: 0 | K1391: -0.03 | L1391: NaN | M1391: NaN | N1391: NaN | O1391: NaN
A1392: 40752.387 | B1392: 1.45 | C1392: 1.37 | D1392: 6.85 | E1392: 6.94 | F1392: 0.08 | G1392: -0.09 | H1392: 1 | I1392: 8 | J1392: 0.08 | K1392: -0.09 | L1392: 0.050872996 | M1392: -0.085158797 | N1392: -2.2793257 | O1392: 5.5895116
A1393: 40752.388 | B1393: 2.02 | C1393: 1.9 | D1393: 10.29 | E1393: 10.42 | F1393: 0.12 | G1393: -0.13 | H1393: 1 | I1393: 7 | J1393: 0.12 | K1393: -0.13 | L1393: 0.069229683 | M1393: -0.11047053 | N1393: -3.2538648 | O1393: 9.8672428
A1394: 40752.388 | B1394: 2.71 | C1394: 2.49 | D1394: 13.72 | E1394: 13.9 | F1394: 0.22 | G1394: -0.18 | H1394: 1 | I1394: 8 | J1394: 0.22 | K1394: -0.18 | L1394: 0.10546081 | M1394: -0.12377661 | N1394: -6.7391463 | O1394: 16.841731
A1395: 40752.389 | B1395: 3.48 | C1395: 3.17 | D1395: 17.15 | E1395: 17.4 | F1395: 0.31 | G1395: -0.25 | H1395: 1 | I1395: 8 | J1395: 0.31 | K1395: -0.25 | L1395: 0.13854615 | M1395: -0.1581615 | N1395: -9.1022633 | O1395: 28.27172
A1396: 40752.39 | B1396: 4.19 | C1396: 3.77 | D1396: 20.59 | E1396: 20.88 | F1396: 0.42 | G1396: -0.29 | H1396: 1 | I1396: 8 | J1396: 0.42 | K1396: -0.29 | L1396: 0.17236749 | M1396: -0.16523969 | N1396: -13.485208 | O1396: 36.747411
A1397: 40752.39 | B1397: 4.9 | C1397: 4.41 | D1397: 24.03 | E1397: 24.36 | F1397: 0.49 | G1397: -0.33 | H1397: 1 | I1397: 7 | J1397: 0.49 | K1397: -0.33 | L1397: 0.19482947 | M1397: -0.18067328 | N1397: -15.757113 | O1397: 45.415658
A1398: 40752.391 | B1398: 5.64 | C1398: 5.07 | D1398: 27.48 | E1398: 27.85 | F1398: 0.57 | G1398: -0.37 | H1398: 1 | I1398: 7 | J1398: 0.57 | K1398: -0.37 | L1398: 0.21946177 | M1398: -0.19438534 | N1398: -18.582986 | O1398: 55.040124
A1399: 40752.392 | B1399: 6.32 | C1399: 5.68 | D1399: 30.93 | E1399: 31.32 | F1399: 0.64 | G1399: -0.39 | H1399: 1 | I1399: 7 | J1399: 0.64 | K1399: -0.39 | L1399: 0.23923283 | M1399: -0.19713796 | N1399: -21.773716 | O1399: 60.848246
A1400: 40752.392 | B1400: 7.1 | C1400: 6.38 | D1400: 34.37 | E1400: 34.8 | F1400: 0.72 | G1400: -0.43 | H1400: 1 | I1400: 7 | J1400: 0.72 | K1400: -0.43 | L1400: 0.26326792 | M1400: -0.21109871 | N1400: -24.624735 | O1400: 71.703529
A1401: 40752.393 | B1401: 7.08 | C1401: 6.25 | D1401: 34.38 | E1401: 34.81 | F1401: 0.83 | G1401: -0.43 | H1401: 1 | I1401: 7 | J1401: 0.83 | K1401: -0.43 | L1401: 0.29061654 | M1401: -0.1990682 | N1401: -31.81999 | O1401: 74.641308
A1402: 40752.394 | B1402: 7.13 | C1402: 6.28 | D1402: 34.4 | E1402: 34.81 | F1402: 0.85 | G1402: -0.41 | H1402: 1 | I1402: 7 | J1402: 0.85 | K1402: -0.41 | L1402: 0.29352253 | M1402: -0.18620986 | N1402: -34.700958 | O1402: 70.518187
A1403: 40752.394 | B1403: 7.17 | C1403: 6.32 | D1403: 34.41 | E1403: 34.8 | F1403: 0.85 | G1403: -0.39 | H1403: 1 | I1403: 7 | J1403: 0.85 | K1403: -0.39 | L1403: 0.29143349 | M1403: -0.17537415 | N1403: -36.322406 | O1403: 65.941993
... A2274: 40752.999 | B2274: 4.75 | C2274: 3.73 | D2274: 25.7 | E2274: 25.49 | F2274: 1.02 | G2274: 0.21 | H2274: 2 | I2274: 7 | J2274: 1.02 | K2274: 0.21 | L2274: 0.1961258 | M2274: 0.035374609 | N2274: 81.552835 | O2274: -8.9512438

Sheet 280711
B1: Time | C1: PM0.5 | D1: PM1.0 | E1: PM1.5 | F1: PM15 | G1: PM0.5 | H1: PM1.0 | I1: PM1.5 | J1: PM15 | K1: dPM0.5 | L1: dPM1.0 | M1: dPM1.5 | N1: dPM15 | O1: dPM0.5-10m | P1: dPM1.0-10m | Q1: dPM1.5-10m | R1: dPM15-10m | S1: dv10 | T1: dt10 | U1: Ustar | V1: Tsurf | W1: L | X1: Heat | Y1: FPM0.5 | Z1: FPM1.0 | AA1: FPM1.5 | AB1: FPM15
A2: 40752 | B2: 3.4722222e-05 | C2: 1.6363512 | D2: 2.5373264 | E2: 3.5599803 | F2: 24.76884 | G2: 1.1270422 | H2: 1.5888254 | I2: 1.997887 | J2: 39.477316 | K2: =C2-G2 -> 0.50930902 | L2: =D2-H2 -> 0.94850102 | M2: =E2-I2 -> 1.5620933 | N2: =F2-J2 -> -14.708477 | O2: =('270711'!K862+'270711'!K863+'270711'!K864+'270711'!K865+'270711'!K866+'270711'!K867+'270711'!K868+'270711'!K869+'270711'!K870+'270711'!K871)/10 -> 0.48142055 | P2: =('270711'!L862+'270711'!L863+'270711'!L864+'270711'!L865+'270711'!L866+'270711'!L867+'270711'!L868+'270711'!L869+'270711'!L870+'270711'!L871)/10 -> 0.79127465 | Q2: =('270711'!M862+'270711'!M863+'270711'!M864+'270711'!M865+'270711'!M866+'270711'!M867+'270711'!M868+'270711'!M869+'270711'!M870+'270711'!M871)/10 -> 1.2174145 | R2: =('270711'!N862+'270711'!N863+'270711'!N864+'270711'!N865+'270711'!N866+'270711'!N867+'270711'!N868+'270711'!N869+'270711'!N870+'270711'!N871)/10 -> -12.757586 | S2: 0.99 | T2: 0.26 | U2: 0.17523793 | W2: 59.045299 | X2: -8.8189591 | Y2: =0.4*U2*1.25*O2/1.5 -> 0.028121047 | Z2: =0.4*U2*1.25*P2/1.5 -> 0.046220444 | AA2: =0.4*U2*1.25*Q2/1.5 -> 0.0711124 | AB2: =0.4*U2*1.25*R2/1.5 -> -0.7452043 | AC2: =-U2*U2*U2/W2 -> -9.11379e-05
A3: 40752.001 | B3: 0.00072916667 | C3: 1.6510039 | D3: 2.5296311 | E3: 3.5181283 | F3: 23.648669 | G3: 1.1501658 | H3: 1.6452438 | I3: 2.1907274 | J3: 34.791574 | K3: =C3-G3 -> 0.50083805 | L3: =D3-H3 -> 0.88438722 | M3: =E3-I3 -> 1.3274009 | N3: =F3-J3 -> -11.142906 | O3: =('270711'!K863+'270711'!K864+'270711'!K865+'270711'!K866+'270711'!K867+'270711'!K868+'270711'!K869+'270711'!K870+'270711'!K871+K2)/10 -> 0.48664421 | P3: =('270711'!L863+'270711'!L864+'270711'!L865+'270711'!L866+'270711'!L867+'270711'!L868+'270711'!L869+'270711'!L870+'270711'!L871+L2)/10 -> 0.81447335 | Q3: =('270711'!M863+'270711'!M864+'270711'!M865+'270711'!M866+'270711'!M867+'270711'!M868+'270711'!M869+'270711'!M870+'270711'!M871+M2)/10 -> 1.2712928 | R3: =('270711'!N863+'270711'!N864+'270711'!N865+'270711'!N866+'270711'!N867+'270711'!N868+'270711'!N869+'270711'!N870+'270711'!N871+N2)/10 -> -13.486363 | S3: 0.98 | T3: 0.26 | U3: 0.17222318 | V3: 14.051807 | W3: 57.598837 | X3: -8.5818196 | Y3: =0.4*U3*1.25*O3/1.5 -> 0.027937138 | Z3: =0.4*U3*1.25*P3/1.5 -> 0.046757064 | AA3: =0.4*U3*1.25*Q3/1.5 -> 0.072982031 | AB3: =0.4*U3*1.25*R3/1.5 -> -0.77422145 | AC3: =-U3*U3*U3/W3 -> -8.8687231e-05
A4: 40752.001 | B4: 0.0014236111 | C4: 1.650248 | D4: 2.623914 | E4: 3.7488332 | F4: 24.121571 | G4: 1.193286 | H4: 1.7582705 | I4: 2.167332 | J4: 35.847283 | K4: =C4-G4 -> 0.45696194 | L4: =D4-H4 -> 0.86564353 | M4: =E4-I4 -> 1.5815012 | N4: =F4-J4 -> -11.725713 | O4: =('270711'!K864+'270711'!K865+'270711'!K866+'270711'!K867+'270711'!K868+'270711'!K869+'270711'!K870+'270711'!K871+K2+K3)/10 -> 0.49532638 | P4: =('270711'!L864+'270711'!L865+'270711'!L866+'270711'!L867+'270711'!L868+'270711'!L869+'270711'!L870+'270711'!L871+L2+L3)/10 -> 0.84101869 | Q4: =('270711'!M864+'270711'!M865+'270711'!M866+'270711'!M867+'270711'!M868+'270711'!M869+'270711'!M870+'270711'!M871+M2+M3)/10 -> 1.3285178 | R4: =('270711'!N864+'270711'!N865+'270711'!N866+'270711'!N867+'270711'!N868+'270711'!N869+'270711'!N870+'270711'!N871+N2+N3)/10 -> -14.024441 | S4: 0.94 | T4: 0.27 | U4: 0.15767634 | V4: 14.046003 | W4: 49.535936 | X4: -7.6576849 | Y4: =0.4*U4*1.25*O4/1.5 -> 0.02603375 | Z4: =0.4*U4*1.25*P4/1.5 -> 0.044202916 | AA4: =0.4*U4*1.25*Q4/1.5 -> 0.069825274 | AB4: =0.4*U4*1.25*R4/1.5 -> -0.73710749 | AC4: =-U4*U4*U4/W4 -> -7.9136934e-05
A5: 40752.002 | B5: 0.0021180556 | C5: 1.6834937 | D5: 2.6845347 | E5: 3.6730319 | F5: 27.003432 | G5: 1.1311506 | H5: 1.6749616 | I5: 2.0498665 | J5: 39.416215 | K5: =C5-G5 -> 0.55234314 | L5: =D5-H5 -> 1.009573 | M5: =E5-I5 -> 1.6231654 | N5: =F5-J5 -> -12.412783 | O5: =('270711'!K865+'270711'!K866+'270711'!K867+'270711'!K868+'270711'!K869+'270711'!K870+'270711'!K871+K2+K3+K4)/10 -> 0.4893884 | P5: =('270711'!L865+'270711'!L866+'270711'!L867+'270711'!L868+'270711'!L869+'270711'!L870+'270711'!L871+L2+L3+L4)/10 -> 0.85394566 | Q5: =('270711'!M865+'270711'!M866+'270711'!M867+'270711'!M868+'270711'!M869+'270711'!M870+'270711'!M871+M2+M3+M4)/10 -> 1.365293 | R5: =('270711'!N865+'270711'!N866+'270711'!N867+'270711'!N868+'270711'!N869+'270711'!N870+'270711'!N871+N2+N3+N4)/10 -> -14.173734 | S5: 0.98 | T5: 0.27 | U5: 0.1698576 | V5: 14.043683 | W5: 54.984379 | X5: -8.624499 | Y5: =0.4*U5*1.25*O5/1.5 -> 0.02770878 | Z5: =0.4*U5*1.25*P5/1.5 -> 0.04834972 | AA5: =0.4*U5*1.25*Q5/1.5 -> 0.0773018 | AB5: =0.4*U5*1.25*R5/1.5 -> -0.8025055 | AC5: =-U5*U5*U5/W5 -> -8.9128301e-05
A6: 40752.003 | B6: 0.0028125 | C6: 1.7260344 | D6: 2.8855054 | E6: 3.4990977 | F6: 26.819696 | G6: 1.1936983 | H6: 1.7157997 | I6: 2.19297 | J6: 35.198248 | K6: =C6-G6 -> 0.53233607 | L6: =D6-H6 -> 1.1697057 | M6: =E6-I6 -> 1.3061278 | N6: =F6-J6 -> -8.3785516 | O6: =('270711'!K866+'270711'!K867+'270711'!K868+'270711'!K869+'270711'!K870+'270711'!K871+K2+K3+K4+K5)/10 -> 0.50003555 | P6: =('270711'!L866+'270711'!L867+'270711'!L868+'270711'!L869+'270711'!L870+'270711'!L871+L2+L3+L4+L5)/10 -> 0.87409301 | Q6: =('270711'!M866+'270711'!M867+'270711'!M868+'270711'!M869+'270711'!M870+'270711'!M871+M2+M3+M4+M5)/10 -> 1.4024778 | R6: =('270711'!N866+'270711'!N867+'270711'!N868+'270711'!N869+'270711'!N870+'270711'!N871+N2+N3+N4+N5)/10 -> -13.687721 | S6: 0.95 | T6: 0.28 | U6: 0.15834972 | V6: 14.045387 | W6: 48.588221 | X6: -7.9074995 | Y6: =0.4*U6*1.25*O6/1.5 -> 0.026393497 | Z6: =0.4*U6*1.25*P6/1.5 -> 0.046137461 | AA6: =0.4*U6*1.25*Q6/1.5 -> 0.074027322 | AB6: =0.4*U6*1.25*R6/1.5 -> -0.72248225 | AC6: =-U6*U6*U6/W6 -> -8.1718597e-05
A7: 40752.003 | B7: 0.0035069444 | C7: 1.66628 | D7: 2.5963891 | E7: 3.8235738 | F7: 26.050096 | G7: 1.1292091 | H7: 1.6141252 | I7: 1.7505473 | J7: 32.835838 | K7: =C7-G7 -> 0.53707084 | L7: =D7-H7 -> 0.98226389 | M7: =E7-I7 -> 2.0730265 | N7: =F7-J7 -> -6.7857412 | O7: =('270711'!K867+'270711'!K868+'270711'!K869+'270711'!K870+'270711'!K871+K2+K3+K4+K5+K6)/10 -> 0.50476158 | P7: =('270711'!L867+'270711'!L868+'270711'!L869+'270711'!L870+'270711'!L871+L2+L3+L4+L5+L6)/10 -> 0.89751263 | Q7: =('270711'!M867+'270711'!M868+'270711'!M869+'270711'!M870+'270711'!M871+M2+M3+M4+M5+M6)/10 -> 1.3815756 | R7: =('270711'!N867+'270711'!N868+'270711'!N869+'270711'!N870+'270711'!N871+N2+N3+N4+N5+N6)/10 -> -13.034907 | S7: 0.95 | T7: 0.29 | U7: 0.15598808 | V7: 14.039093 | W7: 46.452689 | X7: -7.9064521 | Y7: =0.4*U7*1.25*O7/1.5 -> 0.026245597 | Z7: =0.4*U7*1.25*P7/1.5 -> 0.046667091 | AA7: =0.4*U7*1.25*Q7/1.5 -> 0.071836442 | AB7: =0.4*U7*1.25*R7/1.5 -> -0.67776336 | AC7: =-U7*U7*U7/W7 -> -8.1707774e-05
A8: 40752.004 | B8: 0.0042013889 | C8: 1.7375981 | D8: 2.6420922 | E8: 3.664746 | F8: 24.027879 | G8: 1.1786425 | H8: 1.7343579 | I8: 2.2115282 | J8: 34.112814 | K8: =C8-G8 -> 0.55895559 | L8: =D8-H8 -> 0.90773425 | M8: =E8-I8 -> 1.4532178 | N8: =F8-J8 -> -10.084936 | O8: =('270711'!K868+'270711'!K869+'270711'!K870+'270711'!K871+K2+K3+K4+K5+K6+K7)/10 -> 0.51263846 | P8: =('270711'!L868+'270711'!L869+'270711'!L870+'270711'!L871+L2+L3+L4+L5+L6+L7)/10 -> 0.92419506 | Q8: =('270711'!M868+'270711'!M869+'270711'!M870+'270711'!M871+M2+M3+M4+M5+M6+M7)/10 -> 1.4730125 | R8: =('270711'!N868+'270711'!N869+'270711'!N870+'270711'!N871+N2+N3+N4+N5+N6+N7)/10 -> -12.169514 | S8: 0.94 | T8: 0.29 | U8: 0.15290687 | V8: 14.022467 | W8: 45.198928 | X8: -7.6536945 | Y8: =0.4*U8*1.25*O8/1.5 -> 0.026128648 | Z8: =0.4*U8*1.25*P8/1.5 -> 0.047105258 | AA8: =0.4*U8*1.25*Q8/1.5 -> 0.075077909 | AB8: =0.4*U8*1.25*R8/1.5 -> -0.62026743 | AC8: =-U8*U8*U8/W8 -> -7.9095698e-05
A9: 40752.005 | B9: 0.0048958333 | C9: 1.7097953 | D9: 2.599198 | E9: 3.5537431 | F9: 25.937165 | G9: 1.2113994 | H9: 1.8187777 | I9: 2.1597305 | J9: 33.735747 | K9: =C9-G9 -> 0.49839597 | L9: =D9-H9 -> 0.78042033 | M9: =E9-I9 -> 1.3940126 | N9: =F9-J9 -> -7.798582 | O9: =('270711'!K869+'270711'!K870+'270711'!K871+K2+K3+K4+K5+K6+K7+K8)/10 -> 0.52079879 | P9: =('270711'!L869+'270711'!L870+'270711'!L871+L2+L3+L4+L5+L6+L7+L8)/10 -> 0.9188082 | Q9: =('270711'!M869+'270711'!M870+'270711'!M871+M2+M3+M4+M5+M6+M7+M8)/10 -> 1.4983052 | R9: =('270711'!N869+'270711'!N870+'270711'!N871+N2+N3+N4+N5+N6+N7+N8)/10 -> -11.620739 | S9: 0.94 | T9: 0.29 | U9: 0.15290687 | V9: 14.014923 | W9: 45.198928 | X9: -7.6536945 | Y9: =0.4*U9*1.25*O9/1.5 -> 0.026544571 | Z9: =0.4*U9*1.25*P9/1.5 -> 0.046830695 | AA9: =0.4*U9*1.25*Q9/1.5 -> 0.076367055 | AB9: =0.4*U9*1.25*R9/1.5 -> -0.59229692 | AC9: =-U9*U9*U9/W9 -> -7.9095698e-05
A10: 40752.006 | B10: 0.0055902778 | C10: 1.7066432 | D10: 2.6638439 | E10: 3.4138582 | F10: 21.249531 | G10: 1.224428 | H10: 1.7332946 | I10: 2.0742474 | J10: 37.23474 | K10: =C10-G10 -> 0.48221517 | L10: =D10-H10 -> 0.93054928 | M10: =E10-I10 -> 1.3396108 | N10: =F10-J10 -> -15.985209 | O10: =('270711'!K870+'270711'!K871+K2+K3+K4+K5+K6+K7+K8+K9)/10 -> 0.52055951 | P10: =('270711'!L870+'270711'!L871+L2+L3+L4+L5+L6+L7+L8+L9)/10 -> 0.91831391 | Q10: =('270711'!M870+'270711'!M871+M2+M3+M4+M5+M6+M7+M8+M9)/10 -> 1.4909796 | R10: =('270711'!N870+'270711'!N871+N2+N3+N4+N5+N6+N7+N8+N9)/10 -> -10.789516 | S10: 0.93 | T10: 0.29 | U10: 0.14981808 | V10: 14.01113 | W10: 43.957222 | X10: -7.4025391 | Y10: =0.4*U10*1.25*O10/1.5 -> 0.025996409 | Z10: =0.4*U10*1.25*P10/1.5 -> 0.045860009 | AA10: =0.4*U10*1.25*Q10/1.5 -> 0.074458568 | AB10: =0.4*U10*1.25*R10/1.5 -> -0.53882152 | AC10: =-U10*U10*U10/W10 -> -7.6500178e-05
A11: 40752.006 | B11: 0.0062847222 | C11: 1.7028527 | D11: 2.6583401 | E11: 3.7151506 | F11: 25.9797 | G11: 1.2502217 | H11: 1.8813306 | I11: 2.1539701 | J11: 30.42153 | K11: =C11-G11 -> 0.45263101 | L11: =D11-H11 -> 0.77700951 | M11: =E11-I11 -> 1.5611805 | N11: =F11-J11 -> -4.4418304 | O11: =('270711'!K871+K2+K3+K4+K5+K6+K7+K8+K9+K10)/10 -> 0.51971141 | P11: =('270711'!L871+L2+L3+L4+L5+L6+L7+L8+L9+L10)/10 -> 0.93532582 | Q11: =('270711'!M871+M2+M3+M4+M5+M6+M7+M8+M9+M10)/10 -> 1.5011807 | R11: =('270711'!N871+N2+N3+N4+N5+N6+N7+N8+N9+N10)/10 -> -11.157324 | S11: 0.91 | T11: 0.28 | U11: 0.14602889 | V11: 14.008733 | W11: 43.477142 | X11: -6.9306447 | Y11: =0.4*U11*1.25*O11/1.5 -> 0.025297627 | Z11: =0.4*U11*1.25*P11/1.5 -> 0.045528197 | AA11: =0.4*U11*1.25*Q11/1.5 -> 0.073071915 | AB11: =0.4*U11*1.25*R11/1.5 -> -0.5430972 | AC11: =-U11*U11*U11/W11 -> -7.1623471e-05
A12: 40752.007 | B12: 0.0069791667 | C12: 1.7445822 | D12: 2.7703501 | E12: 3.4862078 | F12: 22.341981 | G12: 1.2380758 | H12: 1.8151947 | I12: 2.3265216 | J12: 38.122499 | K12: =C12-G12 -> 0.50650643 | L12: =D12-H12 -> 0.95515549 | M12: =E12-I12 -> 1.1596863 | N12: =F12-J12 -> -15.780518 | O12: =(K2+K3+K4+K5+K6+K7+K8+K9+K10+K11)/10 -> 0.50810568 | P12: =(L2+L3+L4+L5+L6+L7+L8+L9+L10+L11)/10 -> 0.92557878 | Q12: =(M2+M3+M4+M5+M6+M7+M8+M9+M10+M11)/10 -> 1.5221337 | R12: =(N2+N3+N4+N5+N6+N7+N8+N9+N10+N11)/10 -> -10.346473 | S12: 0.92 | T12: 0.29 | U12: 0.14672161 | V12: 13.99923 | W12: 42.727572 | X12: -7.1530681 | Y12: =0.4*U12*1.25*O12/1.5 -> 0.024850028 | Z12: =0.4*U12*1.25*P12/1.5 -> 0.04526747 | AA12: =0.4*U12*1.25*Q12/1.5 -> 0.074443301 | AB12: =0.4*U12*1.25*R12/1.5 -> -0.50601705 | AC12: =-U12*U12*U12/W12 -> -7.3922056e-05
A13: 40752.008 | B13: 0.0076736111 | C13: 1.6920013 | D13: 2.6054135 | E13: 3.3212712 | F13: 17.451877 | G13: 1.2119888 | H13: 1.799346 | I13: 2.1742509 | J13: 30.650759 | K13: =C13-G13 -> 0.48001255 | L13: =D13-H13 -> 0.80606747 | M13: =E13-I13 -> 1.1470203 | N13: =F13-J13 -> -13.198883 | O13: =(K3+K4+K5+K6+K7+K8+K9+K10+K11+K12)/10 -> 0.50782542 | P13: =(L3+L4+L5+L6+L7+L8+L9+L10+L11+L12)/10 -> 0.92624423 | Q13: =(M3+M4+M5+M6+M7+M8+M9+M10+M11+M12)/10 -> 1.481893 | R13: =(N3+N4+N5+N6+N7+N8+N9+N10+N11+N12)/10 -> -10.453677 | S13: 0.97 | T13: 0.29 | U13: 0.16212833 | V13: 13.98995 | W13: 48.996508 | X13: -8.4164681 | Y13: =0.4*U13*1.25*O13/1.5 -> 0.027444296 | Z13: =0.4*U13*1.25*P13/1.5 -> 0.05005681 | AA13: =0.4*U13*1.25*Q13/1.5 -> 0.080085611 | AB13: =0.4*U13*1.25*R13/1.5 -> -0.56494573 | AC13: =-U13*U13*U13/W13 -> -8.6978437e-05
A14: 40752.008 | B14: 0.0083680556 | C14: 1.7307839 | D14: 2.7739661 | E14: 3.5920892 | F14: 22.704704 | G14: 1.2517058 | H14: 1.8975991 | I14: 2.1702386 | J14: 39.441128 | K14: =C14-G14 -> 0.47907812 | L14: =D14-H14 -> 0.87636705 | M14: =E14-I14 -> 1.4218506 | N14: =F14-J14 -> -16.736424 | O14: =(K4+K5+K6+K7+K8+K9+K10+K11+K12+K13)/10 -> 0.50574287 | P14: =(L4+L5+L6+L7+L8+L9+L10+L11+L12+L13)/10 -> 0.91841225 | Q14: =(M4+M5+M6+M7+M8+M9+M10+M11+M12+M13)/10 -> 1.4638549 | R14: =(N4+N5+N6+N7+N8+N9+N10+N11+N12+N13)/10 -> -10.659275 | S14: 1 | T14: 0.29 | U14: 0.17128481 | V14: 13.988983 | W14: 52.903176 | X14: -9.1916424 | Y14: =0.4*U14*1.25*O14/1.5 -> 0.028875357 | Z14: =0.4*U14*1.25*P14/1.5 -> 0.052436689 | AA14: =0.4*U14*1.25*Q14/1.5 -> 0.083578704 | AB14: =0.4*U14*1.25*R14/1.5 -> -0.60859061 | AC14: =-U14*U14*U14/W14 -> -9.4989326e-05
A15: 40752.009 | B15: 0.0090625 | C15: 1.8153931 | D15: 2.7763115 | E15: 3.4580125 | F15: 21.986766 | G15: 1.2157717 | H15: 1.8222777 | I15: 2.1290739 | J15: 38.141085 | K15: =C15-G15 -> 0.59962135 | L15: =D15-H15 -> 0.95403373 | M15: =E15-I15 -> 1.3289386 | N15: =F15-J15 -> -16.154319 | O15: =(K5+K6+K7+K8+K9+K10+K11+K12+K13+K14)/10 -> 0.50795449 | P15: =(L5+L6+L7+L8+L9+L10+L11+L12+L13+L14)/10 -> 0.9194846 | Q15: =(M5+M6+M7+M8+M9+M10+M11+M12+M13+M14)/10 -> 1.4478899 | R15: =(N5+N6+N7+N8+N9+N10+N11+N12+N13+N14)/10 -> -11.160346 | S15: 0.98 | T15: 0.3 | U15: 0.16288231 | V15: 13.986133 | W15: 48.168049 | X15: -8.681225 | Y15: =0.4*U15*1.25*O15/1.5 -> 0.027578934 | Z15: =0.4*U15*1.25*P15/1.5 -> 0.049922592 | AA15: =0.4*U15*1.25*Q15/1.5 -> 0.078611881 | AB15: =0.4*U15*1.25*R15/1.5 -> -0.60594097 | AC15: =-U15*U15*U15/W15 -> -8.9714513e-05
A16: 40752.01 | B16: 0.0097569444 | C16: 1.7070436 | D16: 2.8298749 | E16: 3.511576 | F16: 23.428668 | G16: 1.2457981 | H16: 1.7675927 | I16: 2.0402322 | J16: 34.807567 | K16: =C16-G16 -> 0.46124555 | L16: =D16-H16 -> 1.0622822 | M16: =E16-I16 -> 1.4713438 | N16: =F16-J16 -> -11.378899 | O16: =(K6+K7+K8+K9+K10+K11+K12+K13+K14+K15)/10 -> 0.51268231 | P16: =(L6+L7+L8+L9+L10+L11+L12+L13+L14+L15)/10 -> 0.91393067 | Q16: =(M6+M7+M8+M9+M10+M11+M12+M13+M14+M15)/10 -> 1.4184672 | R16: =(N6+N7+N8+N9+N10+N11+N12+N13+N14+N15)/10 -> -11.534499 | S16: 1.02 | T16: 0.3 | U16: 0.17509624 | V16: 13.9801 | W16: 53.280798 | X16: -9.7494024 | Y16: =0.4*U16*1.25*O16/1.5 -> 0.029922915 | Z16: =0.4*U16*1.25*P16/1.5 -> 0.053341941 | AA16: =0.4*U16*1.25*Q16/1.5 -> 0.082789423 | AB16: =0.4*U16*1.25*R16/1.5 -> -0.67321582 | AC16: =-U16*U16*U16/W16 -> -0.00010075341
A17: 40752.01 | B17: 0.010451389 | C17: 1.745417 | D17: 2.6440964 | E17: 3.734859 | F17: 24.900309 | G17: 1.2812713 | H17: 1.8911713 | I17: 2.3343894 | J17: 41.655283 | K17: =C17-G17 -> 0.46414577 | L17: =D17-H17 -> 0.75292517 | M17: =E17-I17 -> 1.4004696 | N17: =F17-J17 -> -16.754974 | O17: =(K7+K8+K9+K10+K11+K12+K13+K14+K15+K16)/10 -> 0.50557326 | P17: =(L7+L8+L9+L10+L11+L12+L13+L14+L15+L16)/10 -> 0.90318832 | Q17: =(M7+M8+M9+M10+M11+M12+M13+M14+M15+M16)/10 -> 1.4349888 | R17: =(N7+N8+N9+N10+N11+N12+N13+N14+N15+N16)/10 -> -11.834534 | S17: 1.05 | T17: 0.3 | U17: 0.18418559 | V17: 13.976173 | W17: 57.238888 | X17: -10.563164 | Y17: =0.4*U17*1.25*O17/1.5 -> 0.03103977 | Z17: =0.4*U17*1.25*P17/1.5 -> 0.055451425 | AA17: =0.4*U17*1.25*Q17/1.5 -> 0.088101418 | AB17: =0.4*U17*1.25*R17/1.5 -> -0.72658355 | AC17: =-U17*U17*U17/W17 -> -0.00010916308
A18: 40752.011 | B18: 0.011145833 | C18: 1.8178932 | D18: 2.8644431 | E18: 3.5461442 | F18: 27.412693 | G18: 1.2486879 | H18: 1.8073958 | I18: 2.250614 | J18: 30.612503 | K18: =C18-G18 -> 0.56920526 | L18: =D18-H18 -> 1.0570473 | M18: =E18-I18 -> 1.2955302 | N18: =F18-J18 -> -3.1998107 | O18: =(K8+K9+K10+K11+K12+K13+K14+K15+K16+K17)/10 -> 0.49828075 | P18: =(L8+L9+L10+L11+L12+L13+L14+L15+L16+L17)/10 -> 0.88025445 | Q18: =(M8+M9+M10+M11+M12+M13+M14+M15+M16+M17)/10 -> 1.3677331 | R18: =(N8+N9+N10+N11+N12+N13+N14+N15+N16+N17)/10 -> -12.831457 | S18: 1.07 | T18: 0.31 | U18: 0.18802827 | V18: 13.970103 | W18: 57.586985 | X18: -11.170262 | Y18: =0.4*U18*1.25*O18/1.5 -> 0.031230289 | Z18: =0.4*U18*1.25*P18/1.5 -> 0.055170907 | AA18: =0.4*U18*1.25*Q18/1.5 -> 0.085724162 | AB18: =0.4*U18*1.25*R18/1.5 -> -0.80422558 | AC18: =-U18*U18*U18/W18 -> -0.00011543702
A19: 40752.012 | B19: 0.011840278 | C19: 1.7758481 | D19: 2.8651337 | E19: 4.0581617 | F19: 27.908184 | G19: 1.2802559 | H19: 1.8435744 | I19: 2.2526359 | J19: 38.699561 | K19: =C19-G19 -> 0.49559224 | L19: =D19-H19 -> 1.0215593 | M19: =E19-I19 -> 1.8055258 | N19: =F19-J19 -> -10.791377 | O19: =(K9+K10+K11+K12+K13+K14+K15+K16+K17+K18)/10 -> 0.49930572 | P19: =(L9+L10+L11+L12+L13+L14+L15+L16+L17+L18)/10 -> 0.89518576 | Q19: =(M9+M10+M11+M12+M13+M14+M15+M16+M17+M18)/10 -> 1.3519643 | R19: =(N9+N10+N11+N12+N13+N14+N15+N16+N17+N18)/10 -> -12.142945 | S19: 1.14 | T19: 0.31 | U19: 0.20900656 | V19: 13.964183 | W19: 67.096228 | X19: -13.167397 | Y19: =0.4*U19*1.25*O19/1.5 -> 0.034786057 | Z19: =0.4*U19*1.25*P19/1.5 -> 0.062366565 | AA19: =0.4*U19*1.25*Q19/1.5 -> 0.094189805 | AB19: =0.4*U19*1.25*R19/1.5 -> -0.84598505 | AC19: =-U19*U19*U19/W19 -> -0.00013607603
A20: 40752.013 | B20: 0.012534722 | C20: 1.7500127 | D20: 2.792677 | E20: 3.9517529 | F20: 29.286407 | G20: 1.2567205 | H20: 1.8616992 | I20: 2.2707607 | J20: 39.055113 | K20: =C20-G20 -> 0.49329226 | L20: =D20-H20 -> 0.93097783 | M20: =E20-I20 -> 1.6809922 | N20: =F20-J20 -> -9.7687059 | O20: =(K10+K11+K12+K13+K14+K15+K16+K17+K18+K19)/10 -> 0.49902534 | P20: =(L10+L11+L12+L13+L14+L15+L16+L17+L18+L19)/10 -> 0.91929965 | Q20: =(M10+M11+M12+M13+M14+M15+M16+M17+M18+M19)/10 -> 1.3931156 | R20: =(N10+N11+N12+N13+N14+N15+N16+N17+N18+N19)/10 -> -12.442224 | S20: 1.14 | T20: 0.32 | U20: 0.20691237 | V20: 13.955947 | W20: 64.603589 | X20: -13.268475 | Y20: =0.4*U20*1.25*O20/1.5 -> 0.034418172 | Z20: =0.4*U20*1.25*P20/1.5 -> 0.063404823 | AA20: =0.4*U20*1.25*Q20/1.5 -> 0.096084286 | AB20: =0.4*U20*1.25*R20/1.5 -> -0.85815005 | AC20: =-U20*U20*U20/W20 -> -0.0001371206
A21: 40752.013 | B21: 0.013229167 | C21: 1.7951535 | D21: 2.802127 | E21: 3.5521414 | F21: 28.811888 | G21: 1.2441742 | H21: 1.7303339 | I21: 2.1052388 | J21: 34.71839 | K21: =C21-G21 -> 0.55097929 | L21: =D21-H21 -> 1.0717931 | M21: =E21-I21 -> 1.4469025 | N21: =F21-J21 -> -5.9065023 | O21: =(K11+K12+K13+K14+K15+K16+K17+K18+K19+K20)/10 -> 0.50013305 | P21: =(L11+L12+L13+L14+L15+L16+L17+L18+L19+L20)/10 -> 0.91934251 | Q21: =(M11+M12+M13+M14+M15+M16+M17+M18+M19+M20)/10 -> 1.4272538 | R21: =(N11+N12+N13+N14+N15+N16+N17+N18+N19+N20)/10 -> -11.820574 | S21: 1.15 | T21: 0.34 | U21: 0.20577065 | V21: 13.950343 | W21: 61.3358 | X21: -13.74531 | Y21: =0.4*U21*1.25*O21/1.5 -> 0.034304235 | Z21: =0.4*U21*1.25*P21/1.5 -> 0.063057902 | AA21: =0.4*U21*1.25*Q21/1.5 -> 0.097895646 | AB21: =0.4*U21*1.25*R21/1.5 -> -0.81077574 | AC21: =-U21*U21*U21/W21 -> -0.00014204837
A22: 40752.014 | B22: 0.013923611 | C22: 1.8351932 | D22: 2.8562064 | E22: 3.5039554 | F22: 24.85525 | G22: 1.7354992 | H22: 2.5634308 | I22: 3.1428664 | J22: 33.7489 | K22: =C22-G22 -> 0.099693979 | L22: =D22-H22 -> 0.29277565 | M22: =E22-I22 -> 0.36108893 | N22: =F22-J22 -> -8.8936503 | O22: =(K12+K13+K14+K15+K16+K17+K18+K19+K20+K21)/10 -> 0.50996788 | P22: =(L12+L13+L14+L15+L16+L17+L18+L19+L20+L21)/10 -> 0.94882087 | Q22: =(M12+M13+M14+M15+M16+M17+M18+M19+M20+M21)/10 -> 1.415826 | R22: =(N12+N13+N14+N15+N16+N17+N18+N19+N20+N21)/10 -> -11.967041 | S22: 1.17 | T22: 0.34 | U22: 0.21176092 | V22: 13.941867 | W22: 63.935828 | X22: -14.371809 | Y22: =0.4*U22*1.25*O22/1.5 -> 0.035997089 | Z22: =0.4*U22*1.25*P22/1.5 -> 0.066974393 | AA22: =0.4*U22*1.25*Q22/1.5 -> 0.099938871 | AB22: =0.4*U22*1.25*R22/1.5 -> -0.84471722 | AC22: =-U22*U22*U22/W22 -> -0.00014852281
A23: 40752.015 | B23: 0.014618056 | C23: 1.8175628 | D23: 2.7413877 | E23: 4.0366811 | F23: 21.35152 | G23: 1.78582 | H23: 2.5313762 | I23: 3.1108119 | J23: 33.444411 | K23: =C23-G23 -> 0.031742718 | L23: =D23-H23 -> 0.2100115 | M23: =E23-I23 -> 0.9258692 | N23: =F23-J23 -> -12.092891 | O23: =(K13+K14+K15+K16+K17+K18+K19+K20+K21+K22)/10 -> 0.46928664 | P23: =(L13+L14+L15+L16+L17+L18+L19+L20+L21+L22)/10 -> 0.88258288 | Q23: =(M13+M14+M15+M16+M17+M18+M19+M20+M21+M22)/10 -> 1.3359662 | R23: =(N13+N14+N15+N16+N17+N18+N19+N20+N21+N22)/10 -> -11.278355 | S23: 1.15 | T23: 0.35 | U23: 0.20372842 | V23: 13.935057 | W23: 59.216194 | X23: -13.817601 | Y23: =0.4*U23*1.25*O23/1.5 -> 0.031869008 | Z23: =0.4*U23*1.25*P23/1.5 -> 0.059935739 | AA23: =0.4*U23*1.25*Q23/1.5 -> 0.090724764 | AB23: =0.4*U23*1.25*R23/1.5 -> -0.76590712 | AC23: =-U23*U23*U23/W23 -> -0.00014279545
... A546: 40752.378 | B546: 0.3778125 | C546: 3.360283 | D546: 4.440176 | E546: 5.6673606 | F546: 34.042749 | G546: 3.5336827 | H546: 4.3453991 | I546: 4.7544606 | J546: 50.80193 | K546: =C546-G546 -> -0.17339972 | L546: =D546-H546 -> 0.094776914 | M546: =E546-I546 -> 0.9129 | N546: =F546-J546 -> -16.75918 | O546: =(K536+K537+K538+K539+K540+K541+K542+K543+K544+K545)/10 -> -0.010176189 | P546: =(L536+L537+L538+L539+L540+L541+L542+L543+L544+L545)/10 -> 0.57379433 | Q546: =(M536+M537+M538+M539+M540+M541+M542+M543+M544+M545)/10 -> 1.9884723 | R546: =(N536+N537+N538+N539+N540+N541+N542+N543+N544+N545)/10 -> -5.3218796 | S546: 0.06 | T546: -0.04 | U546: 0.036218274 | V546: 24.12976 | W546: -2.752495 | X546: 1.6702251 | Y546: =0.4*U546*1.25*O546/1.5 -> -0.00012285467 | Z546: =0.4*U546*1.25*P546/1.5 -> 0.0069272801 | AA546: =0.4*U546*1.25*Q546/1.5 -> 0.024006345 | AB546: =0.4*U546*1.25*R546/1.5 -> -0.064249765 | AC546: =-U546*U546*U546/W546 -> 1.7260633e-05
A547: 40752.378 | B547: 0.37850694 | C547: 3.4112316 | D547: 4.6629655 | E547: 6.1969463 | F547: 64.640894 | G547: 3.551013 | H547: 4.2230249 | I547: 4.4956644 | J547: 60.538241 | K547: =C547-G547 -> -0.13978144 | L547: =D547-H547 -> 0.43994056 | M547: =E547-I547 -> 1.7012818 | N547: =F547-J547 -> 4.1026531 | O547: =(K537+K538+K539+K540+K541+K542+K543+K544+K545+K546)/10 -> -0.025673575 | P547: =(L537+L538+L539+L540+L541+L542+L543+L544+L545+L546)/10 -> 0.50810247 | Q547: =(M537+M538+M539+M540+M541+M542+M543+M544+M545+M546)/10 -> 1.8716478 | R547: =(N537+N538+N539+N540+N541+N542+N543+N544+N545+N546)/10 -> -6.6800554 | S547: 0 | T547: 0 | U547: NaN | V547: 24.78525 | W547: 0 | X547: 0 | Y547: =0.4*U547*1.25*O547/1.5 -> #VALUE! | Z547: =0.4*U547*1.25*P547/1.5 -> #VALUE! | AA547: =0.4*U547*1.25*Q547/1.5 -> #VALUE! | AB547: =0.4*U547*1.25*R547/1.5 -> #VALUE! | AC547: =-U547*U547*U547/W547 -> #VALUE!
A548: 40752.379 | B548: 0.37920139 | C548: 3.6156781 | D548: 6.1498297 | E548: 11.9448 | F548: 152.63664 | G548: 3.5930767 | H548: 4.9484968 | I548: 6.209838 | J548: 196.79485 | K548: =C548-G548 -> 0.022601401 | L548: =D548-H548 -> 1.2013329 | M548: =E548-I548 -> 5.734962 | N548: =F548-J548 -> -44.158209 | O548: =(K538+K539+K540+K541+K542+K543+K544+K545+K546+K547)/10 -> -0.046569343 | P548: =(L538+L539+L540+L541+L542+L543+L544+L545+L546+L547)/10 -> 0.48642711 | Q548: =(M538+M539+M540+M541+M542+M543+M544+M545+M546+M547)/10 -> 1.7988397 | R548: =(N538+N539+N540+N541+N542+N543+N544+N545+N546+N547)/10 -> -3.9997909 | S548: 0 | T548: 0 | U548: NaN | V548: 24.982077 | W548: 0 | X548: 0 | Y548: =0.4*U548*1.25*O548/1.5 -> #VALUE! | Z548: =0.4*U548*1.25*P548/1.5 -> #VALUE! | AA548: =0.4*U548*1.25*Q548/1.5 -> #VALUE! | AB548: =0.4*U548*1.25*R548/1.5 -> #VALUE! | AC548: =-U548*U548*U548/W548 -> #VALUE!
A549: 40752.38 | B549: 0.37989583 | C549: 3.4973822 | D549: 5.4857452 | E549: 8.6901288 | F549: 88.911793 | G549: 3.5391546 | H549: 4.3863233 | I549: 4.8976502 | J549: 102.05942 | K549: =C549-G549 -> -0.041772488 | L549: =D549-H549 -> 1.0994219 | M549: =E549-I549 -> 3.7924785 | N549: =F549-J549 -> -13.147627 | O549: =(K539+K540+K541+K542+K543+K544+K545+K546+K547+K548)/10 -> -0.046273528 | P549: =(L539+L540+L541+L542+L543+L544+L545+L546+L547+L548)/10 -> 0.50718203 | Q549: =(M539+M540+M541+M542+M543+M544+M545+M546+M547+M548)/10 -> 2.0309363 | R549: =(N539+N540+N541+N542+N543+N544+N545+N546+N547+N548)/10 -> -10.527908 | S549: 0 | T549: 0 | U549: NaN | V549: 24.655337 | W549: 0 | X549: 0 | Y549: =0.4*U549*1.25*O549/1.5 -> #VALUE! | Z549: =0.4*U549*1.25*P549/1.5 -> #VALUE! | AA549: =0.4*U549*1.25*Q549/1.5 -> #VALUE! | AB549: =0.4*U549*1.25*R549/1.5 -> #VALUE! | AC549: =-U549*U549*U549/W549 -> #VALUE!
A550: 40752.381 | B550: 0.38059028 | C550: 3.4226159 | D550: 4.7294708 | E550: 6.4338257 | F550: 55.0144 | G550: 3.5507446 | H550: 4.4619406 | I550: 4.9051588 | J550: 89.224213 | K550: =C550-G550 -> -0.12812862 | L550: =D550-H550 -> 0.26753017 | M550: =E550-I550 -> 1.5286669 | N550: =F550-J550 -> -34.209813 | O550: =(K540+K541+K542+K543+K544+K545+K546+K547+K548+K549)/10 -> -0.045929112 | P550: =(L540+L541+L542+L543+L544+L545+L546+L547+L548+L549)/10 -> 0.52758048 | Q550: =(M540+M541+M542+M543+M544+M545+M546+M547+M548+M549)/10 -> 2.0786191 | R550: =(N540+N541+N542+N543+N544+N545+N546+N547+N548+N549)/10 -> -13.965663 | S550: 0 | T550: 0 | U550: NaN | V550: 24.514583 | W550: 0 | X550: 0 | Y550: =0.4*U550*1.25*O550/1.5 -> #VALUE! | Z550: =0.4*U550*1.25*P550/1.5 -> #VALUE! | AA550: =0.4*U550*1.25*Q550/1.5 -> #VALUE! | AB550: =0.4*U550*1.25*R550/1.5 -> #VALUE! | AC550: =-U550*U550*U550/W550 -> #VALUE!
A551: 40752.381 | B551: 0.38128472 | C551: 3.5256492 | D551: 5.5482644 | E551: 8.2071645 | F551: 87.308753 | G551: 3.5774783 | H551: 4.4626005 | I551: 5.2126149 | J551: 110.54763 | K551: =C551-G551 -> -0.05182912 | L551: =D551-H551 -> 1.0856639 | M551: =E551-I551 -> 2.9945496 | N551: =F551-J551 -> -23.238878 | O551: =(K541+K542+K543+K544+K545+K546+K547+K548+K549+K550)/10 -> -0.060521802 | P551: =(L541+L542+L543+L544+L545+L546+L547+L548+L549+L550)/10 -> 0.4654318 | Q551: =(M541+M542+M543+M544+M545+M546+M547+M548+M549+M550)/10 -> 1.9926017 | R551: =(N541+N542+N543+N544+N545+N546+N547+N548+N549+N550)/10 -> -16.646973 | S551: 0 | T551: 0 | U551: NaN | V551: 24.285497 | W551: 0 | X551: 0 | Y551: =0.4*U551*1.25*O551/1.5 -> #VALUE! | Z551: =0.4*U551*1.25*P551/1.5 -> #VALUE! | AA551: =0.4*U551*1.25*Q551/1.5 -> #VALUE! | AB551: =0.4*U551*1.25*R551/1.5 -> #VALUE! | AC551: =-U551*U551*U551/W551 -> #VALUE!
A552: 40752.382 | B552: 0.38197917 | C552: 3.5168815 | D552: 5.1536343 | E552: 8.2897046 | F552: 78.271397 | G552: 3.5661727 | H552: 4.5161758 | I552: 5.0956114 | J552: 97.166742 | K552: =C552-G552 -> -0.049291186 | L552: =D552-H552 -> 0.63745854 | M552: =E552-I552 -> 3.1940932 | N552: =F552-J552 -> -18.895345 | O552: =(K542+K543+K544+K545+K546+K547+K548+K549+K550+K551)/10 -> -0.053650954 | P552: =(L542+L543+L544+L545+L546+L547+L548+L549+L550+L551)/10 -> 0.54020598 | Q552: =(M542+M543+M544+M545+M546+M547+M548+M549+M550+M551)/10 -> 2.1321303 | R552: =(N542+N543+N544+N545+N546+N547+N548+N549+N550+N551)/10 -> -18.170617 | S552: 0 | T552: 0 | U552: NaN | V552: 24.683647 | W552: 0 | X552: 0 | Y552: =0.4*U552*1.25*O552/1.5 -> #VALUE! | Z552: =0.4*U552*1.25*P552/1.5 -> #VALUE! | AA552: =0.4*U552*1.25*Q552/1.5 -> #VALUE! | AB552: =0.4*U552*1.25*R552/1.5 -> #VALUE! | AC552: =-U552*U552*U552/W552 -> #VALUE!
A553: 40752.383 | B553: 0.38267361 | C553: 3.4972731 | D553: 4.9426858 | E553: 6.3744012 | F553: 52.417698 | G553: 3.573763 | H553: 4.3672114 | I553: 4.8785383 | J553: 71.379264 | K553: =C553-G553 -> -0.076489906 | L553: =D553-H553 -> 0.57547439 | M553: =E553-I553 -> 1.4958629 | N553: =F553-J553 -> -18.961567 | O553: =(K543+K544+K545+K546+K547+K548+K549+K550+K551+K552)/10 -> -0.067871815 | P553: =(L543+L544+L545+L546+L547+L548+L549+L550+L551+L552)/10 -> 0.54793688 | Q553: =(M543+M544+M545+M546+M547+M548+M549+M550+M551+M552)/10 -> 2.2421266 | R553: =(N543+N544+N545+N546+N547+N548+N549+N550+N551+N552)/10 -> -22.612307 | S553: 0 | T553: 0 | U553: NaN | V553: 25.128183 | W553: 0 | X553: 0 | Y553: =0.4*U553*1.25*O553/1.5 -> #VALUE! | Z553: =0.4*U553*1.25*P553/1.5 -> #VALUE! | AA553: =0.4*U553*1.25*Q553/1.5 -> #VALUE! | AB553: =0.4*U553*1.25*R553/1.5 -> #VALUE! | AC553: =-U553*U553*U553/W553 -> #VALUE!
A554: 40752.383 | B554: 0.38336806 | C554: 3.5165228 | D554: 4.2647898 | E554: 4.7761167 | F554: 13.667544 | G554: 3.5024554 | H554: 4.1185485 | I554: 4.2889226 | J554: 19.57354 | K554: =C554-G554 -> 0.01406741 | L554: =D554-H554 -> 0.1462413 | M554: =E554-I554 -> 0.4871941 | N554: =F554-J554 -> -5.905996 | O554: =(K544+K545+K546+K547+K548+K549+K550+K551+K552+K553)/10 -> -0.075417407 | P554: =(L544+L545+L546+L547+L548+L549+L550+L551+L552+L553)/10 -> 0.55758378 | Q554: =(M544+M545+M546+M547+M548+M549+M550+M551+M552+M553)/10 -> 2.1972252 | R554: =(N544+N545+N546+N547+N548+N549+N550+N551+N552+N553)/10 -> -20.224007 | S554: 0 | T554: 0 | U554: NaN | V554: 25.431933 | W554: 0 | X554: 0 | Y554: =0.4*U554*1.25*O554/1.5 -> #VALUE! | Z554: =0.4*U554*1.25*P554/1.5 -> #VALUE! | AA554: =0.4*U554*1.25*Q554/1.5 -> #VALUE! | AB554: =0.4*U554*1.25*R554/1.5 -> #VALUE! | AC554: =-U554*U554*U554/W554 -> #VALUE!
A555: 40752.384 | B555: 0.3840625 | C555: 3.5066015 | D555: 5.4361776 | E555: 7.9586556 | F555: 83.194416 | G555: 3.5075092 | H555: 4.5139529 | I555: 5.2639673 | J555: 122.09373 | K555: =C555-G555 -> -0.00090762739 | L555: =D555-H555 -> 0.92222465 | M555: =E555-I555 -> 2.6946883 | N555: =F555-J555 -> -38.899311 | O555: =(K545+K546+K547+K548+K549+K550+K551+K552+K553+K554)/10 -> -0.066205731 | P555: =(L545+L546+L547+L548+L549+L550+L551+L552+L553+L554)/10 -> 0.58435255 | Q555: =(M545+M546+M547+M548+M549+M550+M551+M552+M553+M554)/10 -> 2.2376361 | R555: =(N545+N546+N547+N548+N549+N550+N551+N552+N553+N554)/10 -> -18.647978 | S555: 0 | T555: 0 | U555: NaN | V555: 25.518093 | W555: 0 | X555: 0 | Y555: =0.4*U555*1.25*O555/1.5 -> #VALUE! | Z555: =0.4*U555*1.25*P555/1.5 -> #VALUE! | AA555: =0.4*U555*1.25*Q555/1.5 -> #VALUE! | AB555: =0.4*U555*1.25*R555/1.5 -> #VALUE! | AC555: =-U555*U555*U555/W555 -> #VALUE!
A556: 40752.385 | B556: 0.38475694 | C556: 3.4987741 | D556: 4.3548131 | E556: 5.1387796 | F556: 28.40656 | G556: 3.4364074 | H556: 4.0776145 | I556: 4.5208327 | J556: 50.332519 | K556: =C556-G556 -> 0.062366732 | L556: =D556-H556 -> 0.27719861 | M556: =E556-I556 -> 0.61794688 | N556: =F556-J556 -> -21.925958 | O556: =(K546+K547+K548+K549+K550+K551+K552+K553+K554+K555)/10 -> -0.062493129 | P556: =(L546+L547+L548+L549+L550+L551+L552+L553+L554+L555)/10 -> 0.64700652 | Q556: =(M546+M547+M548+M549+M550+M551+M552+M553+M554+M555)/10 -> 2.4536677 | R556: =(N546+N547+N548+N549+N550+N551+N552+N553+N554+N555)/10 -> -21.007327 | S556: 0 | T556: 0 | U556: NaN | V556: 24.597003 | W556: 0 | X556: 0 | Y556: =0.4*U556*1.25*O556/1.5 -> #VALUE! | Z556: =0.4*U556*1.25*P556/1.5 -> #VALUE! | AA556: =0.4*U556*1.25*Q556/1.5 -> #VALUE! | AB556: =0.4*U556*1.25*R556/1.5 -> #VALUE! | AC556: =-U556*U556*U556/W556 -> #VALUE!
A557: 40752.385 | B557: 0.38545139 | C557: 3.5328728 | D557: 5.0689294 | E557: 6.2961141 | F557: 64.887472 | G557: 3.4905639 | H557: 4.2672236 | I557: 5.1876121 | J557: 96.542198 | K557: =C557-G557 -> 0.042308931 | L557: =D557-H557 -> 0.80170579 | M557: =E557-I557 -> 1.108502 | N557: =F557-J557 -> -31.654726 | O557: =(K547+K548+K549+K550+K551+K552+K553+K554+K555+K556)/10 -> -0.038916484 | P557: =(L547+L548+L549+L550+L551+L552+L553+L554+L555+L556)/10 -> 0.66524869 | Q557: =(M547+M548+M549+M550+M551+M552+M553+M554+M555+M556)/10 -> 2.4241724 | R557: =(N547+N548+N549+N550+N551+N552+N553+N554+N555+N556)/10 -> -21.524005 | S557: 0 | T557: 0 | U557: NaN | V557: 23.33499 | W557: 0 | X557: 0 | Y557: =0.4*U557*1.25*O557/1.5 -> #VALUE! | Z557: =0.4*U557*1.25*P557/1.5 -> #VALUE! | AA557: =0.4*U557*1.25*Q557/1.5 -> #VALUE! | AB557: =0.4*U557*1.25*R557/1.5 -> #VALUE! | AC557: =-U557*U557*U557/W557 -> #VALUE!
A558: 40752.386 | B558: 0.38614583 | C558: 3.678913 | D558: 6.088112 | E558: 10.349102 | F558: 130.75308 | G558: 3.631979 | H558: 4.6874064 | I558: 5.914591 | J558: 160.86427 | K558: =C558-G558 -> 0.046934033 | L558: =D558-H558 -> 1.4007056 | M558: =E558-I558 -> 4.4345105 | N558: =F558-J558 -> -30.111195 | O558: =(K548+K549+K550+K551+K552+K553+K554+K555+K556+K557)/10 -> -0.020707447 | P558: =(L548+L549+L550+L551+L552+L553+L554+L555+L556+L557)/10 -> 0.70142521 | Q558: =(M548+M549+M550+M551+M552+M553+M554+M555+M556+M557)/10 -> 2.3648944 | R558: =(N548+N549+N550+N551+N552+N553+N554+N555+N556+N557)/10 -> -25.099743 | S558: 0 | T558: -0.03 | U558: NaN | V558: 23.351743 | W558: NaN | X558: NaN | Y558: =0.4*U558*1.25*O558/1.5 -> #VALUE! | Z558: =0.4*U558*1.25*P558/1.5 -> #VALUE! | AA558: =0.4*U558*1.25*Q558/1.5 -> #VALUE! | AB558: =0.4*U558*1.25*R558/1.5 -> #VALUE! | AC558: =-U558*U558*U558/W558 -> #VALUE!
A559: 40752.387 | B559: 0.38684028 | C559: 3.5696192 | D559: 5.338703 | E559: 7.5204327 | F559: 66.538834 | G559: 3.6202046 | H559: 4.4904734 | I559: 4.9676437 | J559: 81.246217 | K559: =C559-G559 -> -0.050585352 | L559: =D559-H559 -> 0.84822963 | M559: =E559-I559 -> 2.5527891 | N559: =F559-J559 -> -14.707383 | O559: =(K549+K550+K551+K552+K553+K554+K555+K556+K557+K558)/10 -> -0.018274184 | P559: =(L549+L550+L551+L552+L553+L554+L555+L556+L557+L558)/10 -> 0.72136248 | Q559: =(M549+M550+M551+M552+M553+M554+M555+M556+M557+M558)/10 -> 2.2348493 | R559: =(N549+N550+N551+N552+N553+N554+N555+N556+N557+N558)/10 -> -23.695042 | S559: 0.08 | T559: -0.09 | U559: 0.050872996 | V559: 23.676333 | W559: -2.2793257 | X559: 5.5895116 | Y559: =0.4*U559*1.25*O559/1.5 -> -0.0003098875 | Z559: =0.4*U559*1.25*P559/1.5 -> 0.012232624 | AA559: =0.4*U559*1.25*Q559/1.5 -> 0.037897826 | AB559: =0.4*U559*1.25*R559/1.5 -> -0.40181259 | AC559: =-U559*U559*U559/W559 -> 5.7763774e-05
A560: 40752.388 | B560: 0.38753472 | C560: 3.5078696 | D560: 5.0547866 | E560: 7.0319856 | F560: 55.088765 | G560: 3.439797 | H560: 4.3140313 | I560: 4.7912016 | J560: 78.049919 | K560: =C560-G560 -> 0.068072619 | L560: =D560-H560 -> 0.74075525 | M560: =E560-I560 -> 2.2407839 | N560: =F560-J560 -> -22.961154 | O560: =(K550+K551+K552+K553+K554+K555+K556+K557+K558+K559)/10 -> -0.01915547 | P560: =(L550+L551+L552+L553+L554+L555+L556+L557+L558+L559)/10 -> 0.69624326 | Q560: =(M550+M551+M552+M553+M554+M555+M556+M557+M558+M559)/10 -> 2.1108803 | R560: =(N550+N551+N552+N553+N554+N555+N556+N557+N558+N559)/10 -> -23.851017 | S560: 0.12 | T560: -0.13 | U560: 0.069229683 | V560: 24.013923 | W560: -3.2538648 | X560: 9.8672428 | Y560: =0.4*U560*1.25*O560/1.5 -> -0.00044204238 | Z560: =0.4*U560*1.25*P560/1.5 -> 0.0160669 | AA560: =0.4*U560*1.25*Q560/1.5 -> 0.048711859 | AB560: =0.4*U560*1.25*R560/1.5 -> -0.55039945 | AC560: =-U560*U560*U560/W560 -> 0.0001019712
A561: 40752.388 | B561: 0.38822917 | C561: 3.5615004 | D561: 5.3241134 | E561: 7.8465914 | F561: 88.108279 | G561: 3.4779365 | H561: 4.5162123 | I561: 5.5388662 | J561: 129.9083 | K561: =C561-G561 -> 0.083563964 | L561: =D561-H561 -> 0.80790107 | M561: =E561-I561 -> 2.3077252 | N561: =F561-J561 -> -41.800023 | O561: =(K551+K552+K553+K554+K555+K556+K557+K558+K559+K560)/10 -> 0.00046465333 | P561: =(L551+L552+L553+L554+L555+L556+L557+L558+L559+L560)/10 -> 0.74356577 | Q561: =(M551+M552+M553+M554+M555+M556+M557+M558+M559+M560)/10 -> 2.182092 | R561: =(N551+N552+N553+N554+N555+N556+N557+N558+N559+N560)/10 -> -22.726151 | S561: 0.22 | T561: -0.18 | U561: 0.10546081 | V561: 24.192763 | W561: -6.7391463 | X561: 16.841731 | Y561: =0.4*U561*1.25*O561/1.5 -> 1.6334239e-05 | Z561: =0.4*U561*1.25*P561/1.5 -> 0.026139016 | AA561: =0.4*U561*1.25*Q561/1.5 -> 0.076708398 | AB561: =0.4*U561*1.25*R561/1.5 -> -0.79890611 | AC561: =-U561*U561*U561/W561 -> 0.00017404775
A562: 40752.389 | B562: 0.38892361 | C562: 3.5945555 | D562: 5.1616965 | E562: 8.1615494 | F562: 85.555306 | G562: 3.4901117 | H562: 4.4738279 | I562: 5.1896856 | J562: 132.53837 | K562: =C562-G562 -> 0.10444383 | L562: =D562-H562 -> 0.68786858 | M562: =E562-I562 -> 2.9718637 | N562: =F562-J562 -> -46.983059 | O562: =(K552+K553+K554+K555+K556+K557+K558+K559+K560+K561)/10 -> 0.014003962 | P562: =(L552+L553+L554+L555+L556+L557+L558+L559+L560+L561)/10 -> 0.71578948 | Q562: =(M552+M553+M554+M555+M556+M557+M558+M559+M560+M561)/10 -> 2.1134096 | R562: =(N552+N553+N554+N555+N556+N557+N558+N559+N560+N561)/10 -> -24.582266 | S562: 0.31 | T562: -0.25 | U562: 0.13854615 | V562: 24.320463 | W562: -9.1022633 | X562: 28.27172 | Y562: =0.4*U562*1.25*O562/1.5 -> 0.00064673166 | Z562: =0.4*U562*1.25*P562/1.5 -> 0.033056626 | AA562: =0.4*U562*1.25*Q562/1.5 -> 0.097601588 | AB562: =0.4*U562*1.25*R562/1.5 -> -1.1352594 | AC562: =-U562*U562*U562/W562 -> 0.0002921689
A563: 40752.39 | B563: 0.38961806 | C563: 3.6171417 | D563: 6.4320579 | E563: 11.272688 | F563: 147.30781 | G563: 3.6230421 | H563: 4.7044213 | I563: 5.6248097 | J563: 108.05533 | K563: =C563-G563 -> -0.0059003904 | L563: =D563-H563 -> 1.7276367 | M563: =E563-I563 -> 5.647878 | N563: =F563-J563 -> 39.25248 | O563: =(K553+K554+K555+K556+K557+K558+K559+K560+K561+K562)/10 -> 0.029377463 | P563: =(L553+L554+L555+L556+L557+L558+L559+L560+L561+L562)/10 -> 0.72083049 | Q563: =(M553+M554+M555+M556+M557+M558+M559+M560+M561+M562)/10 -> 2.0911867 | R563: =(N553+N554+N555+N556+N557+N558+N559+N560+N561+N562)/10 -> -27.391037 | S563: 0.42 | T563: -0.29 | U563: 0.17236749 | V563: 24.258857 | W563: -13.485208 | X563: 36.747411 | Y563: =0.4*U563*1.25*O563/1.5 -> 0.0016879065 | Z563: =0.4*U563*1.25*P563/1.5 -> 0.041415914 | AA563: =0.4*U563*1.25*Q563/1.5 -> 0.12015087 | AB563: =0.4*U563*1.25*R563/1.5 -> -1.5737748 | AC563: =-U563*U563*U563/W563 -> 0.0003797593
A564: 40752.39 | B564: 0.3903125 | C564: 3.6148724 | D564: 5.7698255 | E564: 9.5536447 | F564: 131.16576 | G564: 3.3544887 | H564: 4.4835686 | I564: 5.9833928 | J564: 188.65562 | K564: =C564-G564 -> 0.26038373 | L564: =D564-H564 -> 1.2862568 | M564: =E564-I564 -> 3.570252 | N564: =F564-J564 -> -57.489857 | O564: =(K554+K555+K556+K557+K558+K559+K560+K561+K562+K563)/10 -> 0.036436415 | P564: =(L554+L555+L556+L557+L558+L559+L560+L561+L562+L563)/10 -> 0.83604672 | Q564: =(M554+M555+M556+M557+M558+M559+M560+M561+M562+M563)/10 -> 2.5063882 | R564: =(N554+N555+N556+N557+N558+N559+N560+N561+N562+N563)/10 -> -21.569633 | S564: 0.49 | T564: -0.33 | U564: 0.19482947 | V564: 24.332 | W564: -15.757113 | X564: 45.415658 | Y564: =0.4*U564*1.25*O564/1.5 -> 0.0023662958 | Z564: =0.4*U564*1.25*P564/1.5 -> 0.054295513 | AA564: =0.4*U564*1.25*Q564/1.5 -> 0.16277276 | AB564: =0.4*U564*1.25*R564/1.5 -> -1.4008 | AC564: =-U564*U564*U564/W564 -> 0.00046933971
A565: 40752.391 | B565: 0.39100694 | C565: 3.6147709 | D565: 5.4689292 | E565: 7.9914072 | F565: 120.14047 | G565: 3.5553326 | H565: 4.6241025 | I565: 5.3058036 | J565: 122.38041 | K565: =C565-G565 -> 0.059438298 | L565: =D565-H565 -> 0.84482664 | M565: =E565-I565 -> 2.6856036 | N565: =F565-J565 -> -2.2399392 | O565: =(K555+K556+K557+K558+K559+K560+K561+K562+K563+K564)/10 -> 0.061068047 | P565: =(L555+L556+L557+L558+L559+L560+L561+L562+L563+L564)/10 -> 0.95004827 | Q565: =(M555+M556+M557+M558+M559+M560+M561+M562+M563+M564)/10 -> 2.814694 | R565: =(N555+N556+N557+N558+N559+N560+N561+N562+N563+N564)/10 -> -26.728019 | S565: 0.57 | T565: -0.37 | U565: 0.21946177 | V565: 24.94123 | W565: -18.582986 | X565: 55.040124 | Y565: =0.4*U565*1.25*O565/1.5 -> 0.0044673672 | Z565: =0.4*U565*1.25*P565/1.5 -> 0.069499758 | AA565: =0.4*U565*1.25*Q565/1.5 -> 0.20590591 | AB565: =0.4*U565*1.25*R565/1.5 -> -1.9552594 | AC565: =-U565*U565*U565/W565 -> 0.00056880202
A566: 40752.392 | B566: 0.39170139 | C566: 3.5230576 | D566: 4.514211 | E566: 5.6391302 | F566: 45.251734 | G566: 3.5280322 | H566: 4.2287084 | I566: 4.5355045 | J566: 46.290674 | K566: =C566-G566 -> -0.0049745778 | L566: =D566-H566 -> 0.28550259 | M566: =E566-I566 -> 1.1036257 | N566: =F566-J566 -> -1.0389405 | O566: =(K556+K557+K558+K559+K560+K561+K562+K563+K564+K565)/10 -> 0.067102639 | P566: =(L556+L557+L558+L559+L560+L561+L562+L563+L564+L565)/10 -> 0.94230847 | Q566: =(M556+M557+M558+M559+M560+M561+M562+M563+M564+M565)/10 -> 2.8137855 | R566: =(N556+N557+N558+N559+N560+N561+N562+N563+N564+N565)/10 -> -23.062081 | S566: 0.64 | T566: -0.39 | U566: 0.23923283 | V566: 25.31579 | W566: -21.773716 | X566: 60.848246 | Y566: =0.4*U566*1.25*O566/1.5 -> 0.0053510514 | Z566: =0.4*U566*1.25*P566/1.5 -> 0.075143707 | AA566: =0.4*U566*1.25*Q566/1.5 -> 0.22438329 | AB566: =0.4*U566*1.25*R566/1.5 -> -1.839069 | AC566: =-U566*U566*U566/W566 -> 0.00062882497
A567: 40752.392 | B567: 0.39239583 | C567: 3.6775003 | D567: 5.7842055 | E567: 9.1248066 | F567: 107.42884 | G567: 3.5074426 | H567: 4.5610772 | I567: 5.2427782 | J567: 137.23329 | K567: =C567-G567 -> 0.17005771 | L567: =D567-H567 -> 1.2231284 | M567: =E567-I567 -> 3.8820284 | N567: =F567-J567 -> -29.804451 | O567: =(K557+K558+K559+K560+K561+K562+K563+K564+K565+K566)/10 -> 0.060368508 | P567: =(L557+L558+L559+L560+L561+L562+L563+L564+L565+L566)/10 -> 0.94313887 | Q567: =(M557+M558+M559+M560+M561+M562+M563+M564+M565+M566)/10 -> 2.8623534 | R567: =(N557+N558+N559+N560+N561+N562+N563+N564+N565+N566)/10 -> -20.97338 | S567: 0.72 | T567: -0.43 | U567: 0.26326792 | V567: 25.119937 | W567: -24.624735 | X567: 71.703529 | Y567: =0.4*U567*1.25*O567/1.5 -> 0.0052976972 | Z567: =0.4*U567*1.25*P567/1.5 -> 0.082766069 | AA567: =0.4*U567*1.25*Q567/1.5 -> 0.25118861 | AB567: =0.4*U567*1.25*R567/1.5 -> -1.8405393 | AC567: =-U567*U567*U567/W567 -> 0.00074100692
A568: 40752.393 | B568: 0.39309028 | C568: 3.6336932 | D568: 6.1425004 | E568: 10.369538 | F568: 144.02238 | G568: 3.5390798 | H568: 4.8547249 | I568: 5.7751134 | J568: 179.83795 | K568: =C568-G568 -> 0.094613391 | L568: =D568-H568 -> 1.2877755 | M568: =E568-I568 -> 4.5944244 | N568: =F568-J568 -> -35.815571 | O568: =(K558+K559+K560+K561+K562+K563+K564+K565+K566+K567)/10 -> 0.073143386 | P568: =(L558+L559+L560+L561+L562+L563+L564+L565+L566+L567)/10 -> 0.98528113 | Q568: =(M558+M559+M560+M561+M562+M563+M564+M565+M566+M567)/10 -> 3.139706 | R568: =(N558+N559+N560+N561+N562+N563+N564+N565+N566+N567)/10 -> -20.788352 | S568: 0.83 | T568: -0.43 | U568: 0.29061654 | V568: 24.761603 | W568: -31.81999 | X568: 74.641308 | Y568: =0.4*U568*1.25*O568/1.5 -> 0.0070855592 | Z568: =0.4*U568*1.25*P568/1.5 -> 0.095446331 | AA568: =0.4*U568*1.25*Q568/1.5 -> 0.30415017 | AB568: =0.4*U568*1.25*R568/1.5 -> -2.013813 | AC568: =-U568*U568*U568/W568 -> 0.0007713668
A569: 40752.394 | B569: 0.39378472 | C569: 3.5774584 | D569: 4.9830838 | E569: 6.7897041 | F569: 57.770733 | G569: 3.5507238 | H569: 4.3116784 | I569: 4.9933794 | J569: 79.493795 | K569: =C569-G569 -> 0.026734652 | L569: =D569-H569 -> 0.67140545 | M569: =E569-I569 -> 1.7963247 | N569: =F569-J569 -> -21.723061 | O569: =(K559+K560+K561+K562+K563+K564+K565+K566+K567+K568)/10 -> 0.077911321 | P569: =(L559+L560+L561+L562+L563+L564+L565+L566+L567+L568)/10 -> 0.97398811 | Q569: =(M559+M560+M561+M562+M563+M564+M565+M566+M567+M568)/10 -> 3.1556974 | R569: =(N559+N560+N561+N562+N563+N564+N565+N566+N567+N568)/10 -> -21.35879 | S569: 0.85 | T569: -0.41 | U569: 0.29352253 | V569: 24.703303 | W569: -34.700958 | X569: 70.518187 | Y569: =0.4*U569*1.25*O569/1.5 -> 0.0076229094 | Z569: =0.4*U569*1.25*P569/1.5 -> 0.095295818 | AA569: =0.4*U569*1.25*Q569/1.5 -> 0.3087561 | AB569: =0.4*U569*1.25*R569/1.5 -> -2.089762 | AC569: =-U569*U569*U569/W569 -> 0.00072875721
A570: 40752.394 | B570: 0.39447917 | C570: 3.5559643 | D570: 5.4488608 | E570: 8.2441828 | F570: 90.703054 | G570: 3.6400558 | H570: 4.4775516 | I570: 5.3637835 | J570: 114.06459 | K570: =C570-G570 -> -0.084091501 | L570: =D570-H570 -> 0.97130913 | M570: =E570-I570 -> 2.8803994 | N570: =F570-J570 -> -23.361537 | O570: =(K560+K561+K562+K563+K564+K565+K566+K567+K568+K569)/10 -> 0.085643322 | P570: =(L560+L561+L562+L563+L564+L565+L566+L567+L568+L569)/10 -> 0.9563057 | Q570: =(M560+M561+M562+M563+M564+M565+M566+M567+M568+M569)/10 -> 3.080051 | R570: =(N560+N561+N562+N563+N564+N565+N566+N567+N568+N569)/10 -> -22.060358 | S570: 0.85 | T570: -0.39 | U570: 0.29143349 | V570: 24.69012 | W570: -36.322406 | X570: 65.941993 | Y570: =0.4*U570*1.25*O570/1.5 -> 0.0083197774 | Z570: =0.4*U570*1.25*P570/1.5 -> 0.092899835 | AA570: =0.4*U570*1.25*Q570/1.5 -> 0.29921 | AB570: =0.4*U570*1.25*R570/1.5 -> -2.1430423 | AC570: =-U570*U570*U570/W570 -> 0.00068146533
... A1306: 40752.906 | B1306: 0.90559028 | C1306: 5.0563107 | D1306: 6.2271155 | E1306: 6.7042858 | F1306: 10.686598 | G1306: 4.7210374 | H1306: 5.6307154 | I1306: 5.9375116 | J1306: 17.997251 | K1306: =C1306-G1306 -> 0.33527337 | L1306: =D1306-H1306 -> 0.59640006 | M1306: =E1306-I1306 -> 0.7667742 | N1306: =F1306-J1306 -> -7.3106532 | O1306: =(K1296+K1297+K1298+K1299+K1300+K1301+K1302+K1303+K1304+K1305)/10 -> 0.63511 | P1306: =(L1296+L1297+L1298+L1299+L1300+L1301+L1302+L1303+L1304+L1305)/10 -> 0.98233051 | Q1306: =(M1296+M1297+M1298+M1299+M1300+M1301+M1302+M1303+M1304+M1305)/10 -> 1.0402945 | R1306: =(N1296+N1297+N1298+N1299+N1300+N1301+N1302+N1303+N1304+N1305)/10 -> -7.3385016 | S1306: 1.2 | T1306: 0.66 | U1306: 0.16210899 | V1306: 16.86403 | W1306: 28.412123 | X1306: -14.508947 | Y1306: =0.4*U1306*1.25*O1306/1.5 -> 0.034319014 | Z1306: =0.4*U1306*1.25*P1306/1.5 -> 0.053081535 | AA1306: =0.4*U1306*1.25*Q1306/1.5 -> 0.056213698 | AB1306: =0.4*U1306*1.25*R1306/1.5 -> -0.39654569 | AC1306: =-U1306*U1306*U1306/W1306 -> -0.00014994004
A1307: 40752.906 | B1307: 0.94795139 | O1307: =O1306/2+O1310/2 -> 0.61784016 | P1307: =P1306/2+P1310/2 -> 0.96210472 | Q1307: =Q1306/2+Q1310/2 -> 1.0234742 | R1307: =R1306/2+R1310/2 -> -7.4348828 | S1307: 1.22 | T1307: 0.65 | U1307: 0.17019234 | V1307: 16.84284 | W1307: 30.526798 | X1307: -15.626332 | Y1307: =0.4*U1307*1.25*O1307/1.5 -> 0.035050554 | Z1307: =0.4*U1307*1.25*P1307/1.5 -> 0.054580951 | AA1307: =0.4*U1307*1.25*Q1307/1.5 -> 0.058062488 | AB1307: =0.4*U1307*1.25*R1307/1.5 -> -0.4217867 | AC1307: =-U1307*U1307*U1307/W1307 -> -0.00016148745
A1308: 40752.907 | B1308: 0.94864583 | O1308: =O1307/2+O1311/2 -> 0.59918762 | P1308: =P1307/2+P1311/2 -> 0.94024167 | Q1308: =Q1307/2+Q1311/2 -> 1.0067295 | R1308: =R1307/2+R1311/2 -> -7.2353877 | S1308: 1.24 | T1308: 0.64 | U1308: 0.17823528 | V1308: 16.822143 | W1308: 32.725324 | X1308: -16.74231 | Y1308: =0.4*U1308*1.25*O1308/1.5 -> 0.035598791 | Z1308: =0.4*U1308*1.25*P1308/1.5 -> 0.055861412 | AA1308: =0.4*U1308*1.25*Q1308/1.5 -> 0.059811572 | AB1308: =0.4*U1308*1.25*R1308/1.5 -> -0.42986712 | AC1308: =-U1308*U1308*U1308/W1308 -> -0.0001730203
A1309: 40752.908 | B1309: 0.94934028 | O1309: =O1308/2+O1312/2 -> 0.5621578 | P1309: =P1308/2+P1312/2 -> 0.88553196 | Q1309: =Q1308/2+Q1312/2 -> 0.95287116 | R1309: =R1308/2+R1312/2 -> -6.8998596 | S1309: 1.21 | T1309: 0.62 | U1309: 0.17210389 | V1309: 16.800347 | W1309: 31.924969 | X1309: -15.451115 | Y1309: =0.4*U1309*1.25*O1309/1.5 -> 0.032249848 | Z1309: =0.4*U1309*1.25*P1309/1.5 -> 0.050801165 | AA1309: =0.4*U1309*1.25*Q1309/1.5 -> 0.054664278 | AB1309: =0.4*U1309*1.25*R1309/1.5 -> -0.39583089 | AC1309: =-U1309*U1309*U1309/W1309 -> -0.00015967671
A1310: 40752.908 | B1310: 0.90833333 | C1310: 5.0515894 | D1310: 6.1452788 | E1310: 6.4862316 | F1310: 10.126928 | G1310: 4.5950657 | H1310: 5.3928667 | I1310: 5.5632408 | J1310: 17.605342 | K1310: =C1310-G1310 -> 0.4565237 | L1310: =D1310-H1310 -> 0.75241218 | M1310: =E1310-I1310 -> 0.92299084 | N1310: =F1310-J1310 -> -7.4784133 | O1310: =(K1297+K1298+K1299+K1300+K1301+K1302+K1303+K1304+K1305+K1306)/10 -> 0.60057032 | P1310: =(L1297+L1298+L1299+L1300+L1301+L1302+L1303+L1304+L1305+L1306)/10 -> 0.94187893 | Q1310: =(M1297+M1298+M1299+M1300+M1301+M1302+M1303+M1304+M1305+M1306)/10 -> 1.0066538 | R1310: =(N1297+N1298+N1299+N1300+N1301+N1302+N1303+N1304+N1305+N1306)/10 -> -7.531264 | S1310: 1.2 | T1310: 0.61 | U1310: 0.17064601 | V1310: 16.783123 | W1310: 31.909446 | X1310: -15.069104 | Y1310: =0.4*U1310*1.25*O1310/1.5 -> 0.034161643 | Z1310: =0.4*U1310*1.25*P1310/1.5 -> 0.053575961 | AA1310: =0.4*U1310*1.25*Q1310/1.5 -> 0.057260486 | AB1310: =0.4*U1310*1.25*R1310/1.5 -> -0.42839338 | AC1310: =-U1310*U1310*U1310/W1310 -> -0.00015572888
A1311: 40752.909 | B1311: 0.90902778 | C1311: 5.1101866 | D1311: 6.2513902 | E1311: 6.5581864 | F1311: 13.262721 | G1311: 4.8428711 | H1311: 5.9085447 | I1311: 6.1472321 | J1311: 21.431293 | K1311: =C1311-G1311 -> 0.26731555 | L1311: =D1311-H1311 -> 0.34284551 | M1311: =E1311-I1311 -> 0.41095426 | N1311: =F1311-J1311 -> -8.1685717 | O1311: =(K1298+K1299+K1300+K1301+K1302+K1303+K1304+K1305+K1306+K1310)/10 -> 0.58053509 | P1311: =(L1298+L1299+L1300+L1301+L1302+L1303+L1304+L1305+L1306+L1310)/10 -> 0.91837861 | Q1311: =(M1298+M1299+M1300+M1301+M1302+M1303+M1304+M1305+M1306+M1310)/10 -> 0.98998484 | R1311: =(N1298+N1299+N1300+N1301+N1302+N1303+N1304+N1305+N1306+N1310)/10 -> -7.0358926 | S1311: 1.21 | T1311: 0.59 | U1311: 0.1772796 | V1311: 16.765287 | W1311: 34.263863 | X1311: -15.734691 | Y1311: =0.4*U1311*1.25*O1311/1.5 -> 0.034305676 | Z1311: =0.4*U1311*1.25*P1311/1.5 -> 0.054269931 | AA1311: =0.4*U1311*1.25*Q1311/1.5 -> 0.058501372 | AB1311: =0.4*U1311*1.25*R1311/1.5 -> -0.41577341 | AC1311: =-U1311*U1311*U1311/W1311 -> -0.00016260727
A1312: 40752.91 | B1312: 0.90972222 | C1312: 5.1429413 | D1312: 6.1726225 | E1312: 6.7181061 | F1312: 12.816019 | G1312: 4.6556383 | H1312: 5.5524957 | I1312: 6.029666 | J1312: 20.215004 | K1312: =C1312-G1312 -> 0.487303 | L1312: =D1312-H1312 -> 0.62012681 | M1312: =E1312-I1312 -> 0.68844009 | N1312: =F1312-J1312 -> -7.3989848 | O1312: =(K1299+K1300+K1301+K1302+K1303+K1304+K1305+K1306+K1310+K1311)/10 -> 0.52512798 | P1312: =(L1299+L1300+L1301+L1302+L1303+L1304+L1305+L1306+L1310+L1311)/10 -> 0.83082225 | Q1312: =(M1299+M1300+M1301+M1302+M1303+M1304+M1305+M1306+M1310+M1311)/10 -> 0.89901281 | R1312: =(N1299+N1300+N1301+N1302+N1303+N1304+N1305+N1306+N1310+N1311)/10 -> -6.5643314 | S1312: 1.24 | T1312: 0.57 | U1312: 0.19018504 | V1312: 16.745447 | W1312: 38.455731 | X1312: -17.309569 | Y1312: =0.4*U1312*1.25*O1312/1.5 -> 0.033290495 | Z1312: =0.4*U1312*1.25*P1312/1.5 -> 0.052669988 | AA1312: =0.4*U1312*1.25*Q1312/1.5 -> 0.056992929 | AB1312: =0.4*U1312*1.25*R1312/1.5 -> -0.41614588 | AC1312: =-U1312*U1312*U1312/W1312 -> -0.00017888255
A1313: 40752.91 | B1313: 0.91041667 | C1313: 5.2127152 | D1313: 6.4160775 | E1313: 6.6547649 | F1313: 11.057298 | G1313: 4.7357028 | H1313: 5.6528881 | I1313: 5.8574189 | J1313: 21.692535 | K1313: =C1313-G1313 -> 0.47701237 | L1313: =D1313-H1313 -> 0.7631894 | M1313: =E1313-I1313 -> 0.79734604 | N1313: =F1313-J1313 -> -10.635237 | O1313: =(K1300+K1301+K1302+K1303+K1304+K1305+K1306+K1310+K1311+K1312)/10 -> 0.48275085 | P1313: =(L1300+L1301+L1302+L1303+L1304+L1305+L1306+L1310+L1311+L1312)/10 -> 0.75944665 | Q1313: =(M1300+M1301+M1302+M1303+M1304+M1305+M1306+M1310+M1311+M1312)/10 -> 0.82765767 | R1313: =(N1300+N1301+N1302+N1303+N1304+N1305+N1306+N1310+N1311+N1312)/10 -> -6.9025076 | S1313: 1.2 | T1313: 0.54 | U1313: 0.1829436 | V1313: 16.726417 | W1313: 37.857716 | X1313: -15.650043 | Y1313: =0.4*U1313*1.25*O1313/1.5 -> 0.029438726 | Z1313: =0.4*U1313*1.25*P1313/1.5 -> 0.046311968 | AA1313: =0.4*U1313*1.25*Q1313/1.5 -> 0.050471558 | AB1313: =0.4*U1313*1.25*R1313/1.5 -> -0.4209232 | AC1313: =-U1313*U1313*U1313/W1313 -> -0.00016173248
A1314: 40752.911 | B1314: 0.91111111 | C1314: 5.2157005 | D1314: 6.3776425 | E1314: 6.8208607 | F1314: 10.984927 | G1314: 4.6852432 | H1314: 5.6435711 | I1314: 6.018476 | J1314: 18.286297 | K1314: =C1314-G1314 -> 0.53045733 | L1314: =D1314-H1314 -> 0.73407145 | M1314: =E1314-I1314 -> 0.80238473 | N1314: =F1314-J1314 -> -7.3013699 | O1314: =(K1301+K1302+K1303+K1304+K1305+K1306+K1310+K1311+K1312+K1313)/10 -> 0.46309302 | P1314: =(L1301+L1302+L1303+L1304+L1305+L1306+L1310+L1311+L1312+L1313)/10 -> 0.73216622 | Q1314: =(M1301+M1302+M1303+M1304+M1305+M1306+M1310+M1311+M1312+M1313)/10 -> 0.77992416 | R1314: =(N1301+N1302+N1303+N1304+N1305+N1306+N1310+N1311+N1312+N1313)/10 -> -6.9037635 | S1314: 1.18 | T1314: 0.53 | U1314: 0.17847066 | V1314: 16.707943 | W1314: 37.09222 | X1314: -14.829822 | Y1314: =0.4*U1314*1.25*O1314/1.5 -> 0.027549506 | Z1314: =0.4*U1314*1.25*P1314/1.5 -> 0.04355673 | AA1314: =0.4*U1314*1.25*Q1314/1.5 -> 0.04639786 | AB1314: =0.4*U1314*1.25*R1314/1.5 -> -0.41070641 | AC1314: =-U1314*U1314*U1314/W1314 -> -0.00015325606
A1315: 40752.912 | B1315: 0.91180556 | C1315: 5.2237517 | D1315: 6.3062191 | E1315: 6.5449065 | F1315: 9.9445516 | G1315: 4.6994789 | H1315: 5.5908974 | I1315: 5.7954282 | J1315: 25.865018 | K1315: =C1315-G1315 -> 0.52427281 | L1315: =D1315-H1315 -> 0.71532167 | M1315: =E1315-I1315 -> 0.74947831 | N1315: =F1315-J1315 -> -15.920467 | O1315: =(K1302+K1303+K1304+K1305+K1306+K1310+K1311+K1312+K1313+K1314)/10 -> 0.44060527 | P1315: =(L1302+L1303+L1304+L1305+L1306+L1310+L1311+L1312+L1313+L1314)/10 -> 0.69343485 | Q1315: =(M1302+M1303+M1304+M1305+M1306+M1310+M1311+M1312+M1313+M1314)/10 -> 0.74460844 | R1315: =(N1302+N1303+N1304+N1305+N1306+N1310+N1311+N1312+N1313+N1314)/10 -> -6.9438129 | S1315: 1.19 | T1315: 0.51 | U1315: 0.18523136 | V1315: 16.68848 | W1315: 39.986548 | X1315: -15.379703 | Y1315: =0.4*U1315*1.25*O1315/1.5 -> 0.027204638 | Z1315: =0.4*U1315*1.25*P1315/1.5 -> 0.042815293 | AA1315: =0.4*U1315*1.25*Q1315/1.5 -> 0.045974945 | AB1315: =0.4*U1315*1.25*R1315/1.5 -> -0.4287373 | AC1315: =-U1315*U1315*U1315/W1315 -> -0.00015893869
A1316: 40752.913 | B1316: 0.9125 | C1316: 5.220861 | D1316: 6.3387996 | E1316: 6.7137045 | F1316: 11.254222 | G1316: 4.6684203 | H1316: 5.4742985 | I1316: 5.7810947 | J1316: 25.158438 | K1316: =C1316-G1316 -> 0.55244076 | L1316: =D1316-H1316 -> 0.86450105 | M1316: =E1316-I1316 -> 0.9326098 | N1316: =F1316-J1316 -> -13.904216 | O1316: =(K1303+K1304+K1305+K1306+K1310+K1311+K1312+K1313+K1314+K1315)/10 -> 0.42684637 | P1316: =(L1303+L1304+L1305+L1306+L1310+L1311+L1312+L1313+L1314+L1315)/10 -> 0.66510919 | Q1316: =(M1303+M1304+M1305+M1306+M1310+M1311+M1312+M1313+M1314+M1315)/10 -> 0.74354674 | R1316: =(N1303+N1304+N1305+N1306+N1310+N1311+N1312+N1313+N1314+N1315)/10 -> -7.6383043 | S1316: 1.2 | T1316: 0.49 | U1316: 0.19199581 | V1316: 16.671147 | W1316: 43.116162 | X1316: -15.883765 | Y1316: =0.4*U1316*1.25*O1316/1.5 -> 0.027317571 | Z1316: =0.4*U1316*1.25*P1316/1.5 -> 0.042566059 | AA1316: =0.4*U1316*1.25*Q1316/1.5 -> 0.047585953 | AB1316: =0.4*U1316*1.25*R1316/1.5 -> -0.48884081 | AC1316: =-U1316*U1316*U1316/W1316 -> -0.00016414783
A1317: 40752.913 | B1317: 0.91319444 | C1317: 5.2900938 | D1317: 6.405434 | E1317: 6.8144956 | F1317: 11.140681 | G1317: 4.8944062 | H1317: 5.8540609 | I1317: 6.3653878 | J1317: 22.490888 | K1317: =C1317-G1317 -> 0.39568765 | L1317: =D1317-H1317 -> 0.55137312 | M1317: =E1317-I1317 -> 0.44910773 | N1317: =F1317-J1317 -> -11.350207 | O1317: =(K1304+K1305+K1306+K1310+K1311+K1312+K1313+K1314+K1315+K1316)/10 -> 0.42428474 | P1317: =(L1304+L1305+L1306+L1310+L1311+L1312+L1313+L1314+L1315+L1316)/10 -> 0.63820029 | Q1317: =(M1304+M1305+M1306+M1310+M1311+M1312+M1313+M1314+M1315+M1316)/10 -> 0.71322218 | R1317: =(N1304+N1305+N1306+N1310+N1311+N1312+N1313+N1314+N1315+N1316)/10 -> -8.383045 | S1317: 1.19 | T1317: 0.47 | U1317: 0.1925982 | V1317: 16.65181 | W1317: 44.545948 | X1317: -15.519109 | Y1317: =0.4*U1317*1.25*O1317/1.5 -> 0.027238826 | Z1317: =0.4*U1317*1.25*P1317/1.5 -> 0.040972076 | AA1317: =0.4*U1317*1.25*Q1317/1.5 -> 0.045788436 | AB1317: =0.4*U1317*1.25*R1317/1.5 -> -0.53818646 | AC1317: =-U1317*U1317*U1317/W1317 -> -0.00016037936
A1318: 40752.914 | B1318: 0.91388889 | C1318: 5.205021 | D1318: 6.4559139 | E1318: 6.8649754 | F1318: 13.277195 | G1318: 4.6791945 | H1318: 5.6433557 | I1318: 5.8137299 | J1318: 21.84171 | K1318: =C1318-G1318 -> 0.52582653 | L1318: =D1318-H1318 -> 0.81255815 | M1318: =E1318-I1318 -> 1.0512456 | N1318: =F1318-J1318 -> -8.5645151 | O1318: =(K1305+K1306+K1310+K1311+K1312+K1313+K1314+K1315+K1316+K1317)/10 -> 0.45478024 | P1318: =(L1305+L1306+L1310+L1311+L1312+L1313+L1314+L1315+L1316+L1317)/10 -> 0.68134575 | Q1318: =(M1305+M1306+M1310+M1311+M1312+M1313+M1314+M1315+M1316+M1317)/10 -> 0.73249889 | R1318: =(N1305+N1306+N1310+N1311+N1312+N1313+N1314+N1315+N1316+N1317)/10 -> -9.3017399 | S1318: 1.16 | T1318: 0.46 | U1318: 0.1851935 | V1318: 16.634807 | W1318: 42.854737 | X1318: -14.34157 | Y1318: =0.4*U1318*1.25*O1318/1.5 -> 0.028074114 | Z1318: =0.4*U1318*1.25*P1318/1.5 -> 0.042060268 | AA1318: =0.4*U1318*1.25*Q1318/1.5 -> 0.045218011 | AB1318: =0.4*U1318*1.25*R1318/1.5 -> -0.57420725 | AC1318: =-U1318*U1318*U1318/W1318 -> -0.0001482103
A1319: 40752.915 | B1319: 0.91458333 | C1319: 5.1998573 | D1319: 6.3278662 | E1319: 6.7369277 | F1319: 14.109297 | G1319: 4.813144 | H1319: 5.7287036 | I1319: 6.0354998 | J1319: 21.965273 | K1319: =C1319-G1319 -> 0.38671336 | L1319: =D1319-H1319 -> 0.59916259 | M1319: =E1319-I1319 -> 0.70142798 | N1319: =F1319-J1319 -> -7.8559759 | O1319: =(K1306+K1310+K1311+K1312+K1313+K1314+K1315+K1316+K1317+K1318)/10 -> 0.45521131 | P1319: =(L1306+L1310+L1311+L1312+L1313+L1314+L1315+L1316+L1317+L1318)/10 -> 0.67527994 | Q1319: =(M1306+M1310+M1311+M1312+M1313+M1314+M1315+M1316+M1317+M1318)/10 -> 0.75713315 | R1319: =(N1306+N1310+N1311+N1312+N1313+N1314+N1315+N1316+N1317+N1318)/10 -> -9.8032635 | S1319: 1.19 | T1319: 0.45 | U1319: 0.19634202 | V1319: 16.61665 | W1319: 47.122065 | X1319: -15.542959 | Y1319: =0.4*U1319*1.25*O1319/1.5 -> 0.029792369 | Z1319: =0.4*U1319*1.25*P1319/1.5 -> 0.044195276 | AA1319: =0.4*U1319*1.25*Q1319/1.5 -> 0.049552351 | AB1319: =0.4*U1319*1.25*R1319/1.5 -> -0.64159752 | AC1319: =-U1319*U1319*U1319/W1319 -> -0.00016062585
A1320: 40752.915 | B1320: 0.91527778 | C1320: 5.1703989 | D1320: 6.3146554 | E1320: 6.7237169 | F1320: 10.599035 | G1320: 4.6436433 | H1320: 5.528924 | I1320: 5.9721422 | J1320: 23.168288 | K1320: =C1320-G1320 -> 0.52675561 | L1320: =D1320-H1320 -> 0.78573138 | M1320: =E1320-I1320 -> 0.75157475 | N1320: =F1320-J1320 -> -12.569253 | O1320: =(K1310+K1311+K1312+K1313+K1314+K1315+K1316+K1317+K1318+K1319)/10 -> 0.46035531 | P1320: =(L1310+L1311+L1312+L1313+L1314+L1315+L1316+L1317+L1318+L1319)/10 -> 0.67555619 | Q1320: =(M1310+M1311+M1312+M1313+M1314+M1315+M1316+M1317+M1318+M1319)/10 -> 0.75059853 | R1320: =(N1310+N1311+N1312+N1313+N1314+N1315+N1316+N1317+N1318+N1319)/10 -> -9.8577957 | S1320: 1.18 | T1320: 0.43 | U1320: 0.19706748 | V1320: 16.598723 | W1320: 48.874744 | X1320: -15.152303 | Y1320: =0.4*U1320*1.25*O1320/1.5 -> 0.030240353 | Z1320: =0.4*U1320*1.25*P1320/1.5 -> 0.044376719 | AA1320: =0.4*U1320*1.25*Q1320/1.5 -> 0.049306187 | AB1320: =0.4*U1320*1.25*R1320/1.5 -> -0.64755032 | AC1320: =-U1320*U1320*U1320/W1320 -> -0.00015658869
A1321: 40752.916 | B1321: 0.91597222 | C1321: 5.1910414 | D1321: 6.4205023 | E1321: 6.8295639 | F1321: 13.706297 | G1321: 4.8616235 | H1321: 5.8097178 | I1321: 6.1846227 | J1321: 23.145067 | K1321: =C1321-G1321 -> 0.3294179 | L1321: =D1321-H1321 -> 0.61078447 | M1321: =E1321-I1321 -> 0.64494111 | N1321: =F1321-J1321 -> -9.4387695 | O1321: =(K1311+K1312+K1313+K1314+K1315+K1316+K1317+K1318+K1319+K1320)/10 -> 0.4673785 | P1321: =(L1311+L1312+L1313+L1314+L1315+L1316+L1317+L1318+L1319+L1320)/10 -> 0.67888811 | Q1321: =(M1311+M1312+M1313+M1314+M1315+M1316+M1317+M1318+M1319+M1320)/10 -> 0.73345692 | R1321: =(N1311+N1312+N1313+N1314+N1315+N1316+N1317+N1318+N1319+N1320)/10 -> -10.36688 | S1321: 1.18 | T1321: 0.41 | U1321: 0.20091373 | V1321: 16.582523 | W1321: 51.903833 | X1321: -15.119858 | Y1321: =0.4*U1321*1.25*O1321/1.5 -> 0.031300919 | Z1321: =0.4*U1321*1.25*P1321/1.5 -> 0.045465981 | AA1321: =0.4*U1321*1.25*Q1321/1.5 -> 0.049120522 | AB1321: =0.4*U1321*1.25*R1321/1.5 -> -0.69428282 | AC1321: =-U1321*U1321*U1321/W1321 -> -0.00015625338
A1322: 40752.917 | B1322: 0.91666667 | C1322: 5.2100951 | D1322: 6.3070237 | E1322: 6.5457111 | F1322: 10.739574 | G1322: 4.7181695 | H1322: 5.5848797 | I1322: 5.9258325 | J1322: 18.065323 | K1322: =C1322-G1322 -> 0.49192557 | L1322: =D1322-H1322 -> 0.72214406 | M1322: =E1322-I1322 -> 0.61987868 | N1322: =F1322-J1322 -> -7.3257491 | O1322: =(K1312+K1313+K1314+K1315+K1316+K1317+K1318+K1319+K1320+K1321)/10 -> 0.47358873 | P1322: =(L1312+L1313+L1314+L1315+L1316+L1317+L1318+L1319+L1320+L1321)/10 -> 0.70568201 | Q1322: =(M1312+M1313+M1314+M1315+M1316+M1317+M1318+M1319+M1320+M1321)/10 -> 0.75685561 | R1322: =(N1312+N1313+N1314+N1315+N1316+N1317+N1318+N1319+N1320+N1321)/10 -> -10.493899 | S1322: 1.17 | T1322: 0.4 | U1322: 0.19981259 | V1322: 16.568 | W1322: 52.40479 | X1322: -14.730444 | Y1322: =0.4*U1322*1.25*O1322/1.5 -> 0.031542997 | Z1322: =0.4*U1322*1.25*P1322/1.5 -> 0.047001383 | AA1322: =0.4*U1322*1.25*Q1322/1.5 -> 0.05040976 | AB1322: =0.4*U1322*1.25*R1322/1.5 -> -0.69893774 | AC1322: =-U1322*U1322*U1322/W1322 -> -0.00015222906
A1323: 40752.917 | B1323: 0.91736111 | C1323: 5.2294948 | D1323: 6.4126167 | E1323: 6.889787 | F1323: 10.609678 | G1323: 4.8796116 | H1323: 5.8514924 | I1323: 6.0901798 | J1323: 24.426789 | K1323: =C1323-G1323 -> 0.34988325 | L1323: =D1323-H1323 -> 0.56112438 | M1323: =E1323-I1323 -> 0.79960726 | N1323: =F1323-J1323 -> -13.817111 | O1323: =(K1313+K1314+K1315+K1316+K1317+K1318+K1319+K1320+K1321+K1322)/10 -> 0.47405099 | P1323: =(L1313+L1314+L1315+L1316+L1317+L1318+L1319+L1320+L1321+L1322)/10 -> 0.71588374 | Q1323: =(M1313+M1314+M1315+M1316+M1317+M1318+M1319+M1320+M1321+M1322)/10 -> 0.74999947 | R1323: =(N1313+N1314+N1315+N1316+N1317+N1318+N1319+N1320+N1321+N1322)/10 -> -10.486576 | S1323: 1.19 | T1323: 0.39 | U1323: 0.20783286 | V1323: 16.552483 | W1323: 56.39876 | X1323: -15.402506 | Y1323: =0.4*U1323*1.25*O1323/1.5 -> 0.032841124 | Z1323: =0.4*U1323*1.25*P1323/1.5 -> 0.049594721 | AA1323: =0.4*U1323*1.25*Q1323/1.5 -> 0.051958178 | AB1323: =0.4*U1323*1.25*R1323/1.5 -> -0.72648502 | AC1323: =-U1323*U1323*U1323/W1323 -> -0.00015917435
A1324: 40752.918 | B1324: 0.91805556 | C1324: 5.2301715 | D1324: 6.3998758 | E1324: 6.7408286 | F1324: 10.228455 | G1324: 4.7060227 | H1324: 5.6519968 | I1324: 6.1291671 | J1324: 21.069747 | K1324: =C1324-G1324 -> 0.52414879 | L1324: =D1324-H1324 -> 0.747879 | M1324: =E1324-I1324 -> 0.61166151 | N1324: =F1324-J1324 -> -10.841293 | O1324: =(K1314+K1315+K1316+K1317+K1318+K1319+K1320+K1321+K1322+K1323)/10 -> 0.46133808 | P1324: =(L1314+L1315+L1316+L1317+L1318+L1319+L1320+L1321+L1322+L1323)/10 -> 0.69567723 | Q1324: =(M1314+M1315+M1316+M1317+M1318+M1319+M1320+M1321+M1322+M1323)/10 -> 0.75022559 | R1324: =(N1314+N1315+N1316+N1317+N1318+N1319+N1320+N1321+N1322+N1323)/10 -> -10.804763 | S1324: 1.16 | T1324: 0.38 | U1324: 0.20071611 | V1324: 16.538423 | W1324: 54.678627 | X1324: -14.310255 | Y1324: =0.4*U1324*1.25*O1324/1.5 -> 0.030865995 | Z1324: =0.4*U1324*1.25*P1324/1.5 -> 0.046544543 | AA1324: =0.4*U1324*1.25*Q1324/1.5 -> 0.050194121 | AB1324: =0.4*U1324*1.25*R1324/1.5 -> -0.72289668 | AC1324: =-U1324*U1324*U1324/W1324 -> -0.00014788669
A1325: 40752.919 | B1325: 0.91875 | C1325: 5.4987207 | D1325: 6.624761 | E1325: 7.136088 | F1325: 9.8734951 | G1325: 4.8354569 | H1325: 5.9363305 | I1325: 6.1067046 | J1325: 18.498504 | K1325: =C1325-G1325 -> 0.66326381 | L1325: =D1325-H1325 -> 0.68843058 | M1325: =E1325-I1325 -> 1.0293834 | N1325: =F1325-J1325 -> -8.625009 | O1325: =(K1315+K1316+K1317+K1318+K1319+K1320+K1321+K1322+K1323+K1324)/10 -> 0.46070722 | P1325: =(L1315+L1316+L1317+L1318+L1319+L1320+L1321+L1322+L1323+L1324)/10 -> 0.69705799 | Q1325: =(M1315+M1316+M1317+M1318+M1319+M1320+M1321+M1322+M1323+M1324)/10 -> 0.73115327 | R1325: =(N1315+N1316+N1317+N1318+N1319+N1320+N1321+N1322+N1323+N1324)/10 -> -11.158756 | S1325: 1.15 | T1325: 0.38 | U1325: 0.19768059 | V1325: 16.523457 | W1325: 53.515516 | X1325: -13.967886 | Y1325: =0.4*U1325*1.25*O1325/1.5 -> 0.030357625 | Z1325: =0.4*U1325*1.25*P1325/1.5 -> 0.045931611 | AA1325: =0.4*U1325*1.25*Q1325/1.5 -> 0.04817827 | AB1325: =0.4*U1325*1.25*R1325/1.5 -> -0.73528979 | AC1325: =-U1325*U1325*U1325/W1325 -> -0.00014434853
A1326: 40752.919 | B1326: 0.91944444 | C1326: 5.4187287 | D1326: 6.6687492 | E1326: 7.0778108 | F1326: 11.465045 | G1326: 4.6177151 | H1326: 5.4981741 | I1326: 5.8391269 | J1326: 18.076661 | K1326: =C1326-G1326 -> 0.80101359 | L1326: =D1326-H1326 -> 1.1705752 | M1326: =E1326-I1326 -> 1.2386839 | N1326: =F1326-J1326 -> -6.6116162 | O1326: =(K1316+K1317+K1318+K1319+K1320+K1321+K1322+K1323+K1324+K1325)/10 -> 0.47460632 | P1326: =(L1316+L1317+L1318+L1319+L1320+L1321+L1322+L1323+L1324+L1325)/10 -> 0.69436888 | Q1326: =(M1316+M1317+M1318+M1319+M1320+M1321+M1322+M1323+M1324+M1325)/10 -> 0.75914378 | R1326: =(N1316+N1317+N1318+N1319+N1320+N1321+N1322+N1323+N1324+N1325)/10 -> -10.42921 | S1326: 1.14 | T1326: 0.39 | U1326: 0.19263972 | V1326: 16.51076 | W1326: 50.681283 | X1326: -13.649231 | Y1326: =0.4*U1326*1.25*O1326/1.5 -> 0.03047601 | Z1326: =0.4*U1326*1.25*P1326/1.5 -> 0.044587676 | AA1326: =0.4*U1326*1.25*Q1326/1.5 -> 0.048747081 | AB1326: =0.4*U1326*1.25*R1326/1.5 -> -0.66969335 | AC1326: =-U1326*U1326*U1326/W1326 -> -0.00014105546
A1327: 40752.92 | B1327: 0.92013889 | C1327: 5.4456942 | D1327: 6.5809205 | E1327: 6.989982 | F1327: 14.370925 | G1327: 4.5443379 | H1327: 5.3420433 | I1327: 5.6146828 | J1327: 15.908569 | K1327: =C1327-G1327 -> 0.90135631 | L1327: =D1327-H1327 -> 1.2388771 | M1327: =E1327-I1327 -> 1.3752992 | N1327: =F1327-J1327 -> -1.5376444 | O1327: =(K1317+K1318+K1319+K1320+K1321+K1322+K1323+K1324+K1325+K1326)/10 -> 0.4994636 | P1327: =(L1317+L1318+L1319+L1320+L1321+L1322+L1323+L1324+L1325+L1326)/10 -> 0.72497629 | Q1327: =(M1317+M1318+M1319+M1320+M1321+M1322+M1323+M1324+M1325+M1326)/10 -> 0.78975119 | R1327: =(N1317+N1318+N1319+N1320+N1321+N1322+N1323+N1324+N1325+N1326)/10 -> -9.6999498 | S1327: 1.11 | T1327: 0.4 | U1327: 0.18143785 | V1327: 16.496307 | W1327: 45.84072 | X1327: -12.608125 | Y1327: =0.4*U1327*1.25*O1327/1.5 -> 0.030207201 | Z1327: =0.4*U1327*1.25*P1327/1.5 -> 0.043846046 | AA1327: =0.4*U1327*1.25*Q1327/1.5 -> 0.047763586 | AB1327: =0.4*U1327*1.25*R1327/1.5 -> -0.58664601 | AC1327: =-U1327*U1327*U1327/W1327 -> -0.00013029635
A1328: 40752.921 | B1328: 0.92083333 | C1328: 5.4554022 | D1328: 6.5560979 | E1328: 6.8970507 | F1328: 12.243632 | G1328: 4.6668317 | H1328: 5.4587266 | I1328: 5.6974141 | J1328: 17.53073 | K1328: =C1328-G1328 -> 0.78857048 | L1328: =D1328-H1328 -> 1.0973712 | M1328: =E1328-I1328 -> 1.1996366 | N1328: =F1328-J1328 -> -5.2870977 | O1328: =(K1318+K1319+K1320+K1321+K1322+K1323+K1324+K1325+K1326+K1327)/10 -> 0.55003047 | P1328: =(L1318+L1319+L1320+L1321+L1322+L1323+L1324+L1325+L1326+L1327)/10 -> 0.79372669 | Q1328: =(M1318+M1319+M1320+M1321+M1322+M1323+M1324+M1325+M1326+M1327)/10 -> 0.88237033 | R1328: =(N1318+N1319+N1320+N1321+N1322+N1323+N1324+N1325+N1326+N1327)/10 -> -8.7186935 | S1328: 1.08 | T1328: 0.39 | U1328: 0.17420589 | V1328: 16.485737 | W1328: 44.118191 | X1328: -11.59549 | Y1328: =0.4*U1328*1.25*O1328/1.5 -> 0.031939516 | Z1328: =0.4*U1328*1.25*P1328/1.5 -> 0.046090622 | AA1328: =0.4*U1328*1.25*Q1328/1.5 -> 0.051238036 | AB1328: =0.4*U1328*1.25*R1328/1.5 -> -0.50628259 | AC1328: =-U1328*U1328*U1328/W1328 -> -0.00011983145
A1329: 40752.922 | B1329: 0.92152778 | C1329: 5.3139281 | D1329: 6.4834337 | E1329: 6.9947606 | F1329: 10.989934 | G1329: 4.4365665 | H1329: 5.3046562 | I1329: 5.645609 | J1329: 22.60638 | K1329: =C1329-G1329 -> 0.87736162 | L1329: =D1329-H1329 -> 1.1787775 | M1329: =E1329-I1329 -> 1.3491517 | N1329: =F1329-J1329 -> -11.616447 | O1329: =(K1319+K1320+K1321+K1322+K1323+K1324+K1325+K1326+K1327+K1328)/10 -> 0.57630487 | P1329: =(L1319+L1320+L1321+L1322+L1323+L1324+L1325+L1326+L1327+L1328)/10 -> 0.822208 | Q1329: =(M1319+M1320+M1321+M1322+M1323+M1324+M1325+M1326+M1327+M1328)/10 -> 0.89720943 | R1329: =(N1319+N1320+N1321+N1322+N1323+N1324+N1325+N1326+N1327+N1328)/10 -> -8.3909518 | S1329: 1.05 | T1329: 0.38 | U1329: 0.16698268 | V1329: 16.475843 | W1329: 42.39374 | X1329: -10.627493 | Y1329: =0.4*U1329*1.25*O1329/1.5 -> 0.032077644 | Z1329: =0.4*U1329*1.25*P1329/1.5 -> 0.045764832 | AA1329: =0.4*U1329*1.25*Q1329/1.5 -> 0.049939479 | AB1329: =0.4*U1329*1.25*R1329/1.5 -> -0.46704787 | AC1329: =-U1329*U1329*U1329/W1329 -> -0.00010982787
A1330: 40752.922 | B1330: 0.92222222 | C1330: 5.3407943 | D1330: 6.5071276 | E1330: 6.6775017 | F1330: 10.778098 | G1330: 4.5557598 | H1330: 5.3248241 | I1330: 5.5635115 | J1330: 20.173685 | K1330: =C1330-G1330 -> 0.78503452 | L1330: =D1330-H1330 -> 1.1823035 | M1330: =E1330-I1330 -> 1.1139902 | N1330: =F1330-J1330 -> -9.3955863 | O1330: =(K1320+K1321+K1322+K1323+K1324+K1325+K1326+K1327+K1328+K1329)/10 -> 0.62536969 | P1330: =(L1320+L1321+L1322+L1323+L1324+L1325+L1326+L1327+L1328+L1329)/10 -> 0.88016949 | Q1330: =(M1320+M1321+M1322+M1323+M1324+M1325+M1326+M1327+M1328+M1329)/10 -> 0.9619818 | R1330: =(N1320+N1321+N1322+N1323+N1324+N1325+N1326+N1327+N1328+N1329)/10 -> -8.7669989 | S1330: 1.04 | T1330: 0.38 | U1330: 0.16387671 | V1330: 16.463047 | W1330: 41.332237 | X1330: -10.303412 | Y1330: =0.4*U1330*1.25*O1330/1.5 -> 0.034161176 | Z1330: =0.4*U1330*1.25*P1330/1.5 -> 0.04807976 | AA1330: =0.4*U1330*1.25*Q1330/1.5 -> 0.052548804 | AB1330: =0.4*U1330*1.25*R1330/1.5 -> -0.47890231 | AC1330: =-U1330*U1330*U1330/W1330 -> -0.00010647871
A1331: 40752.923 | B1331: 0.92291667 | C1331: 5.3628732 | D1331: 6.5950599 | E1331: 7.1063869 | F1331: 11.713729 | G1331: 4.5927903 | H1331: 5.3976401 | I1331: 5.5340621 | J1331: 21.759603 | K1331: =C1331-G1331 -> 0.77008286 | L1331: =D1331-H1331 -> 1.1974198 | M1331: =E1331-I1331 -> 1.5723247 | N1331: =F1331-J1331 -> -10.045874 | O1331: =(K1321+K1322+K1323+K1324+K1325+K1326+K1327+K1328+K1329+K1330)/10 -> 0.65119758 | P1331: =(L1321+L1322+L1323+L1324+L1325+L1326+L1327+L1328+L1329+L1330)/10 -> 0.9198267 | Q1331: =(M1321+M1322+M1323+M1324+M1325+M1326+M1327+M1328+M1329+M1330)/10 -> 0.99822335 | R1331: =(N1321+N1322+N1323+N1324+N1325+N1326+N1327+N1328+N1329+N1330)/10 -> -8.4496322 | S1331: 1.01 | T1331: 0.39 | U1331: 0.15239706 | V1331: 16.451687 | W1331: 36.868661 | X1331: -9.2894656 | Y1331: =0.4*U1331*1.25*O1331/1.5 -> 0.033080199 | Z1331: =0.4*U1331*1.25*P1331/1.5 -> 0.046726295 | AA1331: =0.4*U1331*1.25*Q1331/1.5 -> 0.050708768 | AB1331: =0.4*U1331*1.25*R1331/1.5 -> -0.42923304 | AC1331: =-U1331*U1331*U1331/W1331 -> -9.6000258e-05
... A1400: 40752.971 | B1400: 0.97083333 | C1400: 6.1570334 | D1400: 7.9107831 | E1400: 8.3198446 | F1400: 12.014292 | G1400: 5.3536325 | H1400: 6.5032123 | I1400: 6.9803825 | J1400: 23.034101 | K1400: =C1400-G1400 -> 0.80340093 | L1400: =D1400-H1400 -> 1.4075708 | M1400: =E1400-I1400 -> 1.3394621 | N1400: =F1400-J1400 -> -11.019809 | O1400: =(K1390+K1391+K1392+K1393+K1394+K1395+K1396+K1397+K1398+K1399)/10 -> 0.62324368 | P1400: =(L1390+L1391+L1392+L1393+L1394+L1395+L1396+L1397+L1398+L1399)/10 -> 1.0843819 | Q1400: =(M1390+M1391+M1392+M1393+M1394+M1395+M1396+M1397+M1398+M1399)/10 -> 1.1287242 | R1400: =(N1390+N1391+N1392+N1393+N1394+N1395+N1396+N1397+N1398+N1399)/10 -> -9.8897084 | S1400: 1.25 | T1400: 0.38 | U1400: 0.2277798 | V1400: 0 | W1400: 65.566478 | X1400: -17.441427 | Y1400: =0.4*U1400*1.25*O1400/1.5 -> 0.047320774 | Z1400: =0.4*U1400*1.25*P1400/1.5 -> 0.082333434 | AA1400: =0.4*U1400*1.25*Q1400/1.5 -> 0.085700192 | AB1400: =0.4*U1400*1.25*R1400/1.5 -> -0.75089194 | AC1400: =-U1400*U1400*U1400/W1400 -> -0.00018024522
A1401: 40752.972 | B1401: 0.97152778 | C1401: 6.1011952 | D1401: 7.8547785 | E1401: 8.2979967 | F1401: 12.020899 | G1401: 5.5782684 | H1401: 6.7985234 | I1401: 7.1394762 | J1401: 22.155733 | K1401: =C1401-G1401 -> 0.52292685 | L1401: =D1401-H1401 -> 1.0562551 | M1401: =E1401-I1401 -> 1.1585205 | N1401: =F1401-J1401 -> -10.134834 | O1401: =(K1391+K1392+K1393+K1394+K1395+K1396+K1397+K1398+K1399+K1400)/10 -> 0.61143751 | P1401: =(L1391+L1392+L1393+L1394+L1395+L1396+L1397+L1398+L1399+L1400)/10 -> 1.0783857 | Q1401: =(M1391+M1392+M1393+M1394+M1395+M1396+M1397+M1398+M1399+M1400)/10 -> 1.1125014 | R1401: =(N1391+N1392+N1393+N1394+N1395+N1396+N1397+N1398+N1399+N1400)/10 -> -10.617042 | S1401: 1.22 | T1401: 0.35 | U1401: 0.22466399 | W1401: 68.242989 | X1401: -16.07906 | Y1401: =0.4*U1401*1.25*O1401/1.5 -> 0.045789331 | Z1401: =0.4*U1401*1.25*P1401/1.5 -> 0.080758143 | AA1401: =0.4*U1401*1.25*Q1401/1.5 -> 0.083313002 | AB1401: =0.4*U1401*1.25*R1401/1.5 -> -0.79508902 | AC1401: =-U1401*U1401*U1401/W1401 -> -0.00016616608
A1402: 40752.972 | B1402: 0.97222222 | C1402: 6.1905382 | D1402: 7.8218073 | E1402: 8.2989776 | F1402: 11.177069 | G1402: 5.4677603 | H1402: 6.6418085 | I1402: 6.8804959 | J1402: 20.528507 | K1402: =C1402-G1402 -> 0.72277785 | L1402: =D1402-H1402 -> 1.1799988 | M1402: =E1402-I1402 -> 1.4184816 | N1402: =F1402-J1402 -> -9.3514379 | O1402: =(K1392+K1393+K1394+K1395+K1396+K1397+K1398+K1399+K1400+K1401)/10 -> 0.59811566 | P1402: =(L1392+L1393+L1394+L1395+L1396+L1397+L1398+L1399+L1400+L1401)/10 -> 1.0532282 | Q1402: =(M1392+M1393+M1394+M1395+M1396+M1397+M1398+M1399+M1400+M1401)/10 -> 1.0771174 | R1402: =(N1392+N1393+N1394+N1395+N1396+N1397+N1398+N1399+N1400+N1401)/10 -> -10.864171 | S1402: 1.15 | T1402: 0.34 | U1402: 0.20577065 | W1402: 61.3358 | X1402: -13.74531 | Y1402: =0.4*U1402*1.25*O1402/1.5 -> 0.041024883 | Z1402: =0.4*U1402*1.25*P1402/1.5 -> 0.07224115 | AA1402: =0.4*U1402*1.25*Q1402/1.5 -> 0.073879715 | AB1402: =0.4*U1402*1.25*R1402/1.5 -> -0.74517586 | AC1402: =-U1402*U1402*U1402/W1402 -> -0.00014204837
A1403: 40752.973 | B1403: 0.97291667 | C1403: 6.0975651 | D1403: 7.5472455 | E1403: 8.0585724 | F1403: 10.795341 | G1403: 5.5655361 | H1403: 6.7057025 | I1403: 6.9102332 | J1403: 24.71876 | K1403: =C1403-G1403 -> 0.532029 | L1403: =D1403-H1403 -> 0.84154302 | M1403: =E1403-I1403 -> 1.1483392 | N1403: =F1403-J1403 -> -13.923419 | O1403: =(K1393+K1394+K1395+K1396+K1397+K1398+K1399+K1400+K1401+K1402)/10 -> 0.60063591 | P1403: =(L1393+L1394+L1395+L1396+L1397+L1398+L1399+L1400+L1401+L1402)/10 -> 1.0579897 | Q1403: =(M1393+M1394+M1395+M1396+M1397+M1398+M1399+M1400+M1401+M1402)/10 -> 1.0716319 | R1403: =(N1393+N1394+N1395+N1396+N1397+N1398+N1399+N1400+N1401+N1402)/10 -> -10.457342 | S1403: 1.15 | T1403: 0.33 | U1403: 0.20782647 | W1403: 63.581631 | X1403: -13.661212 | Y1403: =0.4*U1403*1.25*O1403/1.5 -> 0.041609347 | Z1403: =0.4*U1403*1.25*P1403/1.5 -> 0.073292753 | AA1403: =0.4*U1403*1.25*Q1403/1.5 -> 0.074237823 | AB1403: =0.4*U1403*1.25*R1403/1.5 -> -0.72443751 | AC1403: =-U1403*U1403*U1403/W1403 -> -0.00014117927
A1404: 40752.974 | B1404: 0.97361111 | C1404: 6.2998948 | D1404: 8.1318244 | E1404: 8.5408859 | F1404: 11.802465 | G1404: 5.5709469 | H1404: 6.9203777 | I1404: 7.1590651 | J1404: 18.209994 | K1404: =C1404-G1404 -> 0.72894789 | L1404: =D1404-H1404 -> 1.2114467 | M1404: =E1404-I1404 -> 1.3818208 | N1404: =F1404-J1404 -> -6.4075291 | O1404: =(K1394+K1395+K1396+K1397+K1398+K1399+K1400+K1401+K1402+K1403)/10 -> 0.58428506 | P1404: =(L1394+L1395+L1396+L1397+L1398+L1399+L1400+L1401+L1402+L1403)/10 -> 1.0274547 | Q1404: =(M1394+M1395+M1396+M1397+M1398+M1399+M1400+M1401+M1402+M1403)/10 -> 1.0751922 | R1404: =(N1394+N1395+N1396+N1397+N1398+N1399+N1400+N1401+N1402+N1403)/10 -> -11.288137 | S1404: 1.11 | T1404: 0.32 | U1404: 0.19792625 | W1404: 60.584718 | X1404: -12.384126 | Y1404: =0.4*U1404*1.25*O1404/1.5 -> 0.03854845 | Z1404: =0.4*U1404*1.25*P1404/1.5 -> 0.067786752 | AA1404: =0.4*U1404*1.25*Q1404/1.5 -> 0.070936253 | AB1404: =0.4*U1404*1.25*R1404/1.5 -> -0.74473952 | AC1404: =-U1404*U1404*U1404/W1404 -> -0.00012798147
A1405: 40752.974 | B1405: 0.97430556 | C1405: 6.1659094 | D1405: 7.9282235 | E1405: 8.4395504 | F1405: 12.713082 | G1405: 5.6609618 | H1405: 6.9416185 | I1405: 7.3165234 | J1405: 23.905589 | K1405: =C1405-G1405 -> 0.50494753 | L1405: =D1405-H1405 -> 0.98660496 | M1405: =E1405-I1405 -> 1.123027 | N1405: =F1405-J1405 -> -11.192507 | O1405: =(K1395+K1396+K1397+K1398+K1399+K1400+K1401+K1402+K1403+K1404)/10 -> 0.59265773 | P1405: =(L1395+L1396+L1397+L1398+L1399+L1400+L1401+L1402+L1403+L1404)/10 -> 1.0498792 | Q1405: =(M1395+M1396+M1397+M1398+M1399+M1400+M1401+M1402+M1403+M1404)/10 -> 1.1419181 | R1405: =(N1395+N1396+N1397+N1398+N1399+N1400+N1401+N1402+N1403+N1404)/10 -> -11.003587 | S1405: 1.08 | T1405: 0.31 | U1405: 0.19104335 | W1405: 58.911036 | X1405: -11.452951 | Y1405: =0.4*U1405*1.25*O1405/1.5 -> 0.037741106 | Z1405: =0.4*U1405*1.25*P1405/1.5 -> 0.066857482 | AA1405: =0.4*U1405*1.25*Q1405/1.5 -> 0.072718618 | AB1405: =0.4*U1405*1.25*R1405/1.5 -> -0.70072071 | AC1405: =-U1405*U1405*U1405/W1405 -> -0.00011835841
A1406: 40752.975 | B1406: 0.975 | C1406: 6.1183155 | D1406: 7.6559755 | E1406: 8.3376766 | F1406: 11.941394 | G1406: 5.5837245 | H1406: 6.6816298 | I1406: 7.0225826 | J1406: 24.555664 | K1406: =C1406-G1406 -> 0.53459099 | L1406: =D1406-H1406 -> 0.97434574 | M1406: =E1406-I1406 -> 1.315094 | N1406: =F1406-J1406 -> -12.61427 | O1406: =(K1396+K1397+K1398+K1399+K1400+K1401+K1402+K1403+K1404+K1405)/10 -> 0.59966489 | P1406: =(L1396+L1397+L1398+L1399+L1400+L1401+L1402+L1403+L1404+L1405)/10 -> 1.0808327 | Q1406: =(M1396+M1397+M1398+M1399+M1400+M1401+M1402+M1403+M1404+M1405)/10 -> 1.1933247 | R1406: =(N1396+N1397+N1398+N1399+N1400+N1401+N1402+N1403+N1404+N1405)/10 -> -10.988954 | S1406: 1.07 | T1406: 0.3 | U1406: 0.19021264 | W1406: 59.936635 | X1406: -11.110768 | Y1406: =0.4*U1406*1.25*O1406/1.5 -> 0.038021281 | Z1406: =0.4*U1406*1.25*P1406/1.5 -> 0.06852935 | AA1406: =0.4*U1406*1.25*Q1406/1.5 -> 0.075661812 | AB1406: =0.4*U1406*1.25*R1406/1.5 -> -0.69674595 | AC1406: =-U1406*U1406*U1406/W1406 -> -0.00011482217
A1407: 40752.976 | B1407: 0.97569444 | C1407: 6.2006729 | D1407: 7.9554274 | E1407: 8.4667543 | F1407: 11.017171 | G1407: 5.6718718 | H1407: 6.9718924 | I1407: 7.3809539 | J1407: 18.294716 | K1407: =C1407-G1407 -> 0.52880108 | L1407: =D1407-H1407 -> 0.98353499 | M1407: =E1407-I1407 -> 1.0858004 | N1407: =F1407-J1407 -> -7.2775447 | O1407: =(K1397+K1398+K1399+K1400+K1401+K1402+K1403+K1404+K1405+K1406)/10 -> 0.58565312 | P1407: =(L1397+L1398+L1399+L1400+L1401+L1402+L1403+L1404+L1405+L1406)/10 -> 1.0554608 | Q1407: =(M1397+M1398+M1399+M1400+M1401+M1402+M1403+M1404+M1405+M1406)/10 -> 1.1815745 | R1407: =(N1397+N1398+N1399+N1400+N1401+N1402+N1403+N1404+N1405+N1406)/10 -> -11.312587 | S1407: 1.04 | T1407: 0.29 | U1407: 0.18339762 | W1407: 58.282566 | X1407: -10.241433 | Y1407: =0.4*U1407*1.25*O1407/1.5 -> 0.035802463 | Z1407: =0.4*U1407*1.25*P1407/1.5 -> 0.064523001 | AA1407: =0.4*U1407*1.25*Q1407/1.5 -> 0.07223265 | AB1407: =0.4*U1407*1.25*R1407/1.5 -> -0.69156717 | AC1407: =-U1407*U1407*U1407/W1407 -> -0.00010583819
A1408: 40752.976 | B1408: 0.97638889 | C1408: 6.3679992 | D1408: 8.2974199 | E1408: 8.7745902 | F1408: 12.572857 | G1408: 5.4590888 | H1408: 6.5716104 | I1408: 6.9125632 | J1408: 18.615029 | K1408: =C1408-G1408 -> 0.90891043 | L1408: =D1408-H1408 -> 1.7258095 | M1408: =E1408-I1408 -> 1.862027 | N1408: =F1408-J1408 -> -6.042171 | O1408: =(K1398+K1399+K1400+K1401+K1402+K1403+K1404+K1405+K1406+K1407)/10 -> 0.60072883 | P1408: =(L1398+L1399+L1400+L1401+L1402+L1403+L1404+L1405+L1406+L1407)/10 -> 1.0820351 | Q1408: =(M1398+M1399+M1400+M1401+M1402+M1403+M1404+M1405+M1406+M1407)/10 -> 1.211544 | R1408: =(N1398+N1399+N1400+N1401+N1402+N1403+N1404+N1405+N1406+N1407)/10 -> -10.651971 | S1408: 1 | T1408: 0.27 | U1408: 0.17590576 | W1408: 57.787068 | X1408: -9.1143944 | Y1408: =0.4*U1408*1.25*O1408/1.5 -> 0.035223887 | Z1408: =0.4*U1408*1.25*P1408/1.5 -> 0.063445402 | AA1408: =0.4*U1408*1.25*Q1408/1.5 -> 0.071039189 | AB1408: =0.4*U1408*1.25*R1408/1.5 -> -0.62458099 | AC1408: =-U1408*U1408*U1408/W1408 -> -9.4191025e-05
A1409: 40752.977 | B1409: 0.97708333 | C1409: 6.2275291 | D1409: 7.9231887 | E1409: 8.5026244 | F1409: 17.872915 | G1409: 5.708002 | H1409: 6.8657197 | I1409: 7.0360938 | J1409: 19.869925 | K1409: =C1409-G1409 -> 0.51952714 | L1409: =D1409-H1409 -> 1.057469 | M1409: =E1409-I1409 -> 1.4665306 | N1409: =F1409-J1409 -> -1.9970099 | O1409: =(K1399+K1400+K1401+K1402+K1403+K1404+K1405+K1406+K1407+K1408)/10 -> 0.62926319 | P1409: =(L1399+L1400+L1401+L1402+L1403+L1404+L1405+L1406+L1407+L1408)/10 -> 1.14091 | Q1409: =(M1399+M1400+M1401+M1402+M1403+M1404+M1405+M1406+M1407+M1408)/10 -> 1.2976828 | R1409: =(N1399+N1400+N1401+N1402+N1403+N1404+N1405+N1406+N1407+N1408)/10 -> -10.020652 | S1409: 1 | T1409: 0.27 | U1409: 0.17590576 | W1409: 57.787068 | X1409: -9.1143944 | Y1409: =0.4*U1409*1.25*O1409/1.5 -> 0.036897007 | Z1409: =0.4*U1409*1.25*P1409/1.5 -> 0.066897547 | AA1409: =0.4*U1409*1.25*Q1409/1.5 -> 0.076089962 | AB1409: =0.4*U1409*1.25*R1409/1.5 -> -0.5875635 | AC1409: =-U1409*U1409*U1409/W1409 -> -9.4191025e-05
A1410: 40752.978 | B1410: 0.97777778 | C1410: 6.3573878 | D1410: 8.2048472 | E1410: 8.5797521 | F1410: 11.060449 | G1410: 5.5395883 | H1410: 6.74101 | I1410: 7.0819628 | J1410: 22.396098 | K1410: =C1410-G1410 -> 0.81779957 | L1410: =D1410-H1410 -> 1.4638372 | M1410: =E1410-I1410 -> 1.4977893 | N1410: =F1410-J1410 -> -11.335649 | O1410: =(K1400+K1401+K1402+K1403+K1404+K1405+K1406+K1407+K1408+K1409)/10 -> 0.63068597 | P1410: =(L1400+L1401+L1402+L1403+L1404+L1405+L1406+L1407+L1408+L1409)/10 -> 1.1424579 | Q1410: =(M1400+M1401+M1402+M1403+M1404+M1405+M1406+M1407+M1408+M1409)/10 -> 1.3299103 | R1410: =(N1400+N1401+N1402+N1403+N1404+N1405+N1406+N1407+N1408+N1409)/10 -> -8.9960531 | S1410: 0.99 | T1410: 0.26 | U1410: 0.17523793 | W1410: 59.045299 | X1410: -8.8189591 | Y1410: =0.4*U1410*1.25*O1410/1.5 -> 0.036840035 | Z1410: =0.4*U1410*1.25*P1410/1.5 -> 0.066733984 | AA1410: =0.4*U1410*1.25*Q1410/1.5 -> 0.077683577 | AB1410: =0.4*U1410*1.25*R1410/1.5 -> -0.52548324 | AC1410: =-U1410*U1410*U1410/W1410 -> -9.11379e-05
A1411: 40752.978 | B1411: 0.97847222 | C1411: 6.3430045 | D1411: 8.1476358 | E1411: 8.5566974 | F1411: 11.906011 | G1411: 5.9138255 | H1411: 7.2246737 | I1411: 7.838266 | J1411: 26.524623 | K1411: =C1411-G1411 -> 0.429179 | L1411: =D1411-H1411 -> 0.92296213 | M1411: =E1411-I1411 -> 0.71843135 | N1411: =F1411-J1411 -> -14.618611 | O1411: =(K1401+K1402+K1403+K1404+K1405+K1406+K1407+K1408+K1409+K1410)/10 -> 0.63212583 | P1411: =(L1401+L1402+L1403+L1404+L1405+L1406+L1407+L1408+L1409+L1410)/10 -> 1.1480845 | Q1411: =(M1401+M1402+M1403+M1404+M1405+M1406+M1407+M1408+M1409+M1410)/10 -> 1.345743 | R1411: =(N1401+N1402+N1403+N1404+N1405+N1406+N1407+N1408+N1409+N1410)/10 -> -9.0276372 | S1411: 0.99 | T1411: 0.26 | U1411: 0.17523793 | W1411: 59.045299 | X1411: -8.8189591 | Y1411: =0.4*U1411*1.25*O1411/1.5 -> 0.036924141 | Z1411: =0.4*U1411*1.25*P1411/1.5 -> 0.067062651 | AA1411: =0.4*U1411*1.25*Q1411/1.5 -> 0.078608408 | AB1411: =0.4*U1411*1.25*R1411/1.5 -> -0.52732815 | AC1411: =-U1411*U1411*U1411/W1411 -> -9.11379e-05
A1412: 40752.979 | B1412: 0.97916667 | C1412: 6.315286 | D1412: 8.1342486 | E1412: 8.4752014 | F1412: 11.067048 | G1412: 5.667775 | H1412: 6.9449446 | I1412: 7.3881628 | J1412: 18.829598 | K1412: =C1412-G1412 -> 0.64751104 | L1412: =D1412-H1412 -> 1.189304 | M1412: =E1412-I1412 -> 1.0870386 | N1412: =F1412-J1412 -> -7.7625497 | O1412: =(K1402+K1403+K1404+K1405+K1406+K1407+K1408+K1409+K1410+K1411)/10 -> 0.62275105 | P1412: =(L1402+L1403+L1404+L1405+L1406+L1407+L1408+L1409+L1410+L1411)/10 -> 1.1347552 | Q1412: =(M1402+M1403+M1404+M1405+M1406+M1407+M1408+M1409+M1410+M1411)/10 -> 1.3017341 | R1412: =(N1402+N1403+N1404+N1405+N1406+N1407+N1408+N1409+N1410+N1411)/10 -> -9.4760149 | S1412: 1 | T1412: 0.26 | U1412: 0.17824592 | W1412: 60.505405 | X1412: -9.0569693 | Y1412: =0.4*U1412*1.25*O1412/1.5 -> 0.037000944 | Z1412: =0.4*U1412*1.25*P1412/1.5 -> 0.067421829 | AA1412: =0.4*U1412*1.25*Q1412/1.5 -> 0.077342932 | AB1412: =0.4*U1412*1.25*R1412/1.5 -> -0.56302033 | AC1412: =-U1412*U1412*U1412/W1412 -> -9.359758e-05
... A1441: 40752.999 | B1441: 0.99930556 | C1441: 6.9133579 | D1441: 9.0409842 | E1441: 9.6545765 | F1441: 11.7797 | G1441: 7.0756149 | H1441: 9.0439765 | I1441: 9.8962562 | J1441: 22.466178 | K1441: =C1441-G1441 -> -0.16225705 | L1441: =D1441-H1441 -> -0.0029923654 | M1441: =E1441-I1441 -> -0.24167978 | N1441: =F1441-J1441 -> -10.686477 | O1441: =(K1431+K1432+K1433+K1434+K1435+K1436+K1437+K1438+K1439+K1440)/10 -> -0.10042207 | P1441: =(L1431+L1432+L1433+L1434+L1435+L1436+L1437+L1438+L1439+L1440)/10 -> 0.14902646 | Q1441: =(M1431+M1432+M1433+M1434+M1435+M1436+M1437+M1438+M1439+M1440)/10 -> 0.050135835 | R1441: =(N1431+N1432+N1433+N1434+N1435+N1436+N1437+N1438+N1439+N1440)/10 -> -8.8688424 | S1441: 1.02 | T1441: 0.21 | U1441: 0.1961258 | W1441: 81.552835 | X1441: -8.9512438 | Y1441: =0.4*U1441*1.25*O1441/1.5 -> -0.0065651197 | Z1441: =0.4*U1441*1.25*P1441/1.5 -> 0.0097426448 | AA1441: =0.4*U1441*1.25*Q1441/1.5 -> 0.0032776436 | AB1441: =0.4*U1441*1.25*R1441/1.5 -> -0.57980294 | AC1441: =-U1441*U1441*U1441/W1441 -> -9.2504982e-05
O1442: =(K1432+K1433+K1434+K1435+K1436+K1437+K1438+K1439+K1440+K1441)/10 -> -0.107703 | P1442: =(L1432+L1433+L1434+L1435+L1436+L1437+L1438+L1439+L1440+L1441)/10 -> 0.12937658 | Q1442: =(M1432+M1433+M1434+M1435+M1436+M1437+M1438+M1439+M1440+M1441)/10 -> -0.0070249875 | R1442: =(N1432+N1433+N1434+N1435+N1436+N1437+N1438+N1439+N1440+N1441)/10 -> -9.1492314

Sheet Лист1
